{"text_format":"1","workbook":"xlsx","n_sheets":6,"sheets":["Composition","Dates-Patterns","Patterns","Special Patterns","Other league dates","Notes"],"not_rendered":{"charts":0,"images":0,"macros":1,"external_links":0,"defined_names":15,"comments":2,"pivot_tables":0},"unopened":[],"bounds":{"document_bytes":16777216,"sheet_cells":100000,"rows_first":2000,"rows_last":500,"rows_between":2000,"halvings":0,"cell_chars":16384,"cell_head_chars":4096},"cells_cut":0,"cells_raw":0,"read":"whole","date_system":"1900"}

{"sheet":"Composition","index":0,"n_rows":43,"n_cols":9,"rows_kept":43,"cut":false,"hidden":false,"merged":[]}
[null,0,1,2,3,4,5,6,7]
["Teams","A"]
[null,"B"]
[null,"C"]
[null,"D"]
[null,"E"]
[null,"F"]
[null,"G"]
[null,"H"]
[null,"I"]
[null,"J"]
[null,"K"]
[null,"L"]
[null,"M"]
[null,"N"]
[null,"O"]
[null,"P"]
[]
[null,0,0,0,0,0,0,0,0]
[null,0,0,0,0,0,0,0,0]
[null,0,0,0,0,0,0,0,0]
[null,0,0,0,0,0,0,0,0]
[null,0,0,0,0,0,0,0,0]
[null,0,0,0,0,0,0,0,0]
[null,0,0,0,0,0,0,0,0]
[null,0,0,0,0,0,0,0,0]
[null,0,0,0,0,0,0,0,0]
[null,0,0,0,0,0,0,0,0]
[null,0,0,0,0,0,0,0,0]
[null,0,0,0,0,0,0,0,0]
[null,0,0,0,0,0,0,0,0]
[null,0,0,0,0,0,0,0,0]
[null,0,0,0,0,0,0,0,0]
[null,0,0,0,0,0,0,0,0]
[]
["Division","Pattern"]
["titles","Division A","A"]
[null,"Division B","B"]
[null,"Division C","C"]
[null,"Division D","D"]
[null,"Division E","E"]
[null,"Division F","F"]
[null,"Division G","G"]

{"sheet":"Dates-Patterns","index":1,"n_rows":34,"n_cols":15,"rows_kept":34,"cut":false,"hidden":false,"merged":[[0,12,0,14],[0,9,0,11],[0,6,0,8],[0,3,0,5],[0,0,0,2]]}
["8 teams",null,null,"10 teams",null,null,"12 teams",null,null,"14 teams",null,null,"16 teams"]
["Pattern:",null,null,"Pattern:",null,null,"Pattern:",null,null,"Pattern:",null,null,"Pattern:"]
[]
[null,null,null,null,null,null,null,null,null,null,null,null,"Week","Date","Offset"]
[null,null,null,null,null,null,null,null,null,null,null,null,1,"1900-01-01",1]
[null,null,null,null,null,null,null,null,null,"Week","Date","Offset?",2,"1900-01-01",1]
[null,null,null,null,null,null,null,null,null,1,"1900-01-01",1,3,"1900-01-01",1]
[null,null,null,null,null,null,"Week","Date","Offset?",2,"1900-01-01",1,4,"1900-01-01",1]
[null,null,null,null,null,null,1,"1900-01-01",1,3,"1900-01-01",1,5,"1900-01-01",1]
[null,null,null,"Week","Date","Offset?",2,"1900-01-01",1,4,"1900-01-01",1,6,"1900-01-01",1]
[null,null,null,1,"1900-01-01",1,3,"1900-01-01",1,5,"1900-01-01",1,7,"1900-01-01",1]
["Week","Date","Offset?",2,"1900-01-01",1,4,"1900-01-01",1,6,"1900-01-01",1,8,"1900-01-01",1]
[1,"1900-01-01",1,3,"1900-01-01",1,5,"1900-01-01",1,7,"1900-01-01",1,9,"1900-01-01",1]
[2,"1900-01-01",1,4,"1900-01-01",1,6,"1900-01-01",1,8,"1900-01-01",1,10,"1900-01-01",1]
[3,"1900-01-01",1,5,"1900-01-01",1,7,"1900-01-01",1,9,"1900-01-01",1,11,"1900-01-01",1]
[4,"1900-01-01",1,6,"1900-01-01",1,8,"1900-01-01",1,10,"1900-01-01",1,12,"1900-01-01",1]
[5,"1900-01-01",1,7,"1900-01-01",1,9,"1900-01-01",1,11,"1900-01-01",1,13,"1900-01-01",1]
[6,"1900-01-01",1,8,"1900-01-01",1,10,"1900-01-01",1,12,"1900-01-01",1,14,"1900-01-01",1]
[7,"1900-01-01",1,9,"1900-01-01",1,11,"1900-01-01",1,13,"1900-01-01",1,15,"1900-01-01",1]
[8,"1900-01-01",1,10,"1900-01-01",1,12,"1900-01-01",1,14,"1900-01-01",1,16,"1900-01-01",1]
[9,"1900-01-01",1,11,"1900-01-01",1,13,"1900-01-01",1,15,"1900-01-01",1,17,"1900-01-01",1]
[10,"1900-01-01",1,12,"1900-01-01",1,14,"1900-01-01",1,16,"1900-01-01",1,18,"1900-01-01",1]
[11,"1900-01-01",1,13,"1900-01-01",1,15,"1900-01-01",1,17,"1900-01-01",1,19,"1900-01-01",1]
[12,"1900-01-01",1,14,"1900-01-01",1,16,"1900-01-01",1,18,"1900-01-01",1,20,"1900-01-01",1]
[13,"1900-01-01",1,15,"1900-01-01",1,17,"1900-01-01",1,19,"1900-01-01",1,21,"1900-01-01",1]
[14,"1900-01-01",1,16,"1900-01-01",1,18,"1900-01-01",1,20,"1900-01-01",1,22,"1900-01-01",1]
[null,null,null,17,"1900-01-01",1,19,"1900-01-01",1,21,"1900-01-01",1,23,"1900-01-01",1]
[null,null,null,18,"1900-01-01",1,20,"1900-01-01",1,22,"1900-01-01",1,24,"1900-01-01",1]
[null,null,null,null,null,null,21,"1900-01-01",1,23,"1900-01-01",1,25,"1900-01-01",1]
[null,null,null,null,null,null,22,"1900-01-01",1,24,"1900-01-01",1,26,"1900-01-01",1]
[null,null,null,null,null,null,null,null,null,25,"1900-01-01",1,27,"1900-01-01",1]
[null,null,null,null,null,null,null,null,null,26,"1900-01-01",1,28,"1900-01-01",1]
[null,null,null,null,null,null,null,null,null,null,null,null,29,"1900-01-01",1]
[null,null,null,null,null,null,null,null,null,null,null,null,30,"1900-01-01",1]

{"sheet":"Patterns","index":2,"n_rows":1432,"n_cols":40,"rows_kept":1432,"cut":false,"hidden":false,"merged":[]}
["08aaaa"]
[]
["AD","BC","AG","BA","AE","BD","BG","DA","CB","GA","AB","EA","DB","GB"]
["CG","DH","CE","DC","DG","CA","DE","GC","HD","EC","CD","GD","AC","ED"]
["EB","FA","FD","EF","FB","EH","FC","BE","AF","DF","FE","BF","HE","CF"]
["HF","GE","HB","GH","HC","GF","HA","FH","EG","BH","HG","CH","FG","AH"]
[1,2,3,4,5,6,7,8,9,10,11,12,13,14]
["RFx",null,null,null,null,null,null,1,2,3,4,5,6,7]
["  o","  x","  o","  x","  o","  x--","--x--","--x","  o","  x","  o","  x","  o--","--o","A",null,{"$f":"ClashCount('Other league dates'!G$10:G$23,$A9:$N9)","v":""},{"$f":"ClashCount('Other league dates'!H$10:H$23,$A9:$N9)","v":""},{"$f":"ClashCount('Other league dates'!I$10:I$23,$A9:$N9)","v":""}]
["  x","  o","  x","  o","  x","  o--","--o--","--o","  x","  o","  x","  o","  x--","--x","B",null,{"$f":"ClashCount('Other league dates'!G$10:G$23,$A10:$N10)","v":""},{"$f":"ClashCount('Other league dates'!H$10:H$23,$A10:$N10)","v":""},{"$f":"ClashCount('Other league dates'!I$10:I$23,$A10:$N10)","v":""}]
["  o","  x","  o","  x--","--x","  o","  x--","--x","  o","  x","  o--","--o","  x","  o","C",null,{"$f":"ClashCount('Other league dates'!G$10:G$23,$A11:$N11)","v":""},{"$f":"ClashCount('Other league dates'!H$10:H$23,$A11:$N11)","v":""},{"$f":"ClashCount('Other league dates'!I$10:I$23,$A11:$N11)","v":""}]
["  x","  o","  x","  o--","--o","  x","  o--","--o","  x","  o","  x--","--x","  o","  x","D",null,{"$f":"ClashCount('Other league dates'!G$10:G$23,$A12:$N12)","v":""},{"$f":"ClashCount('Other league dates'!H$10:H$23,$A12:$N12)","v":""},{"$f":"ClashCount('Other league dates'!I$10:I$23,$A12:$N12)","v":""}]
["  o","  x--","--x","  o","  x","  o","  x--","--x","  o--","--o","  x","  o","  x","  o","E",null,{"$f":"ClashCount('Other league dates'!G$10:G$23,$A13:$N13)","v":""},{"$f":"ClashCount('Other league dates'!H$10:H$23,$A13:$N13)","v":""},{"$f":"ClashCount('Other league dates'!I$10:I$23,$A13:$N13)","v":""}]
["  x","  o--","--o","  x","  o","  x","  o--","--o","  x--","--x","  o","  x","  o","  x","F",null,{"$f":"ClashCount('Other league dates'!G$10:G$23,$A14:$N14)","v":""},{"$f":"ClashCount('Other league dates'!H$10:H$23,$A14:$N14)","v":""},{"$f":"ClashCount('Other league dates'!I$10:I$23,$A14:$N14)","v":""}]
["  x","  o","  x","  o","  x","  o","  x","  o","  x","  o","  x","  o","  x","  o","G",null,{"$f":"ClashCount('Other league dates'!G$10:G$23,$A15:$N15)","v":""},{"$f":"ClashCount('Other league dates'!H$10:H$23,$A15:$N15)","v":""},{"$f":"ClashCount('Other league dates'!I$10:I$23,$A15:$N15)","v":""}]
["  o","  x","  o","  x","  o","  x","  o","  x","  o","  x","  o","  x","  o","  x","H",null,{"$f":"ClashCount('Other league dates'!G$10:G$23,$A16:$N16)","v":""},{"$f":"ClashCount('Other league dates'!H$10:H$23,$A16:$N16)","v":""},{"$f":"ClashCount('Other league dates'!I$10:I$23,$A16:$N16)","v":""}]
[]
["Fit:","10acaa",null,null,null,null,null,null,null,null,null,null,null,null,null,null,null,null,null,null,null,null,null,null,null,null,null,null,"","","","","","","","","","","",""]
[]
["08agaa"]
[]
["AD","BC","AG","BA","AE","BD","BG","GB","DA","CB","GA","AB","EA","DB"]
["CG","DH","CE","DC","DG","CA","DE","ED","GC","HD","EC","CD","GD","AC"]
["EB","FA","FD","EF","FB","EH","FC","CF","BE","AF","DF","FE","BF","HE"]
["HF","GE","HB","GH","HC","GF","HA","AH","FH","EG","BH","HG","CH","FG"]
[1,2,3,4,5,6,7,8,9,10,11,12,13,14]
["RFx",null,null,null,null,null,null,7,1,2,3,4,5,6]
["  o","  x","  o","  x","  o","  x--","--x","  o","  x","  o","  x","  o","  x","  o","A",null,{"$f":"ClashCount('Other league dates'!G$10:G$23,$A28:$N28)","v":""},{"$f":"ClashCount('Other league dates'!H$10:H$23,$A28:$N28)","v":""},{"$f":"ClashCount('Other league dates'!I$10:I$23,$A28:$N28)","v":""}]
["  x","  o","  x","  o","  x","  o--","--o","  x","  o","  x","  o","  x","  o","  x","B",null,{"$f":"ClashCount('Other league dates'!G$10:G$23,$A29:$N29)","v":""},{"$f":"ClashCount('Other league dates'!H$10:H$23,$A29:$N29)","v":""},{"$f":"ClashCount('Other league dates'!I$10:I$23,$A29:$N29)","v":""}]
["  o","  x","  o","  x--","--x","  o","  x","  o","  x","  o","  x","  o--","--o","  x","C",null,{"$f":"ClashCount('Other league dates'!G$10:G$23,$A30:$N30)","v":""},{"$f":"ClashCount('Other league dates'!H$10:H$23,$A30:$N30)","v":""},{"$f":"ClashCount('Other league dates'!I$10:I$23,$A30:$N30)","v":""}]
["  x","  o","  x","  o--","--o","  x","  o","  x","  o","  x","  o","  x--","--x","  o","D",null,{"$f":"ClashCount('Other league dates'!G$10:G$23,$A31:$N31)","v":""},{"$f":"ClashCount('Other league dates'!H$10:H$23,$A31:$N31)","v":""},{"$f":"ClashCount('Other league dates'!I$10:I$23,$A31:$N31)","v":""}]
["  o","  x--","--x","  o","  x","  o","  x","  o","  x","  o--","--o","  x","  o","  x","E",null,{"$f":"ClashCount('Other league dates'!G$10:G$23,$A32:$N32)","v":""},{"$f":"ClashCount('Other league dates'!H$10:H$23,$A32:$N32)","v":""},{"$f":"ClashCount('Other league dates'!I$10:I$23,$A32:$N32)","v":""}]
["  x","  o--","--o","  x","  o","  x","  o","  x","  o","  x--","--x","  o","  x","  o","F",null,{"$f":"ClashCount('Other league dates'!G$10:G$23,$A33:$N33)","v":""},{"$f":"ClashCount('Other league dates'!H$10:H$23,$A33:$N33)","v":""},{"$f":"ClashCount('Other league dates'!I$10:I$23,$A33:$N33)","v":""}]
["  x","  o","  x","  o","  x","  o","  x","  o--","--o","  x","  o","  x","  o","  x","G",null,{"$f":"ClashCount('Other league dates'!G$10:G$23,$A34:$N34)","v":""},{"$f":"ClashCount('Other league dates'!H$10:H$23,$A34:$N34)","v":""},{"$f":"ClashCount('Other league dates'!I$10:I$23,$A34:$N34)","v":""}]
["  o","  x","  o","  x","  o","  x","  o","  x--","--x","  o","  x","  o","  x","  o","H",null,{"$f":"ClashCount('Other league dates'!G$10:G$23,$A35:$N35)","v":""},{"$f":"ClashCount('Other league dates'!H$10:H$23,$A35:$N35)","v":""},{"$f":"ClashCount('Other league dates'!I$10:I$23,$A35:$N35)","v":""}]
[]
["Fit:","08agab",null,"10aiba",null,"10bbaa",null,"12akca",null,"14amda"]
[]
["08agab",null,null,"ERK addition, based on 08agaa"]
[]
["AD","BC","AB","BA","AE","BD","BG","GB","DA","CB","GA","AG","EA","DB"]
["CG","DH","CD","DC","DG","CA","DE","ED","GC","HD","EC","CE","GD","AC"]
["EB","FA","FE","EF","FB","EH","FC","CF","BE","AF","DF","FD","BF","HE"]
["HF","GE","HG","GH","HC","GF","HA","AH","FH","EG","BH","HB","CH","FG"]
[1,2,3,4,5,6,7,8,9,10,11,12,13,14]
["RFx",null,4,3,null,null,null,7,1,2,12,11,5,6]
["  o","  x","  o","  x","  o","  x--","--x","  o","  x","  o","  x","  o","  x","  o","A",null,{"$f":"ClashCount('Other league dates'!G$10:G$23,$A47:$N47)","v":""},{"$f":"ClashCount('Other league dates'!H$10:H$23,$A47:$N47)","v":""},{"$f":"ClashCount('Other league dates'!I$10:I$23,$A47:$N47)","v":""}]
["  x","  o","  x","  o","  x","  o--","--o","  x","  o","  x","  o","  x","  o","  x","B",null,{"$f":"ClashCount('Other league dates'!G$10:G$23,$A48:$N48)","v":""},{"$f":"ClashCount('Other league dates'!H$10:H$23,$A48:$N48)","v":""},{"$f":"ClashCount('Other league dates'!I$10:I$23,$A48:$N48)","v":""}]
["  o","  x","  o","  x--","--x","  o","  x","  o","  x","  o","  x","  o--","--o","  x","C",null,{"$f":"ClashCount('Other league dates'!G$10:G$23,$A49:$N49)","v":""},{"$f":"ClashCount('Other league dates'!H$10:H$23,$A49:$N49)","v":""},{"$f":"ClashCount('Other league dates'!I$10:I$23,$A49:$N49)","v":""}]
["  x","  o","  x","  o--","--o","  x","  o","  x","  o","  x","  o","  x--","--x","  o","D",null,{"$f":"ClashCount('Other league dates'!G$10:G$23,$A50:$N50)","v":""},{"$f":"ClashCount('Other league dates'!H$10:H$23,$A50:$N50)","v":""},{"$f":"ClashCount('Other league dates'!I$10:I$23,$A50:$N50)","v":""}]
["  o","  x--","--x","  o","  x","  o","  x","  o","  x","  o--","--o","  x","  o","  x","E",null,{"$f":"ClashCount('Other league dates'!G$10:G$23,$A51:$N51)","v":""},{"$f":"ClashCount('Other league dates'!H$10:H$23,$A51:$N51)","v":""},{"$f":"ClashCount('Other league dates'!I$10:I$23,$A51:$N51)","v":""}]
["  x","  o--","--o","  x","  o","  x","  o","  x","  o","  x--","--x","  o","  x","  o","F",null,{"$f":"ClashCount('Other league dates'!G$10:G$23,$A52:$N52)","v":""},{"$f":"ClashCount('Other league dates'!H$10:H$23,$A52:$N52)","v":""},{"$f":"ClashCount('Other league dates'!I$10:I$23,$A52:$N52)","v":""}]
["  x","  o","  x","  o","  x","  o","  x","  o--","--o","  x","  o","  x","  o","  x","G",null,{"$f":"ClashCount('Other league dates'!G$10:G$23,$A53:$N53)","v":""},{"$f":"ClashCount('Other league dates'!H$10:H$23,$A53:$N53)","v":""},{"$f":"ClashCount('Other league dates'!I$10:I$23,$A53:$N53)","v":""}]
["  o","  x","  o","  x","  o","  x","  o","  x--","--x","  o","  x","  o","  x","  o","H",null,{"$f":"ClashCount('Other league dates'!G$10:G$23,$A54:$N54)","v":""},{"$f":"ClashCount('Other league dates'!H$10:H$23,$A54:$N54)","v":""},{"$f":"ClashCount('Other league dates'!I$10:I$23,$A54:$N54)","v":""}]
[]
["Fit:","08agaa",null,"10aiba",null,"10bbaa",null,"12akca",null,"14amda"]
[]
["08ataa"]
[]
["AD","BC","AG","BA","AE","BD","BG","GB","DB","EA","AB","GA","CB","DA"]
["CG","DH","CE","DC","DG","CA","DE","ED","AC","GD","CD","EC","HD","GC"]
["EB","FA","FD","EF","FB","EH","FC","CF","HE","BF","FE","DF","AF","BE"]
["HF","GE","HB","GH","HC","GF","HA","AH","FG","CH","HG","BH","EG","FH"]
[1,2,3,4,5,6,7,8,9,10,11,12,13,14]
["RFx",null,null,null,null,null,null,null,6,null,4,null,2]
["  o","  x","  o","  x","  o","  x--","--x","  o--","--o","  x","  o","  x","  o","  x","A",null,{"$f":"ClashCount('Other league dates'!G$10:G$23,$A66:$N66)","v":""},{"$f":"ClashCount('Other league dates'!H$10:H$23,$A66:$N66)","v":""},{"$f":"ClashCount('Other league dates'!I$10:I$23,$A66:$N66)","v":""}]
["  x","  o","  x","  o","  x","  o--","--o","  x--","--x","  o","  x","  o","  x","  o","B",null,{"$f":"ClashCount('Other league dates'!G$10:G$23,$A67:$N67)","v":""},{"$f":"ClashCount('Other league dates'!H$10:H$23,$A67:$N67)","v":""},{"$f":"ClashCount('Other league dates'!I$10:I$23,$A67:$N67)","v":""}]
["  o","  x","  o","  x--","--x","  o","  x","  o","  x","  o--","--o","  x","  o","  x","C",null,{"$f":"ClashCount('Other league dates'!G$10:G$23,$A68:$N68)","v":""},{"$f":"ClashCount('Other league dates'!H$10:H$23,$A68:$N68)","v":""},{"$f":"ClashCount('Other league dates'!I$10:I$23,$A68:$N68)","v":""}]
["  x","  o","  x","  o--","--o","  x","  o","  x","  o","  x--","--x","  o","  x","  o","D",null,{"$f":"ClashCount('Other league dates'!G$10:G$23,$A69:$N69)","v":""},{"$f":"ClashCount('Other league dates'!H$10:H$23,$A69:$N69)","v":""},{"$f":"ClashCount('Other league dates'!I$10:I$23,$A69:$N69)","v":""}]
["  o","  x--","--x","  o","  x","  o","  x","  o","  x","  o","  x","  o--","--o","  x","E",null,{"$f":"ClashCount('Other league dates'!G$10:G$23,$A70:$N70)","v":""},{"$f":"ClashCount('Other league dates'!H$10:H$23,$A70:$N70)","v":""},{"$f":"ClashCount('Other league dates'!I$10:I$23,$A70:$N70)","v":""}]
["  x","  o--","--o","  x","  o","  x","  o","  x","  o","  x","  o","  x--","--x","  o","F",null,{"$f":"ClashCount('Other league dates'!G$10:G$23,$A71:$N71)","v":""},{"$f":"ClashCount('Other league dates'!H$10:H$23,$A71:$N71)","v":""},{"$f":"ClashCount('Other league dates'!I$10:I$23,$A71:$N71)","v":""}]
["  x","  o","  x","  o","  x","  o","  x","  o","  x","  o","  x","  o","  x","  o","G",null,{"$f":"ClashCount('Other league dates'!G$10:G$23,$A72:$N72)","v":""},{"$f":"ClashCount('Other league dates'!H$10:H$23,$A72:$N72)","v":""},{"$f":"ClashCount('Other league dates'!I$10:I$23,$A72:$N72)","v":""}]
["  o","  x","  o","  x","  o","  x","  o","  x","  o","  x","  o","  x","  o","  x","H",null,{"$f":"ClashCount('Other league dates'!G$10:G$23,$A73:$N73)","v":""},{"$f":"ClashCount('Other league dates'!H$10:H$23,$A73:$N73)","v":""},{"$f":"ClashCount('Other league dates'!I$10:I$23,$A73:$N73)","v":""}]
[]
["Fit:","08ataax",null,"10araa",null,"12apaa",null,"14anaa"]
[]
["08ataax",null,null,"ERK variant",null,null,null,"Weeks 3 and 11 swopped to play off same-club matches"]
[]
["AD","BC","AB","BA","AE","BD","BG","GB","DB","EA","AG","GA","CB","DA"]
["CG","DH","CD","DC","DG","CA","DE","ED","AC","GD","CE","EC","HD","GC"]
["EB","FA","FE","EF","FB","EH","FC","CF","HE","BF","FD","DF","AF","BE"]
["HF","GE","HG","GH","HC","GF","HA","AH","FG","CH","HB","BH","EG","FH"]
[1,2,3,4,5,6,7,8,9,10,11,12,13,14]
["RFx",null,null,3,null,null,null,7,6,5,null,11,2,1]
["  o","  x","  o","  x","  o","  x--","--x","  o--","--o","  x","  o","  x","  o","  x","A",null,{"$f":"ClashCount('Other league dates'!G$10:G$23,$A85:$N85)","v":""},{"$f":"ClashCount('Other league dates'!H$10:H$23,$A85:$N85)","v":""},{"$f":"ClashCount('Other league dates'!I$10:I$23,$A85:$N85)","v":""}]
["  x","  o","  x","  o","  x","  o--","--o","  x--","--x","  o","  x","  o","  x","  o","B",null,{"$f":"ClashCount('Other league dates'!G$10:G$23,$A86:$N86)","v":""},{"$f":"ClashCount('Other league dates'!H$10:H$23,$A86:$N86)","v":""},{"$f":"ClashCount('Other league dates'!I$10:I$23,$A86:$N86)","v":""}]
["  o","  x","  o","  x--","--x","  o","  x","  o","  x","  o--","--o","  x","  o","  x","C",null,{"$f":"ClashCount('Other league dates'!G$10:G$23,$A87:$N87)","v":""},{"$f":"ClashCount('Other league dates'!H$10:H$23,$A87:$N87)","v":""},{"$f":"ClashCount('Other league dates'!I$10:I$23,$A87:$N87)","v":""}]
["  x","  o","  x","  o--","--o","  x","  o","  x","  o","  x--","--x","  o","  x","  o","D",null,{"$f":"ClashCount('Other league dates'!G$10:G$23,$A88:$N88)","v":""},{"$f":"ClashCount('Other league dates'!H$10:H$23,$A88:$N88)","v":""},{"$f":"ClashCount('Other league dates'!I$10:I$23,$A88:$N88)","v":""}]
["  o","  x--","--x","  o","  x","  o","  x","  o","  x","  o","  x","  o--","--o","  x","E",null,{"$f":"ClashCount('Other league dates'!G$10:G$23,$A89:$N89)","v":""},{"$f":"ClashCount('Other league dates'!H$10:H$23,$A89:$N89)","v":""},{"$f":"ClashCount('Other league dates'!I$10:I$23,$A89:$N89)","v":""}]
["  x","  o--","--o","  x","  o","  x","  o","  x","  o","  x","  o","  x--","--x","  o","F",null,{"$f":"ClashCount('Other league dates'!G$10:G$23,$A90:$N90)","v":""},{"$f":"ClashCount('Other league dates'!H$10:H$23,$A90:$N90)","v":""},{"$f":"ClashCount('Other league dates'!I$10:I$23,$A90:$N90)","v":""}]
["  x","  o","  x","  o","  x","  o","  x","  o","  x","  o","  x","  o","  x","  o","G",null,{"$f":"ClashCount('Other league dates'!G$10:G$23,$A91:$N91)","v":""},{"$f":"ClashCount('Other league dates'!H$10:H$23,$A91:$N91)","v":""},{"$f":"ClashCount('Other league dates'!I$10:I$23,$A91:$N91)","v":""}]
["  o","  x","  o","  x","  o","  x","  o","  x","  o","  x","  o","  x","  o","  x","H",null,{"$f":"ClashCount('Other league dates'!G$10:G$23,$A92:$N92)","v":""},{"$f":"ClashCount('Other league dates'!H$10:H$23,$A92:$N92)","v":""},{"$f":"ClashCount('Other league dates'!I$10:I$23,$A92:$N92)","v":""}]
[]
["Fit:","08ataa",null,"10araa",null,"12apaa",null,"14anaa"]
[]
["08primx"]
[]
["AH","GH","AD","EH","AG","CH","AC","AF","GE","AB","EC","AE","CA","BG"]
["CF","BE","CB","GC","CE","EA","DG","CD","BC","CG","GA","DB","EF","DE"]
["ED","DC","EG","BA","FB","GF","FE","EB","DA","FD","BF","FG","GD","FC"]
["GB","FA","HF","DF","HD","BD","HB","HG","FH","HE","DH","HC","BH","HA"]
[1,2,3,4,5,6,7,8,9,10,11,12,13,14]
["RFx",null,null,null,null,null,null,2,3,4,5,6,7,1]
["  o","  x","  o","  x","  o","  x","  o--","--o","  x","  o","  x","  o","  x--","--x","A",null,{"$f":"ClashCount('Other league dates'!G$10:G$23,$A104:$N104)","v":""},{"$f":"ClashCount('Other league dates'!H$10:H$23,$A104:$N104)","v":""},{"$f":"ClashCount('Other league dates'!I$10:I$23,$A104:$N104)","v":""}]
["  x","  o","  x","  o","  x","  o","  x--","--x","  o","  x","  o","  x","  o--","--o","B",null,{"$f":"ClashCount('Other league dates'!G$10:G$23,$A105:$N105)","v":""},{"$f":"ClashCount('Other league dates'!H$10:H$23,$A105:$N105)","v":""},{"$f":"ClashCount('Other league dates'!I$10:I$23,$A105:$N105)","v":""}]
["  o","  x","  o","  x","  o--","--o","  x","  o","  x","  o","  x--","--x","  o","  x","C",null,{"$f":"ClashCount('Other league dates'!G$10:G$23,$A106:$N106)","v":""},{"$f":"ClashCount('Other league dates'!H$10:H$23,$A106:$N106)","v":""},{"$f":"ClashCount('Other league dates'!I$10:I$23,$A106:$N106)","v":""}]
["  x","  o","  x","  o","  x--","--x","  o","  x","  o","  x","  o--","--o","  x","  o","D",null,{"$f":"ClashCount('Other league dates'!G$10:G$23,$A107:$N107)","v":""},{"$f":"ClashCount('Other league dates'!H$10:H$23,$A107:$N107)","v":""},{"$f":"ClashCount('Other league dates'!I$10:I$23,$A107:$N107)","v":""}]
["  o","  x","  o--","--o","  x","  o","  x","  o","  x--","--x","  o","  x","  o","  x","E",null,{"$f":"ClashCount('Other league dates'!G$10:G$23,$A108:$N108)","v":""},{"$f":"ClashCount('Other league dates'!H$10:H$23,$A108:$N108)","v":""},{"$f":"ClashCount('Other league dates'!I$10:I$23,$A108:$N108)","v":""}]
["  x","  o","  x--","--x","  o","  x","  o","  x","  o--","--o","  x","  o","  x","  o","F",null,{"$f":"ClashCount('Other league dates'!G$10:G$23,$A109:$N109)","v":""},{"$f":"ClashCount('Other league dates'!H$10:H$23,$A109:$N109)","v":""},{"$f":"ClashCount('Other league dates'!I$10:I$23,$A109:$N109)","v":""}]
["  o--","--o","  x","  o","  x","  o","  x--","--x","  o","  x","  o","  x","  o","  x","G",null,{"$f":"ClashCount('Other league dates'!G$10:G$23,$A110:$N110)","v":""},{"$f":"ClashCount('Other league dates'!H$10:H$23,$A110:$N110)","v":""},{"$f":"ClashCount('Other league dates'!I$10:I$23,$A110:$N110)","v":""}]
["  x--","--x","  o","  x","  o","  x","  o--","--o","  x","  o","  x","  o","  x","  o","H",null,{"$f":"ClashCount('Other league dates'!G$10:G$23,$A111:$N111)","v":""},{"$f":"ClashCount('Other league dates'!H$10:H$23,$A111:$N111)","v":""},{"$f":"ClashCount('Other league dates'!I$10:I$23,$A111:$N111)","v":""}]
[]
[]
[]
["08rraa"]
[]
["AD","DA","CB","BC","AG","GA","AB","BA","AE","EA","DB","BD","BG","GB"]
["CG","GC","HD","DH","CE","EC","CD","DC","DG","GD","AC","CA","DE","ED"]
["EB","BE","AF","FA","FD","DF","FE","EF","FB","BF","HE","EH","FC","CF"]
["HF","FH","EG","GE","HB","BH","HG","GH","HC","CH","FG","GF","HA","AH"]
[1,2,3,4,5,6,7,8,9,10,11,12,13,14]
["RFx",1,null,3,null,5,null,7,null,9,null,11,null,13]
["  o","  x","  o","  x","  o","  x","  o","  x","  o","  x","  o","  x--","--x","  o","A",null,{"$f":"ClashCount('Other league dates'!G$10:G$23,$A123:$N123)","v":""},{"$f":"ClashCount('Other league dates'!H$10:H$23,$A123:$N123)","v":""},{"$f":"ClashCount('Other league dates'!I$10:I$23,$A123:$N123)","v":""}]
["  x","  o","  x","  o","  x","  o","  x","  o","  x","  o","  x","  o--","--o","  x","B",null,{"$f":"ClashCount('Other league dates'!G$10:G$23,$A124:$N124)","v":""},{"$f":"ClashCount('Other league dates'!H$10:H$23,$A124:$N124)","v":""},{"$f":"ClashCount('Other league dates'!I$10:I$23,$A124:$N124)","v":""}]
["  o","  x","  o","  x","  o","  x","  o","  x--","--x","  o","  x","  o","  x","  o","C",null,{"$f":"ClashCount('Other league dates'!G$10:G$23,$A125:$N125)","v":""},{"$f":"ClashCount('Other league dates'!H$10:H$23,$A125:$N125)","v":""},{"$f":"ClashCount('Other league dates'!I$10:I$23,$A125:$N125)","v":""}]
["  x","  o","  x","  o","  x","  o","  x","  o--","--o","  x","  o","  x","  o","  x","D",null,{"$f":"ClashCount('Other league dates'!G$10:G$23,$A126:$N126)","v":""},{"$f":"ClashCount('Other league dates'!H$10:H$23,$A126:$N126)","v":""},{"$f":"ClashCount('Other league dates'!I$10:I$23,$A126:$N126)","v":""}]
["  o","  x","  o","  x--","--x","  o","  x","  o","  x","  o","  x","  o","  x","  o","E",null,{"$f":"ClashCount('Other league dates'!G$10:G$23,$A127:$N127)","v":""},{"$f":"ClashCount('Other league dates'!H$10:H$23,$A127:$N127)","v":""},{"$f":"ClashCount('Other league dates'!I$10:I$23,$A127:$N127)","v":""}]
["  x","  o","  x","  o--","--o","  x","  o","  x","  o","  x","  o","  x","  o","  x","F",null,{"$f":"ClashCount('Other league dates'!G$10:G$23,$A128:$N128)","v":""},{"$f":"ClashCount('Other league dates'!H$10:H$23,$A128:$N128)","v":""},{"$f":"ClashCount('Other league dates'!I$10:I$23,$A128:$N128)","v":""}]
["  x","  o","  x","  o","  x","  o","  x","  o","  x","  o","  x","  o","  x","  o","G",null,{"$f":"ClashCount('Other league dates'!G$10:G$23,$A129:$N129)","v":""},{"$f":"ClashCount('Other league dates'!H$10:H$23,$A129:$N129)","v":""},{"$f":"ClashCount('Other league dates'!I$10:I$23,$A129:$N129)","v":""}]
["  o","  x","  o","  x","  o","  x","  o","  x","  o","  x","  o","  x","  o","  x","H",null,{"$f":"ClashCount('Other league dates'!G$10:G$23,$A130:$N130)","v":""},{"$f":"ClashCount('Other league dates'!H$10:H$23,$A130:$N130)","v":""},{"$f":"ClashCount('Other league dates'!I$10:I$23,$A130:$N130)","v":""}]
[]
["Fit:","10rrba"]
[]
["08WNC",null,null,null,null,"Devised by Kevin Fisher to fit with other WNC patterns"]
[]
["AH","DA","AB","BH","AE","BD","AC","BG","AF","BE","AD","BA","AG","BF"]
["CF","BC","CD","DF","CG","CA","DB","DE","CH","DG","CB","DC","CE","DH"]
["ED","FE","EG","EC","FB","EH","FG","FC","EB","FA","EF","FH","FD","EA"]
["GB","GH","HF","GA","HD","GF","HE","HA","GD","HC","HG","GE","HB","GC"]
[1,2,3,4,5,6,7,8,9,10,11,12,13,14]
["RFx",null,null,null,null,null,6,1,null,9,2,3,4,5]
["  o","  x","  o","  x","  o","  x","  o","  x","  o","  x","  o","  x","  o","  x","A",null,{"$f":"ClashCount('Other league dates'!G$10:G$23,$A142:$N142)","v":""},{"$f":"ClashCount('Other league dates'!H$10:H$23,$A142:$N142)","v":""},{"$f":"ClashCount('Other league dates'!I$10:I$23,$A142:$N142)","v":""}]
["  x","  o","  x","  o","  x","  o","  x","  o","  x","  o","  x","  o","  x","  o","B",null,{"$f":"ClashCount('Other league dates'!G$10:G$23,$A143:$N143)","v":""},{"$f":"ClashCount('Other league dates'!H$10:H$23,$A143:$N143)","v":""},{"$f":"ClashCount('Other league dates'!I$10:I$23,$A143:$N143)","v":""}]
["  o","  x","  o","  x","  o--","--o","  x--","--x","  o","  x","  o","  x","  o","  x","C",null,{"$f":"ClashCount('Other league dates'!G$10:G$23,$A144:$N144)","v":""},{"$f":"ClashCount('Other league dates'!H$10:H$23,$A144:$N144)","v":""},{"$f":"ClashCount('Other league dates'!I$10:I$23,$A144:$N144)","v":""}]
["  x","  o","  x","  o","  x--","--x","  o--","--o","  x","  o","  x","  o","  x","  o","D",null,{"$f":"ClashCount('Other league dates'!G$10:G$23,$A145:$N145)","v":""},{"$f":"ClashCount('Other league dates'!H$10:H$23,$A145:$N145)","v":""},{"$f":"ClashCount('Other league dates'!I$10:I$23,$A145:$N145)","v":""}]
["  o","  x","  o--","--o","  x","  o","  x--","--x","  o","  x","  o","  x--","--x","  o","E",null,{"$f":"ClashCount('Other league dates'!G$10:G$23,$A146:$N146)","v":""},{"$f":"ClashCount('Other league dates'!H$10:H$23,$A146:$N146)","v":""},{"$f":"ClashCount('Other league dates'!I$10:I$23,$A146:$N146)","v":""}]
["  x","  o","  x--","--x","  o","  x","  o--","--o","  x","  o","  x","  o--","--o","  x","F",null,{"$f":"ClashCount('Other league dates'!G$10:G$23,$A147:$N147)","v":""},{"$f":"ClashCount('Other league dates'!H$10:H$23,$A147:$N147)","v":""},{"$f":"ClashCount('Other league dates'!I$10:I$23,$A147:$N147)","v":""}]
["  o--","--o","  x","  o","  x","  o","  x--","--x","  o","  x--","--x","  o","  x","  o","G",null,{"$f":"ClashCount('Other league dates'!G$10:G$23,$A148:$N148)","v":""},{"$f":"ClashCount('Other league dates'!H$10:H$23,$A148:$N148)","v":""},{"$f":"ClashCount('Other league dates'!I$10:I$23,$A148:$N148)","v":""}]
["  x--","--x","  o","  x","  o","  x","  o--","--o","  x","  o--","--o","  x","  o","  x","H",null,{"$f":"ClashCount('Other league dates'!G$10:G$23,$A149:$N149)","v":""},{"$f":"ClashCount('Other league dates'!H$10:H$23,$A149:$N149)","v":""},{"$f":"ClashCount('Other league dates'!I$10:I$23,$A149:$N149)","v":""}]
[]
["Fit:","10WNC",null,"12WNC"]
[]
["08Berger",null,null,null,null,"Berger patterns devised by Johann Berger and described by Barry Chess Club (http://www.barrychessclub.ndo.co.uk/berger2001.htm)"]
[]
["GB","BH","EB","BF","CB","BD","AB","BA","DB","BC","FB","BE","HB","BG"]
["ED","FA","CG","DH","AE","GF","HC","CH","FG","EA","HD","GC","AF","DE"]
["CF","DC","AD","GA","HG","EH","FE","EF","HE","GH","AG","DA","CD","FC"]
["AH","GE","HF","EC","FD","CA","DG","GD","AC","DF","CE","FH","EG","HA"]
[1,2,3,4,5,6,7,8,9,10,11,12,13,14]
["RFx",null,null,null,null,null,null,7,6,5,4,3,2,1]
["  o","  x","  o","  x","  o","  x","  o","  x","  o","  x","  o","  x","  o","  x","A",null,{"$f":"ClashCount('Other league dates'!G$10:G$23,$A161:$N161)","v":""},{"$f":"ClashCount('Other league dates'!H$10:H$23,$A161:$N161)","v":""},{"$f":"ClashCount('Other league dates'!I$10:I$23,$A161:$N161)","v":""}]
["  x","  o","  x","  o","  x","  o","  x","  o","  x","  o","  x","  o","  x","  o","B",null,{"$f":"ClashCount('Other league dates'!G$10:G$23,$A162:$N162)","v":""},{"$f":"ClashCount('Other league dates'!H$10:H$23,$A162:$N162)","v":""},{"$f":"ClashCount('Other league dates'!I$10:I$23,$A162:$N162)","v":""}]
["  o","  x","  o","  x","  o--","--o","  x","  o","  x--","--x","  o","  x","  o","  x","C",null,{"$f":"ClashCount('Other league dates'!G$10:G$23,$A163:$N163)","v":""},{"$f":"ClashCount('Other league dates'!H$10:H$23,$A163:$N163)","v":""},{"$f":"ClashCount('Other league dates'!I$10:I$23,$A163:$N163)","v":""}]
["  x","  o","  x","  o","  x--","--x","  o","  x","  o--","--o","  x","  o","  x","  o","D",null,{"$f":"ClashCount('Other league dates'!G$10:G$23,$A164:$N164)","v":""},{"$f":"ClashCount('Other league dates'!H$10:H$23,$A164:$N164)","v":""},{"$f":"ClashCount('Other league dates'!I$10:I$23,$A164:$N164)","v":""}]
["  o","  x","  o--","--o","  x","  o","  x","  o","  x","  o","  x--","--x","  o","  x","E",null,{"$f":"ClashCount('Other league dates'!G$10:G$23,$A165:$N165)","v":""},{"$f":"ClashCount('Other league dates'!H$10:H$23,$A165:$N165)","v":""},{"$f":"ClashCount('Other league dates'!I$10:I$23,$A165:$N165)","v":""}]
["  x","  o","  x--","--x","  o","  x","  o","  x","  o","  x","  o--","--o","  x","  o","F",null,{"$f":"ClashCount('Other league dates'!G$10:G$23,$A166:$N166)","v":""},{"$f":"ClashCount('Other league dates'!H$10:H$23,$A166:$N166)","v":""},{"$f":"ClashCount('Other league dates'!I$10:I$23,$A166:$N166)","v":""}]
["  o--","--o","  x","  o","  x","  o","  x","  o","  x","  o","  x","  o","  x--","--x","G",null,{"$f":"ClashCount('Other league dates'!G$10:G$23,$A167:$N167)","v":""},{"$f":"ClashCount('Other league dates'!H$10:H$23,$A167:$N167)","v":""},{"$f":"ClashCount('Other league dates'!I$10:I$23,$A167:$N167)","v":""}]
["  x--","--x","  o","  x","  o","  x","  o","  x","  o","  x","  o","  x","  o--","--o","H",null,{"$f":"ClashCount('Other league dates'!G$10:G$23,$A168:$N168)","v":""},{"$f":"ClashCount('Other league dates'!H$10:H$23,$A168:$N168)","v":""},{"$f":"ClashCount('Other league dates'!I$10:I$23,$A168:$N168)","v":""}]
[]
["Fit:","10Berger",null,"12Berger",null,"14Berger",null,"16Berger"]
[]
["10aaaa"]
[]
["AI","BE","AG","BJ","AE","BF","AC","BA","BI","BG","AH","BC","AF","BH","AD","BD","AB","AJ"]
["CF","DC","CB","DH","CG","DA","DB","CJ","DG","DE","CD","DJ","CI","DF","CE","CA","DI","CH"]
["ED","FJ","EI","FA","FD","EC","FI","EH","FE","FC","EB","FH","EG","EA","FB","EJ","FG","EF"]
["GB","HA","HF","GE","HB","GJ","HG","GF","HC","HJ","GI","GA","HD","GC","HI","GH","HE","GD"]
["JH","IG","JD","IC","JI","IH","JE","ID","JA","IA","JF","IE","JB","IJ","JG","IF","JC","IB"]
[1,2,3,4,5,6,7,8,9,10,11,12,13,14,15,16,17,18]
["RFx",null,null,null,null,null,null,null,null,1,2,3,4,5,6,7,8,9]
["  o","  x","  o","  x","  o","  x","  o","  x--","--x--","--x","  o","  x","  o","  x","  o","  x","  o--","--o","A",null,{"$f":"ClashCount('Other league dates'!G$8:G$25,$A181:$R181)","v":""},{"$f":"ClashCount('Other league dates'!H$8:H$25,$A181:$R181)","v":""},{"$f":"ClashCount('Other league dates'!I$8:I$25,$A181:$R181)","v":""}]
["  x","  o","  x","  o","  x","  o","  x","  o--","--o--","--o","  x","  o","  x","  o","  x","  o","  x--","--x","B",null,{"$f":"ClashCount('Other league dates'!G$8:G$25,$A182:$R182)","v":""},{"$f":"ClashCount('Other league dates'!H$8:H$25,$A182:$R182)","v":""},{"$f":"ClashCount('Other league dates'!I$8:I$25,$A182:$R182)","v":""}]
["  o","  x","  o","  x","  o","  x--","--x","  o","  x--","--x","  o","  x","  o","  x","  o--","--o","  x","  o","C",null,{"$f":"ClashCount('Other league dates'!G$8:G$25,$A183:$R183)","v":""},{"$f":"ClashCount('Other league dates'!H$8:H$25,$A183:$R183)","v":""},{"$f":"ClashCount('Other league dates'!I$8:I$25,$A183:$R183)","v":""}]
["  x","  o","  x","  o","  x","  o--","--o","  x","  o--","--o","  x","  o","  x","  o","  x--","--x","  o","  x","D",null,{"$f":"ClashCount('Other league dates'!G$8:G$25,$A184:$R184)","v":""},{"$f":"ClashCount('Other league dates'!H$8:H$25,$A184:$R184)","v":""},{"$f":"ClashCount('Other league dates'!I$8:I$25,$A184:$R184)","v":""}]
["  o","  x","  o","  x--","--x","  o","  x","  o","  x--","--x","  o","  x","  o--","--o","  x","  o","  x","  o","E",null,{"$f":"ClashCount('Other league dates'!G$8:G$25,$A185:$R185)","v":""},{"$f":"ClashCount('Other league dates'!H$8:H$25,$A185:$R185)","v":""},{"$f":"ClashCount('Other league dates'!I$8:I$25,$A185:$R185)","v":""}]
["  x","  o","  x","  o--","--o","  x","  o","  x","  o--","--o","  x","  o","  x--","--x","  o","  x","  o","  x","F",null,{"$f":"ClashCount('Other league dates'!G$8:G$25,$A186:$R186)","v":""},{"$f":"ClashCount('Other league dates'!H$8:H$25,$A186:$R186)","v":""},{"$f":"ClashCount('Other league dates'!I$8:I$25,$A186:$R186)","v":""}]
["  o","  x--","--x","  o","  x","  o","  x","  o","  x--","--x","  o--","--o","  x","  o","  x","  o","  x","  o","G",null,{"$f":"ClashCount('Other league dates'!G$8:G$25,$A187:$R187)","v":""},{"$f":"ClashCount('Other league dates'!H$8:H$25,$A187:$R187)","v":""},{"$f":"ClashCount('Other league dates'!I$8:I$25,$A187:$R187)","v":""}]
["  x","  o--","--o","  x","  o","  x","  o","  x","  o--","--o","  x--","--x","  o","  x","  o","  x","  o","  x","H",null,{"$f":"ClashCount('Other league dates'!G$8:G$25,$A188:$R188)","v":""},{"$f":"ClashCount('Other league dates'!H$8:H$25,$A188:$R188)","v":""},{"$f":"ClashCount('Other league dates'!I$8:I$25,$A188:$R188)","v":""}]
["  x","  o","  x","  o","  x","  o","  x","  o","  x","  o","  x","  o","  x","  o","  x","  o","  x","  o","I",null,{"$f":"ClashCount('Other league dates'!G$8:G$25,$A189:$R189)","v":""},{"$f":"ClashCount('Other league dates'!H$8:H$25,$A189:$R189)","v":""},{"$f":"ClashCount('Other league dates'!I$8:I$25,$A189:$R189)","v":""}]
["  o","  x","  o","  x","  o","  x","  o","  x","  o","  x","  o","  x","  o","  x","  o","  x","  o","  x","J",null,{"$f":"ClashCount('Other league dates'!G$8:G$25,$A190:$R190)","v":""},{"$f":"ClashCount('Other league dates'!H$8:H$25,$A190:$R190)","v":""},{"$f":"ClashCount('Other league dates'!I$8:I$25,$A190:$R190)","v":""}]
[]
["Fit:","12acaa"]
[]
["10acaa"]
[]
["AI","BE","AG","BJ","AE","BF","AC","BA","BI","GA","JB","EA","FB","CA","AB","IB","IA","EB"]
["CF","DC","CB","DH","CG","DA","DB","CJ","DG","BC","HD","GC","AD","BD","JC","GD","FC","CD"]
["ED","FJ","EI","FA","FD","EC","FI","EH","FE","IE","AF","DF","CE","IF","HE","EF","DE","JF"]
["GB","HA","HF","GE","HB","GJ","HG","GF","HC","FH","EG","BH","JG","GH","FG","CH","BG","AH"]
["JH","IG","JD","IC","JI","IH","JE","ID","JA","DJ","CI","IJ","HI","EJ","DI","AJ","HJ","GI"]
[1,2,3,4,5,6,7,8,9,10,11,12,13,14,15,16,17,18]
["RFx",null,null,null,null,null,null,null,null,3,4,5,6,7,8,9,1,2]
["  o","  x","  o","  x","  o","  x","  o","  x--","--x--","--x","  o","  x","  o","  x","  o--","--o","  x","  o","A",null,{"$f":"ClashCount('Other league dates'!G$8:G$25,$A203:$R203)","v":""},{"$f":"ClashCount('Other league dates'!H$8:H$25,$A203:$R203)","v":""},{"$f":"ClashCount('Other league dates'!I$8:I$25,$A203:$R203)","v":""}]
["  x","  o","  x","  o","  x","  o","  x","  o--","--o--","--o","  x","  o","  x","  o","  x--","--x","  o","  x","B",null,{"$f":"ClashCount('Other league dates'!G$8:G$25,$A204:$R204)","v":""},{"$f":"ClashCount('Other league dates'!H$8:H$25,$A204:$R204)","v":""},{"$f":"ClashCount('Other league dates'!I$8:I$25,$A204:$R204)","v":""}]
["  o","  x","  o","  x","  o","  x--","--x","  o","  x--","--x","  o","  x","  o--","--o","  x","  o","  x","  o","C",null,{"$f":"ClashCount('Other league dates'!G$8:G$25,$A205:$R205)","v":""},{"$f":"ClashCount('Other league dates'!H$8:H$25,$A205:$R205)","v":""},{"$f":"ClashCount('Other league dates'!I$8:I$25,$A205:$R205)","v":""}]
["  x","  o","  x","  o","  x","  o--","--o","  x","  o--","--o","  x","  o","  x--","--x","  o","  x","  o","  x","D",null,{"$f":"ClashCount('Other league dates'!G$8:G$25,$A206:$R206)","v":""},{"$f":"ClashCount('Other league dates'!H$8:H$25,$A206:$R206)","v":""},{"$f":"ClashCount('Other league dates'!I$8:I$25,$A206:$R206)","v":""}]
["  o","  x","  o","  x--","--x","  o","  x","  o","  x--","--x","  o--","--o","  x","  o","  x","  o","  x","  o","E",null,{"$f":"ClashCount('Other league dates'!G$8:G$25,$A207:$R207)","v":""},{"$f":"ClashCount('Other league dates'!H$8:H$25,$A207:$R207)","v":""},{"$f":"ClashCount('Other league dates'!I$8:I$25,$A207:$R207)","v":""}]
["  x","  o","  x","  o--","--o","  x","  o","  x","  o--","--o","  x--","--x","  o","  x","  o","  x","  o","  x","F",null,{"$f":"ClashCount('Other league dates'!G$8:G$25,$A208:$R208)","v":""},{"$f":"ClashCount('Other league dates'!H$8:H$25,$A208:$R208)","v":""},{"$f":"ClashCount('Other league dates'!I$8:I$25,$A208:$R208)","v":""}]
["  o","  x--","--x","  o","  x","  o","  x","  o","  x","  o","  x","  o","  x","  o","  x","  o","  x","  o","G",null,{"$f":"ClashCount('Other league dates'!G$8:G$25,$A209:$R209)","v":""},{"$f":"ClashCount('Other league dates'!H$8:H$25,$A209:$R209)","v":""},{"$f":"ClashCount('Other league dates'!I$8:I$25,$A209:$R209)","v":""}]
["  x","  o--","--o","  x","  o","  x","  o","  x","  o","  x","  o","  x","  o","  x","  o","  x","  o","  x","H",null,{"$f":"ClashCount('Other league dates'!G$8:G$25,$A210:$R210)","v":""},{"$f":"ClashCount('Other league dates'!H$8:H$25,$A210:$R210)","v":""},{"$f":"ClashCount('Other league dates'!I$8:I$25,$A210:$R210)","v":""}]
["  x","  o","  x","  o","  x","  o","  x","  o","  x","  o","  x","  o","  x","  o","  x","  o--","--o","  x","I",null,{"$f":"ClashCount('Other league dates'!G$8:G$25,$A211:$R211)","v":""},{"$f":"ClashCount('Other league dates'!H$8:H$25,$A211:$R211)","v":""},{"$f":"ClashCount('Other league dates'!I$8:I$25,$A211:$R211)","v":""}]
["  o","  x","  o","  x","  o","  x","  o","  x","  o","  x","  o","  x","  o","  x","  o","  x--","--x","  o","J",null,{"$f":"ClashCount('Other league dates'!G$8:G$25,$A212:$R212)","v":""},{"$f":"ClashCount('Other league dates'!H$8:H$25,$A212:$R212)","v":""},{"$f":"ClashCount('Other league dates'!I$8:I$25,$A212:$R212)","v":""}]
[]
["Fit:","08aaaa"]
[]
["10aiaa"]
[]
["AI","BE","AG","BJ","AE","BF","AC","BA","BI","AJ","BG","AH","BC","AF","BH","AD","BD","AB"]
["CF","DC","CB","DH","CG","DA","DB","CJ","DG","CH","DE","CD","DJ","CI","DF","CE","CA","DI"]
["ED","FJ","EI","FA","FD","EC","FI","EH","FE","EF","FC","EB","FH","EG","EA","FB","EJ","FG"]
["GB","HA","HF","GE","HB","GJ","HG","GF","HC","GD","HJ","GI","GA","HD","GC","HI","GH","HE"]
["JH","IG","JD","IC","JI","IH","JE","ID","JA","IB","IA","JF","IE","JB","IJ","JG","IF","JC"]
[1,2,3,4,5,6,7,8,9,10,11,12,13,14,15,16,17,18]
["RFx",null,null,null,null,null,null,null,null,9,1,2,3,4,5,6,7,8]
["  o","  x","  o","  x","  o","  x","  o","  x--","--x","  o","  x","  o","  x","  o","  x","  o","  x","  o","A",null,{"$f":"ClashCount('Other league dates'!G$8:G$25,$A225:$R225)","v":""},{"$f":"ClashCount('Other league dates'!H$8:H$25,$A225:$R225)","v":""},{"$f":"ClashCount('Other league dates'!I$8:I$25,$A225:$R225)","v":""}]
["  x","  o","  x","  o","  x","  o","  x","  o--","--o","  x","  o","  x","  o","  x","  o","  x","  o","  x","B",null,{"$f":"ClashCount('Other league dates'!G$8:G$25,$A226:$R226)","v":""},{"$f":"ClashCount('Other league dates'!H$8:H$25,$A226:$R226)","v":""},{"$f":"ClashCount('Other league dates'!I$8:I$25,$A226:$R226)","v":""}]
["  o","  x","  o","  x","  o","  x--","--x","  o","  x","  o","  x","  o","  x","  o","  x","  o--","--o","  x","C",null,{"$f":"ClashCount('Other league dates'!G$8:G$25,$A227:$R227)","v":""},{"$f":"ClashCount('Other league dates'!H$8:H$25,$A227:$R227)","v":""},{"$f":"ClashCount('Other league dates'!I$8:I$25,$A227:$R227)","v":""}]
["  x","  o","  x","  o","  x","  o--","--o","  x","  o","  x","  o","  x","  o","  x","  o","  x--","--x","  o","D",null,{"$f":"ClashCount('Other league dates'!G$8:G$25,$A228:$R228)","v":""},{"$f":"ClashCount('Other league dates'!H$8:H$25,$A228:$R228)","v":""},{"$f":"ClashCount('Other league dates'!I$8:I$25,$A228:$R228)","v":""}]
["  o","  x","  o","  x--","--x","  o","  x","  o","  x","  o","  x","  o","  x","  o--","--o","  x","  o","  x","E",null,{"$f":"ClashCount('Other league dates'!G$8:G$25,$A229:$R229)","v":""},{"$f":"ClashCount('Other league dates'!H$8:H$25,$A229:$R229)","v":""},{"$f":"ClashCount('Other league dates'!I$8:I$25,$A229:$R229)","v":""}]
["  x","  o","  x","  o--","--o","  x","  o","  x","  o","  x","  o","  x","  o","  x--","--x","  o","  x","  o","F",null,{"$f":"ClashCount('Other league dates'!G$8:G$25,$A230:$R230)","v":""},{"$f":"ClashCount('Other league dates'!H$8:H$25,$A230:$R230)","v":""},{"$f":"ClashCount('Other league dates'!I$8:I$25,$A230:$R230)","v":""}]
["  o","  x--","--x","  o","  x","  o","  x","  o","  x","  o","  x","  o--","--o","  x","  o","  x","  o","  x","G",null,{"$f":"ClashCount('Other league dates'!G$8:G$25,$A231:$R231)","v":""},{"$f":"ClashCount('Other league dates'!H$8:H$25,$A231:$R231)","v":""},{"$f":"ClashCount('Other league dates'!I$8:I$25,$A231:$R231)","v":""}]
["  x","  o--","--o","  x","  o","  x","  o","  x","  o","  x","  o","  x--","--x","  o","  x","  o","  x","  o","H",null,{"$f":"ClashCount('Other league dates'!G$8:G$25,$A232:$R232)","v":""},{"$f":"ClashCount('Other league dates'!H$8:H$25,$A232:$R232)","v":""},{"$f":"ClashCount('Other league dates'!I$8:I$25,$A232:$R232)","v":""}]
["  x","  o","  x","  o","  x","  o","  x","  o","  x","  o--","--o","  x","  o","  x","  o","  x","  o","  x","I",null,{"$f":"ClashCount('Other league dates'!G$8:G$25,$A233:$R233)","v":""},{"$f":"ClashCount('Other league dates'!H$8:H$25,$A233:$R233)","v":""},{"$f":"ClashCount('Other league dates'!I$8:I$25,$A233:$R233)","v":""}]
["  o","  x","  o","  x","  o","  x","  o","  x","  o","  x--","--x","  o","  x","  o","  x","  o","  x","  o","J",null,{"$f":"ClashCount('Other league dates'!G$8:G$25,$A234:$R234)","v":""},{"$f":"ClashCount('Other league dates'!H$8:H$25,$A234:$R234)","v":""},{"$f":"ClashCount('Other league dates'!I$8:I$25,$A234:$R234)","v":""}]
[]
["Fit:","10aiab",null,"12akba"]
[]
["10aiab"]
[]
["AH","BE","AD","BA","AI","BF","AE","BJ","BI","IB","HA","EB","DA","AB","IA","FB","EA","JB"]
["CF","DC","CB","DH","CG","DJ","DB","CA","DG","GD","FC","CD","BC","HD","GC","JD","BD","AC"]
["ED","FA","EI","FJ","FD","EC","FI","EH","FE","EF","DE","AF","IE","JF","DF","CE","IF","HE"]
["GB","HJ","HF","GE","HB","GA","HG","GF","HC","CH","BG","JH","FH","EG","BH","AG","GH","FG"]
["JI","IG","JG","IC","JE","IH","JC","ID","JA","AJ","IJ","GI","GJ","CI","EJ","HI","CJ","DI"]
[1,2,3,4,5,6,7,8,9,10,11,12,13,14,15,16,17,18]
["RFx",null,null,null,null,null,null,null,null,9,1,2,3,4,5,6,7,8]
["  o","  x","  o","  x","  o","  x","  o","  x--","--x","  o","  x","  o","  x","  o","  x","  o","  x","  o","A",null,{"$f":"ClashCount('Other league dates'!G$8:G$25,$A247:$R247)","v":""},{"$f":"ClashCount('Other league dates'!H$8:H$25,$A247:$R247)","v":""},{"$f":"ClashCount('Other league dates'!I$8:I$25,$A247:$R247)","v":""}]
["  x","  o","  x","  o","  x","  o","  x","  o--","--o","  x","  o","  x","  o","  x","  o","  x","  o","  x","B",null,{"$f":"ClashCount('Other league dates'!G$8:G$25,$A248:$R248)","v":""},{"$f":"ClashCount('Other league dates'!H$8:H$25,$A248:$R248)","v":""},{"$f":"ClashCount('Other league dates'!I$8:I$25,$A248:$R248)","v":""}]
["  o","  x","  o","  x","  o","  x--","--x","  o","  x","  o","  x","  o","  x","  o","  x","  o--","--o","  x","C",null,{"$f":"ClashCount('Other league dates'!G$8:G$25,$A249:$R249)","v":""},{"$f":"ClashCount('Other league dates'!H$8:H$25,$A249:$R249)","v":""},{"$f":"ClashCount('Other league dates'!I$8:I$25,$A249:$R249)","v":""}]
["  x","  o","  x","  o","  x","  o--","--o","  x","  o","  x","  o","  x","  o","  x","  o","  x--","--x","  o","D",null,{"$f":"ClashCount('Other league dates'!G$8:G$25,$A250:$R250)","v":""},{"$f":"ClashCount('Other league dates'!H$8:H$25,$A250:$R250)","v":""},{"$f":"ClashCount('Other league dates'!I$8:I$25,$A250:$R250)","v":""}]
["  o","  x","  o","  x--","--x","  o","  x","  o","  x","  o","  x","  o","  x","  o--","--o","  x","  o","  x","E",null,{"$f":"ClashCount('Other league dates'!G$8:G$25,$A251:$R251)","v":""},{"$f":"ClashCount('Other league dates'!H$8:H$25,$A251:$R251)","v":""},{"$f":"ClashCount('Other league dates'!I$8:I$25,$A251:$R251)","v":""}]
["  x","  o","  x","  o--","--o","  x","  o","  x","  o","  x","  o","  x","  o","  x--","--x","  o","  x","  o","F",null,{"$f":"ClashCount('Other league dates'!G$8:G$25,$A252:$R252)","v":""},{"$f":"ClashCount('Other league dates'!H$8:H$25,$A252:$R252)","v":""},{"$f":"ClashCount('Other league dates'!I$8:I$25,$A252:$R252)","v":""}]
["  o","  x--","--x","  o","  x","  o","  x","  o","  x","  o","  x","  o--","--o","  x","  o","  x","  o","  x","G",null,{"$f":"ClashCount('Other league dates'!G$8:G$25,$A253:$R253)","v":""},{"$f":"ClashCount('Other league dates'!H$8:H$25,$A253:$R253)","v":""},{"$f":"ClashCount('Other league dates'!I$8:I$25,$A253:$R253)","v":""}]
["  x","  o--","--o","  x","  o","  x","  o","  x","  o","  x","  o","  x--","--x","  o","  x","  o","  x","  o","H",null,{"$f":"ClashCount('Other league dates'!G$8:G$25,$A254:$R254)","v":""},{"$f":"ClashCount('Other league dates'!H$8:H$25,$A254:$R254)","v":""},{"$f":"ClashCount('Other league dates'!I$8:I$25,$A254:$R254)","v":""}]
["  x","  o","  x","  o","  x","  o","  x","  o","  x","  o--","--o","  x","  o","  x","  o","  x","  o","  x","I",null,{"$f":"ClashCount('Other league dates'!G$8:G$25,$A255:$R255)","v":""},{"$f":"ClashCount('Other league dates'!H$8:H$25,$A255:$R255)","v":""},{"$f":"ClashCount('Other league dates'!I$8:I$25,$A255:$R255)","v":""}]
["  o","  x","  o","  x","  o","  x","  o","  x","  o","  x--","--x","  o","  x","  o","  x","  o","  x","  o","J",null,{"$f":"ClashCount('Other league dates'!G$8:G$25,$A256:$R256)","v":""},{"$f":"ClashCount('Other league dates'!H$8:H$25,$A256:$R256)","v":""},{"$f":"ClashCount('Other league dates'!I$8:I$25,$A256:$R256)","v":""}]
[]
["Fit:","10aiaa",null,"12akba"]
[]
["10aiba"]
[]
["AI","BE","AG","BJ","AE","BF","AC","BA","BI","AJ","BC","AF","BH","AD","BD","AB","AH","BG"]
["CF","DC","CB","DH","CG","DA","DB","CJ","DG","CH","DJ","CI","DF","CE","CA","DI","CD","DE"]
["ED","FJ","EI","FA","FD","EC","FI","EH","FE","EF","FH","EG","EA","FB","EJ","FG","EB","FC"]
["GB","HA","HF","GE","HB","GJ","HG","GF","HC","GD","GA","HD","GC","HI","GH","HE","GI","HJ"]
["JH","IG","JD","IC","JI","IH","JE","ID","JA","IB","IE","JB","IJ","JG","IF","JC","JF","IA"]
[1,2,3,4,5,6,7,8,9,10,11,12,13,14,15,16,17,18]
["RFx",null,null,null,null,null,null,null,null,9,3,4,5,6,7,8,2,1]
["  o","  x","  o","  x","  o","  x","  o","  x--","--x","  o","  x","  o","  x","  o","  x","  o--","--o","  x","A",null,{"$f":"ClashCount('Other league dates'!G$8:G$25,$A269:$R269)","v":""},{"$f":"ClashCount('Other league dates'!H$8:H$25,$A269:$R269)","v":""},{"$f":"ClashCount('Other league dates'!I$8:I$25,$A269:$R269)","v":""}]
["  x","  o","  x","  o","  x","  o","  x","  o--","--o","  x","  o","  x","  o","  x","  o","  x--","--x","  o","B",null,{"$f":"ClashCount('Other league dates'!G$8:G$25,$A270:$R270)","v":""},{"$f":"ClashCount('Other league dates'!H$8:H$25,$A270:$R270)","v":""},{"$f":"ClashCount('Other league dates'!I$8:I$25,$A270:$R270)","v":""}]
["  o","  x","  o","  x","  o","  x--","--x","  o","  x","  o","  x","  o","  x","  o--","--o","  x","  o","  x","C",null,{"$f":"ClashCount('Other league dates'!G$8:G$25,$A271:$R271)","v":""},{"$f":"ClashCount('Other league dates'!H$8:H$25,$A271:$R271)","v":""},{"$f":"ClashCount('Other league dates'!I$8:I$25,$A271:$R271)","v":""}]
["  x","  o","  x","  o","  x","  o--","--o","  x","  o","  x","  o","  x","  o","  x--","--x","  o","  x","  o","D",null,{"$f":"ClashCount('Other league dates'!G$8:G$25,$A272:$R272)","v":""},{"$f":"ClashCount('Other league dates'!H$8:H$25,$A272:$R272)","v":""},{"$f":"ClashCount('Other league dates'!I$8:I$25,$A272:$R272)","v":""}]
["  o","  x","  o","  x--","--x","  o","  x","  o","  x","  o","  x","  o--","--o","  x","  o","  x","  o","  x","E",null,{"$f":"ClashCount('Other league dates'!G$8:G$25,$A273:$R273)","v":""},{"$f":"ClashCount('Other league dates'!H$8:H$25,$A273:$R273)","v":""},{"$f":"ClashCount('Other league dates'!I$8:I$25,$A273:$R273)","v":""}]
["  x","  o","  x","  o--","--o","  x","  o","  x","  o","  x","  o","  x--","--x","  o","  x","  o","  x","  o","F",null,{"$f":"ClashCount('Other league dates'!G$8:G$25,$A274:$R274)","v":""},{"$f":"ClashCount('Other league dates'!H$8:H$25,$A274:$R274)","v":""},{"$f":"ClashCount('Other league dates'!I$8:I$25,$A274:$R274)","v":""}]
["  o","  x--","--x","  o","  x","  o","  x","  o","  x","  o--","--o","  x","  o","  x","  o","  x","  o","  x","G",null,{"$f":"ClashCount('Other league dates'!G$8:G$25,$A275:$R275)","v":""},{"$f":"ClashCount('Other league dates'!H$8:H$25,$A275:$R275)","v":""},{"$f":"ClashCount('Other league dates'!I$8:I$25,$A275:$R275)","v":""}]
["  x","  o--","--o","  x","  o","  x","  o","  x","  o","  x--","--x","  o","  x","  o","  x","  o","  x","  o","H",null,{"$f":"ClashCount('Other league dates'!G$8:G$25,$A276:$R276)","v":""},{"$f":"ClashCount('Other league dates'!H$8:H$25,$A276:$R276)","v":""},{"$f":"ClashCount('Other league dates'!I$8:I$25,$A276:$R276)","v":""}]
["  x","  o","  x","  o","  x","  o","  x","  o","  x","  o--","--o","  x","  o","  x","  o","  x--","--x","  o","I",null,{"$f":"ClashCount('Other league dates'!G$8:G$25,$A277:$R277)","v":""},{"$f":"ClashCount('Other league dates'!H$8:H$25,$A277:$R277)","v":""},{"$f":"ClashCount('Other league dates'!I$8:I$25,$A277:$R277)","v":""}]
["  o","  x","  o","  x","  o","  x","  o","  x","  o","  x--","--x","  o","  x","  o","  x","  o--","--o","  x","J",null,{"$f":"ClashCount('Other league dates'!G$8:G$25,$A278:$R278)","v":""},{"$f":"ClashCount('Other league dates'!H$8:H$25,$A278:$R278)","v":""},{"$f":"ClashCount('Other league dates'!I$8:I$25,$A278:$R278)","v":""}]
[]
["Fit:","08agaa",null,"08agab"]
[]
["10alanx",null,null,"Use J for Open date, to avoid successive away matches for other teams"]
[]
["AC","CJ","AG","EJ","AB","GJ","AF","IJ","AJ","BI","CA","AE","EC","AI","GE","AD","IG","AH"]
["DI","EA","CE","GC","CI","IE","CD","BG","CH","DG","EH","DB","GA","CG","IC","CB","BE","CF"]
["FG","GH","FB","IA","EG","BC","EB","DE","EF","FE","GF","FI","IH","FD","BA","EI","DC","ED"]
["HE","IF","HI","BH","HD","DA","GI","FC","GD","HC","ID","HG","BF","HB","DH","HF","FA","GB"]
["JB","BD","JD","DF","JF","FH","JH","HA","IB","JA","BJ","JC","DJ","JE","FJ","JG","HJ","JI"]
[1,2,3,4,5,6,7,8,9,10,11,12,13,14,15,16,17,18]
["RFx",null,null,null,null,null,null,null,null,9,1,2,3,4,5,6,7,8]
["  o","  x","  o","  x","  o","  x","  o","  x","  o","  x--","--x","  o","  x","  o","  x","  o","  x","  o","A",null,{"$f":"ClashCount('Other league dates'!G$8:G$25,$A291:$R291)","v":""},{"$f":"ClashCount('Other league dates'!H$8:H$25,$A291:$R291)","v":""},{"$f":"ClashCount('Other league dates'!I$8:I$25,$A291:$R291)","v":""}]
["  x","  o","  x","  o","  x","  o","  x","  o","  x","  o--","--o","  x","  o","  x","  o","  x","  o","  x","B",null,{"$f":"ClashCount('Other league dates'!G$8:G$25,$A292:$R292)","v":""},{"$f":"ClashCount('Other league dates'!H$8:H$25,$A292:$R292)","v":""},{"$f":"ClashCount('Other league dates'!I$8:I$25,$A292:$R292)","v":""}]
["  x","  o--","--o","  x","  o","  x","  o","  x","  o","  x","  o","  x--","--x","  o","  x","  o","  x","  o","C",null,{"$f":"ClashCount('Other league dates'!G$8:G$25,$A293:$R293)","v":""},{"$f":"ClashCount('Other league dates'!H$8:H$25,$A293:$R293)","v":""},{"$f":"ClashCount('Other league dates'!I$8:I$25,$A293:$R293)","v":""}]
["  o","  x--","--x","  o","  x","  o","  x","  o","  x","  o","  x","  o--","--o","  x","  o","  x","  o","  x","D",null,{"$f":"ClashCount('Other league dates'!G$8:G$25,$A294:$R294)","v":""},{"$f":"ClashCount('Other league dates'!H$8:H$25,$A294:$R294)","v":""},{"$f":"ClashCount('Other league dates'!I$8:I$25,$A294:$R294)","v":""}]
["  x","  o","  x","  o--","--o","  x","  o","  x","  o","  x","  o","  x","  o","  x--","--x","  o","  x","  o","E",null,{"$f":"ClashCount('Other league dates'!G$8:G$25,$A295:$R295)","v":""},{"$f":"ClashCount('Other league dates'!H$8:H$25,$A295:$R295)","v":""},{"$f":"ClashCount('Other league dates'!I$8:I$25,$A295:$R295)","v":""}]
["  o","  x","  o","  x--","--x","  o","  x","  o","  x","  o","  x","  o","  x","  o--","--o","  x","  o","  x","F",null,{"$f":"ClashCount('Other league dates'!G$8:G$25,$A296:$R296)","v":""},{"$f":"ClashCount('Other league dates'!H$8:H$25,$A296:$R296)","v":""},{"$f":"ClashCount('Other league dates'!I$8:I$25,$A296:$R296)","v":""}]
["  x","  o","  x","  o","  x","  o--","--o","  x","  o","  x","  o","  x","  o","  x","  o","  x--","--x","  o","G",null,{"$f":"ClashCount('Other league dates'!G$8:G$25,$A297:$R297)","v":""},{"$f":"ClashCount('Other league dates'!H$8:H$25,$A297:$R297)","v":""},{"$f":"ClashCount('Other league dates'!I$8:I$25,$A297:$R297)","v":""}]
["  o","  x","  o","  x","  o","  x--","--x","  o","  x","  o","  x","  o","  x","  o","  x","  o--","--o","  x","H",null,{"$f":"ClashCount('Other league dates'!G$8:G$25,$A298:$R298)","v":""},{"$f":"ClashCount('Other league dates'!H$8:H$25,$A298:$R298)","v":""},{"$f":"ClashCount('Other league dates'!I$8:I$25,$A298:$R298)","v":""}]
["  x","  o","  x","  o","  x","  o","  x","  o--","--o","  x","  o","  x","  o","  x","  o","  x","  o","  x","I",null,{"$f":"ClashCount('Other league dates'!G$8:G$25,$A299:$R299)","v":""},{"$f":"ClashCount('Other league dates'!H$8:H$25,$A299:$R299)","v":""},{"$f":"ClashCount('Other league dates'!I$8:I$25,$A299:$R299)","v":""}]
["  o","  x","  o","  x","  o","  x","  o","  x--","--x","  o","  x","  o","  x","  o","  x","  o","  x","  o","J",null,{"$f":"ClashCount('Other league dates'!G$8:G$25,$A300:$R300)","v":""},{"$f":"ClashCount('Other league dates'!H$8:H$25,$A300:$R300)","v":""},{"$f":"ClashCount('Other league dates'!I$8:I$25,$A300:$R300)","v":""}]
[]
["Fit:","12alanx",null,"14alanx"]
[]
["10araa"]
[]
["AI","BE","AG","BJ","AE","BF","AC","BA","BI","AJ","AB","BD","AD","BH","AF","BC","AH","BG"]
["CF","DC","CB","DH","CG","DA","DB","CJ","DG","CH","DI","CA","CE","DF","CI","DJ","CD","DE"]
["ED","FJ","EI","FA","FD","EC","FI","EH","FE","EF","FG","EJ","FB","EA","EG","FH","EB","FC"]
["GB","HA","HF","GE","HB","GJ","HG","GF","HC","GD","HE","GH","HI","GC","HD","GA","GI","HJ"]
["JH","IG","JD","IC","JI","IH","JE","ID","JA","IB","JC","IF","JG","IJ","JB","IE","JF","IA"]
[1,2,3,4,5,6,7,8,9,10,11,12,13,14,15,16,17,18]
["RFx",null,null,null,null,null,null,null,null,9,8,7,6,5,4,3,2,1]
["  o","  x","  o","  x","  o","  x","  o","  x--","--x","  o--","--o","  x","  o","  x","  o","  x","  o","  x","A",null,{"$f":"ClashCount('Other league dates'!G$8:G$25,$A313:$R313)","v":""},{"$f":"ClashCount('Other league dates'!H$8:H$25,$A313:$R313)","v":""},{"$f":"ClashCount('Other league dates'!I$8:I$25,$A313:$R313)","v":""}]
["  x","  o","  x","  o","  x","  o","  x","  o--","--o","  x--","--x","  o","  x","  o","  x","  o","  x","  o","B",null,{"$f":"ClashCount('Other league dates'!G$8:G$25,$A314:$R314)","v":""},{"$f":"ClashCount('Other league dates'!H$8:H$25,$A314:$R314)","v":""},{"$f":"ClashCount('Other league dates'!I$8:I$25,$A314:$R314)","v":""}]
["  o","  x","  o","  x","  o","  x--","--x","  o","  x","  o","  x","  o--","--o","  x","  o","  x","  o","  x","C",null,{"$f":"ClashCount('Other league dates'!G$8:G$25,$A315:$R315)","v":""},{"$f":"ClashCount('Other league dates'!H$8:H$25,$A315:$R315)","v":""},{"$f":"ClashCount('Other league dates'!I$8:I$25,$A315:$R315)","v":""}]
["  x","  o","  x","  o","  x","  o--","--o","  x","  o","  x","  o","  x--","--x","  o","  x","  o","  x","  o","D",null,{"$f":"ClashCount('Other league dates'!G$8:G$25,$A316:$R316)","v":""},{"$f":"ClashCount('Other league dates'!H$8:H$25,$A316:$R316)","v":""},{"$f":"ClashCount('Other league dates'!I$8:I$25,$A316:$R316)","v":""}]
["  o","  x","  o","  x--","--x","  o","  x","  o","  x","  o","  x","  o","  x","  o--","--o","  x","  o","  x","E",null,{"$f":"ClashCount('Other league dates'!G$8:G$25,$A317:$R317)","v":""},{"$f":"ClashCount('Other league dates'!H$8:H$25,$A317:$R317)","v":""},{"$f":"ClashCount('Other league dates'!I$8:I$25,$A317:$R317)","v":""}]
["  x","  o","  x","  o--","--o","  x","  o","  x","  o","  x","  o","  x","  o","  x--","--x","  o","  x","  o","F",null,{"$f":"ClashCount('Other league dates'!G$8:G$25,$A318:$R318)","v":""},{"$f":"ClashCount('Other league dates'!H$8:H$25,$A318:$R318)","v":""},{"$f":"ClashCount('Other league dates'!I$8:I$25,$A318:$R318)","v":""}]
["  o","  x--","--x","  o","  x","  o","  x","  o","  x","  o","  x","  o","  x","  o","  x","  o--","--o","  x","G",null,{"$f":"ClashCount('Other league dates'!G$8:G$25,$A319:$R319)","v":""},{"$f":"ClashCount('Other league dates'!H$8:H$25,$A319:$R319)","v":""},{"$f":"ClashCount('Other league dates'!I$8:I$25,$A319:$R319)","v":""}]
["  x","  o--","--o","  x","  o","  x","  o","  x","  o","  x","  o","  x","  o","  x","  o","  x--","--x","  o","H",null,{"$f":"ClashCount('Other league dates'!G$8:G$25,$A320:$R320)","v":""},{"$f":"ClashCount('Other league dates'!H$8:H$25,$A320:$R320)","v":""},{"$f":"ClashCount('Other league dates'!I$8:I$25,$A320:$R320)","v":""}]
["  x","  o","  x","  o","  x","  o","  x","  o","  x","  o","  x","  o","  x","  o","  x","  o","  x","  o","I",null,{"$f":"ClashCount('Other league dates'!G$8:G$25,$A321:$R321)","v":""},{"$f":"ClashCount('Other league dates'!H$8:H$25,$A321:$R321)","v":""},{"$f":"ClashCount('Other league dates'!I$8:I$25,$A321:$R321)","v":""}]
["  o","  x","  o","  x","  o","  x","  o","  x","  o","  x","  o","  x","  o","  x","  o","  x","  o","  x","J",null,{"$f":"ClashCount('Other league dates'!G$8:G$25,$A322:$R322)","v":""},{"$f":"ClashCount('Other league dates'!H$8:H$25,$A322:$R322)","v":""},{"$f":"ClashCount('Other league dates'!I$8:I$25,$A322:$R322)","v":""}]
[]
["Fit:","08ataa",null,"08ataax",null,"12apaa",null,"14anaa"]
[]
["10bbaa"]
[]
["GB","HJ","HG","GE","HE","GA","HC","GF","HA","GI","GH","HF","GC","HD","GJ","HB","GD","HI"]
["ED","FA","EI","FH","FD","EC","FI","EJ","FE","EB","FJ","EG","EH","FB","EA","FG","EF","FC"]
["CF","DC","CB","DJ","CG","DH","DB","CA","DG","CD","DA","CI","DF","CE","CH","DI","CJ","DE"]
["AJ","BE","AD","BA","AI","BF","AE","BH","BI","AF","BC","AB","BJ","AG","BD","AC","AH","BG"]
["IH","IG","JF","IC","JB","IJ","JG","ID","JC","JH","IE","JD","IA","JI","IF","JE","IB","JA"]
[1,2,3,4,5,6,7,8,9,10,11,12,13,14,15,16,17,18]
["RFx",null,null,null,null,null,null,null,null,2,3,4,5,6,7,8,9,1]
["  o","  x","  o","  x","  o","  x","  o","  x--","--x","  o","  x","  o","  x","  o","  x","  o--","--o","  x","A",null,{"$f":"ClashCount('Other league dates'!G$8:G$25,$A335:$R335)","v":""},{"$f":"ClashCount('Other league dates'!H$8:H$25,$A335:$R335)","v":""},{"$f":"ClashCount('Other league dates'!I$8:I$25,$A335:$R335)","v":""}]
["  x","  o","  x","  o","  x","  o","  x","  o--","--o","  x","  o","  x","  o","  x","  o","  x--","--x","  o","B",null,{"$f":"ClashCount('Other league dates'!G$8:G$25,$A336:$R336)","v":""},{"$f":"ClashCount('Other league dates'!H$8:H$25,$A336:$R336)","v":""},{"$f":"ClashCount('Other league dates'!I$8:I$25,$A336:$R336)","v":""}]
["  o","  x","  o","  x","  o","  x--","--x","  o","  x","  o","  x","  o","  x","  o--","--o","  x","  o","  x","C",null,{"$f":"ClashCount('Other league dates'!G$8:G$25,$A337:$R337)","v":""},{"$f":"ClashCount('Other league dates'!H$8:H$25,$A337:$R337)","v":""},{"$f":"ClashCount('Other league dates'!I$8:I$25,$A337:$R337)","v":""}]
["  x","  o","  x","  o","  x","  o--","--o","  x","  o","  x","  o","  x","  o","  x--","--x","  o","  x","  o","D",null,{"$f":"ClashCount('Other league dates'!G$8:G$25,$A338:$R338)","v":""},{"$f":"ClashCount('Other league dates'!H$8:H$25,$A338:$R338)","v":""},{"$f":"ClashCount('Other league dates'!I$8:I$25,$A338:$R338)","v":""}]
["  o","  x","  o","  x--","--x","  o","  x","  o","  x","  o","  x","  o--","--o","  x","  o","  x","  o","  x","E",null,{"$f":"ClashCount('Other league dates'!G$8:G$25,$A339:$R339)","v":""},{"$f":"ClashCount('Other league dates'!H$8:H$25,$A339:$R339)","v":""},{"$f":"ClashCount('Other league dates'!I$8:I$25,$A339:$R339)","v":""}]
["  x","  o","  x","  o--","--o","  x","  o","  x","  o","  x","  o","  x--","--x","  o","  x","  o","  x","  o","F",null,{"$f":"ClashCount('Other league dates'!G$8:G$25,$A340:$R340)","v":""},{"$f":"ClashCount('Other league dates'!H$8:H$25,$A340:$R340)","v":""},{"$f":"ClashCount('Other league dates'!I$8:I$25,$A340:$R340)","v":""}]
["  o","  x--","--x","  o","  x","  o","  x","  o","  x","  o--","--o","  x","  o","  x","  o","  x","  o","  x","G",null,{"$f":"ClashCount('Other league dates'!G$8:G$25,$A341:$R341)","v":""},{"$f":"ClashCount('Other league dates'!H$8:H$25,$A341:$R341)","v":""},{"$f":"ClashCount('Other league dates'!I$8:I$25,$A341:$R341)","v":""}]
["  x","  o--","--o","  x","  o","  x","  o","  x","  o","  x--","--x","  o","  x","  o","  x","  o","  x","  o","H",null,{"$f":"ClashCount('Other league dates'!G$8:G$25,$A342:$R342)","v":""},{"$f":"ClashCount('Other league dates'!H$8:H$25,$A342:$R342)","v":""},{"$f":"ClashCount('Other league dates'!I$8:I$25,$A342:$R342)","v":""}]
["  o--","--o","  x","  o","  x","  o","  x","  o","  x--","--x","  o","  x","  o","  x","  o","  x","  o","  x","I",null,{"$f":"ClashCount('Other league dates'!G$8:G$25,$A343:$R343)","v":""},{"$f":"ClashCount('Other league dates'!H$8:H$25,$A343:$R343)","v":""},{"$f":"ClashCount('Other league dates'!I$8:I$25,$A343:$R343)","v":""}]
["  x--","--x","  o","  x","  o","  x","  o","  x","  o--","--o","  x","  o","  x","  o","  x","  o","  x","  o","J",null,{"$f":"ClashCount('Other league dates'!G$8:G$25,$A344:$R344)","v":""},{"$f":"ClashCount('Other league dates'!H$8:H$25,$A344:$R344)","v":""},{"$f":"ClashCount('Other league dates'!I$8:I$25,$A344:$R344)","v":""}]
[]
["Fit:","08agaa",null,"08agab"]
[]
["10caaa"]
[]
["AI","BE","AG","BJ","AE","BF","AC","AB","BI","BG","AH","BC","AF","BH","AD","BD","BA","AJ"]
["CF","DC","CB","DH","CG","DA","DB","CJ","DG","DE","CD","DJ","CI","DF","CE","CA","DI","CH"]
["ED","FJ","EI","FA","FD","EC","FI","EH","FE","FC","EB","FH","EG","EA","FB","EJ","FG","EF"]
["GB","HA","HF","GE","HB","GJ","HG","GF","HC","HJ","GI","GA","HD","GC","HI","GH","HE","GD"]
["JH","IG","JD","IC","JI","IH","JE","ID","JA","IA","JF","IE","JB","IJ","JG","IF","JC","IB"]
[1,2,3,4,5,6,7,8,9,10,11,12,13,14,15,16,17,18]
["RFx",null,null,null,null,null,null,null,null,1,2,3,4,5,6,7,8,9]
["  o","  x","  o","  x","  o","  x","  o--","--o","  x--","--x","  o","  x","  o","  x","  o","  x--","--x","  o","A",null,{"$f":"ClashCount('Other league dates'!G$8:G$25,$A357:$R357)","v":""},{"$f":"ClashCount('Other league dates'!H$8:H$25,$A357:$R357)","v":""},{"$f":"ClashCount('Other league dates'!I$8:I$25,$A357:$R357)","v":""}]
["  x","  o","  x","  o","  x","  o","  x--","--x","  o--","--o","  x","  o","  x","  o","  x","  o--","--o","  x","B",null,{"$f":"ClashCount('Other league dates'!G$8:G$25,$A358:$R358)","v":""},{"$f":"ClashCount('Other league dates'!H$8:H$25,$A358:$R358)","v":""},{"$f":"ClashCount('Other league dates'!I$8:I$25,$A358:$R358)","v":""}]
["  o","  x","  o","  x","  o","  x--","--x","  o","  x--","--x","  o","  x","  o","  x","  o--","--o","  x","  o","C",null,{"$f":"ClashCount('Other league dates'!G$8:G$25,$A359:$R359)","v":""},{"$f":"ClashCount('Other league dates'!H$8:H$25,$A359:$R359)","v":""},{"$f":"ClashCount('Other league dates'!I$8:I$25,$A359:$R359)","v":""}]
["  x","  o","  x","  o","  x","  o--","--o","  x","  o--","--o","  x","  o","  x","  o","  x--","--x","  o","  x","D",null,{"$f":"ClashCount('Other league dates'!G$8:G$25,$A360:$R360)","v":""},{"$f":"ClashCount('Other league dates'!H$8:H$25,$A360:$R360)","v":""},{"$f":"ClashCount('Other league dates'!I$8:I$25,$A360:$R360)","v":""}]
["  o","  x","  o","  x--","--x","  o","  x","  o","  x--","--x","  o","  x","  o--","--o","  x","  o","  x","  o","E",null,{"$f":"ClashCount('Other league dates'!G$8:G$25,$A361:$R361)","v":""},{"$f":"ClashCount('Other league dates'!H$8:H$25,$A361:$R361)","v":""},{"$f":"ClashCount('Other league dates'!I$8:I$25,$A361:$R361)","v":""}]
["  x","  o","  x","  o--","--o","  x","  o","  x","  o--","--o","  x","  o","  x--","--x","  o","  x","  o","  x","F",null,{"$f":"ClashCount('Other league dates'!G$8:G$25,$A362:$R362)","v":""},{"$f":"ClashCount('Other league dates'!H$8:H$25,$A362:$R362)","v":""},{"$f":"ClashCount('Other league dates'!I$8:I$25,$A362:$R362)","v":""}]
["  o","  x--","--x","  o","  x","  o","  x","  o","  x--","--x","  o--","--o","  x","  o","  x","  o","  x","  o","G",null,{"$f":"ClashCount('Other league dates'!G$8:G$25,$A363:$R363)","v":""},{"$f":"ClashCount('Other league dates'!H$8:H$25,$A363:$R363)","v":""},{"$f":"ClashCount('Other league dates'!I$8:I$25,$A363:$R363)","v":""}]
["  x","  o--","--o","  x","  o","  x","  o","  x","  o--","--o","  x--","--x","  o","  x","  o","  x","  o","  x","H",null,{"$f":"ClashCount('Other league dates'!G$8:G$25,$A364:$R364)","v":""},{"$f":"ClashCount('Other league dates'!H$8:H$25,$A364:$R364)","v":""},{"$f":"ClashCount('Other league dates'!I$8:I$25,$A364:$R364)","v":""}]
["  x","  o","  x","  o","  x","  o","  x","  o","  x","  o","  x","  o","  x","  o","  x","  o","  x","  o","I",null,{"$f":"ClashCount('Other league dates'!G$8:G$25,$A365:$R365)","v":""},{"$f":"ClashCount('Other league dates'!H$8:H$25,$A365:$R365)","v":""},{"$f":"ClashCount('Other league dates'!I$8:I$25,$A365:$R365)","v":""}]
["  o","  x","  o","  x","  o","  x","  o","  x","  o","  x","  o","  x","  o","  x","  o","  x","  o","  x","J",null,{"$f":"ClashCount('Other league dates'!G$8:G$25,$A366:$R366)","v":""},{"$f":"ClashCount('Other league dates'!H$8:H$25,$A366:$R366)","v":""},{"$f":"ClashCount('Other league dates'!I$8:I$25,$A366:$R366)","v":""}]
[]
["Fit:","12ccaa"]
[]
["10donx",null,null,"Use J for Open date, to avoid successive away matches for other teams"]
[]
["AF","GJ","AB","EJ","AG","CJ","AC","AJ","JI","BI","AH","IG","AD","GE","AI","EC","AE","CA"]
["CD","IE","CI","GC","CE","EA","DI","CH","BG","DG","CF","BE","CB","IC","CG","GA","DB","EH"]
["EB","BC","EG","IA","FB","GH","FG","EF","DE","FE","ED","DC","EI","BA","FD","IH","FI","GF"]
["GI","DA","HD","BH","HI","IF","HE","GD","FC","HC","GB","FA","HF","DH","HB","BF","HG","ID"]
["JH","FH","JF","DF","JD","BD","JB","IB","HA","JA","IJ","HJ","JG","FJ","JE","DJ","JC","BJ"]
[1,2,3,4,5,6,7,8,9,10,11,12,13,14,15,16,17,18]
["RFx",null,null,null,null,null,null,null,null,8,9,1,2,3,4,5,6,7]
["  o","  x","  o","  x","  o","  x","  o--","--o","  x--","--x","  o","  x","  o","  x","  o","  x","  o","  x","A",null,{"$f":"ClashCount('Other league dates'!G$8:G$25,$A379:$R379)","v":""},{"$f":"ClashCount('Other league dates'!H$8:H$25,$A379:$R379)","v":""},{"$f":"ClashCount('Other league dates'!I$8:I$25,$A379:$R379)","v":""}]
["  x","  o","  x","  o","  x","  o","  x--","--x","  o--","--o","  x","  o","  x","  o","  x","  o","  x","  o","B",null,{"$f":"ClashCount('Other league dates'!G$8:G$25,$A380:$R380)","v":""},{"$f":"ClashCount('Other league dates'!H$8:H$25,$A380:$R380)","v":""},{"$f":"ClashCount('Other league dates'!I$8:I$25,$A380:$R380)","v":""}]
["  o","  x","  o","  x","  o--","--o","  x","  o","  x--","--x","  o","  x","  o","  x","  o","  x--","--x","  o","C",null,{"$f":"ClashCount('Other league dates'!G$8:G$25,$A381:$R381)","v":""},{"$f":"ClashCount('Other league dates'!H$8:H$25,$A381:$R381)","v":""},{"$f":"ClashCount('Other league dates'!I$8:I$25,$A381:$R381)","v":""}]
["  x","  o","  x","  o","  x--","--x","  o","  x","  o--","--o","  x","  o","  x","  o","  x","  o--","--o","  x","D",null,{"$f":"ClashCount('Other league dates'!G$8:G$25,$A382:$R382)","v":""},{"$f":"ClashCount('Other league dates'!H$8:H$25,$A382:$R382)","v":""},{"$f":"ClashCount('Other league dates'!I$8:I$25,$A382:$R382)","v":""}]
["  o","  x","  o--","--o","  x","  o","  x","  o","  x--","--x","  o","  x","  o","  x--","--x","  o","  x","  o","E",null,{"$f":"ClashCount('Other league dates'!G$8:G$25,$A383:$R383)","v":""},{"$f":"ClashCount('Other league dates'!H$8:H$25,$A383:$R383)","v":""},{"$f":"ClashCount('Other league dates'!I$8:I$25,$A383:$R383)","v":""}]
["  x","  o","  x--","--x","  o","  x","  o","  x","  o--","--o","  x","  o","  x","  o--","--o","  x","  o","  x","F",null,{"$f":"ClashCount('Other league dates'!G$8:G$25,$A384:$R384)","v":""},{"$f":"ClashCount('Other league dates'!H$8:H$25,$A384:$R384)","v":""},{"$f":"ClashCount('Other league dates'!I$8:I$25,$A384:$R384)","v":""}]
["  o--","--o","  x","  o","  x","  o","  x","  o","  x--","--x","  o","  x--","--x","  o","  x","  o","  x","  o","G",null,{"$f":"ClashCount('Other league dates'!G$8:G$25,$A385:$R385)","v":""},{"$f":"ClashCount('Other league dates'!H$8:H$25,$A385:$R385)","v":""},{"$f":"ClashCount('Other league dates'!I$8:I$25,$A385:$R385)","v":""}]
["  x--","--x","  o","  x","  o","  x","  o","  x","  o--","--o","  x","  o--","--o","  x","  o","  x","  o","  x","H",null,{"$f":"ClashCount('Other league dates'!G$8:G$25,$A386:$R386)","v":""},{"$f":"ClashCount('Other league dates'!H$8:H$25,$A386:$R386)","v":""},{"$f":"ClashCount('Other league dates'!I$8:I$25,$A386:$R386)","v":""}]
["  x","  o","  x","  o","  x","  o","  x","  o","  x--","--x","  o--","--o","  x","  o","  x","  o","  x","  o","I",null,{"$f":"ClashCount('Other league dates'!G$8:G$25,$A387:$R387)","v":""},{"$f":"ClashCount('Other league dates'!H$8:H$25,$A387:$R387)","v":""},{"$f":"ClashCount('Other league dates'!I$8:I$25,$A387:$R387)","v":""}]
["  o","  x","  o","  x","  o","  x","  o","  x","  o--","--o","  x--","--x","  o","  x","  o","  x","  o","  x","J",null,{"$f":"ClashCount('Other league dates'!G$8:G$25,$A388:$R388)","v":""},{"$f":"ClashCount('Other league dates'!H$8:H$25,$A388:$R388)","v":""},{"$f":"ClashCount('Other league dates'!I$8:I$25,$A388:$R388)","v":""}]
[]
["Fit:","12donx",null,"14donx"]
[]
["10primx"]
[]
["AJ","IJ","AF","GJ","AB","EJ","AG","CJ","AC","AH","IG","AD","GE","AI","EC","AE","CA","BI"]
["CH","BG","CD","IE","CI","GC","CE","EA","DI","CF","BE","CB","IC","CG","GA","DB","EH","DG"]
["EF","DE","EB","BC","EG","IA","FB","GH","FG","ED","DC","EI","BA","FD","IH","FI","GF","FE"]
["GD","FC","GI","DA","HD","BH","HI","IF","HE","GB","FA","HF","DH","HB","BF","HG","ID","HC"]
["IB","HA","JH","FH","JF","DF","JD","BD","JB","JI","HJ","JG","FJ","JE","DJ","JC","BJ","JA"]
[1,2,3,4,5,6,7,8,9,10,11,12,13,14,15,16,17,18]
["RFx",null,null,null,null,null,null,null,null,2,3,4,5,6,7,8,9,1]
["  o","  x","  o","  x","  o","  x","  o","  x","  o--","--o","  x","  o","  x","  o","  x","  o","  x--","--x","A",null,{"$f":"ClashCount('Other league dates'!G$8:G$25,$A401:$R401)","v":""},{"$f":"ClashCount('Other league dates'!H$8:H$25,$A401:$R401)","v":""},{"$f":"ClashCount('Other league dates'!I$8:I$25,$A401:$R401)","v":""}]
["  x","  o","  x","  o","  x","  o","  x","  o","  x--","--x","  o","  x","  o","  x","  o","  x","  o--","--o","B",null,{"$f":"ClashCount('Other league dates'!G$8:G$25,$A402:$R402)","v":""},{"$f":"ClashCount('Other league dates'!H$8:H$25,$A402:$R402)","v":""},{"$f":"ClashCount('Other league dates'!I$8:I$25,$A402:$R402)","v":""}]
["  o","  x","  o","  x","  o","  x","  o--","--o","  x","  o","  x","  o","  x","  o","  x--","--x","  o","  x","C",null,{"$f":"ClashCount('Other league dates'!G$8:G$25,$A403:$R403)","v":""},{"$f":"ClashCount('Other league dates'!H$8:H$25,$A403:$R403)","v":""},{"$f":"ClashCount('Other league dates'!I$8:I$25,$A403:$R403)","v":""}]
["  x","  o","  x","  o","  x","  o","  x--","--x","  o","  x","  o","  x","  o","  x","  o--","--o","  x","  o","D",null,{"$f":"ClashCount('Other league dates'!G$8:G$25,$A404:$R404)","v":""},{"$f":"ClashCount('Other league dates'!H$8:H$25,$A404:$R404)","v":""},{"$f":"ClashCount('Other league dates'!I$8:I$25,$A404:$R404)","v":""}]
["  o","  x","  o","  x","  o--","--o","  x","  o","  x","  o","  x","  o","  x--","--x","  o","  x","  o","  x","E",null,{"$f":"ClashCount('Other league dates'!G$8:G$25,$A405:$R405)","v":""},{"$f":"ClashCount('Other league dates'!H$8:H$25,$A405:$R405)","v":""},{"$f":"ClashCount('Other league dates'!I$8:I$25,$A405:$R405)","v":""}]
["  x","  o","  x","  o","  x--","--x","  o","  x","  o","  x","  o","  x","  o--","--o","  x","  o","  x","  o","F",null,{"$f":"ClashCount('Other league dates'!G$8:G$25,$A406:$R406)","v":""},{"$f":"ClashCount('Other league dates'!H$8:H$25,$A406:$R406)","v":""},{"$f":"ClashCount('Other league dates'!I$8:I$25,$A406:$R406)","v":""}]
["  o","  x","  o--","--o","  x","  o","  x","  o","  x","  o","  x--","--x","  o","  x","  o","  x","  o","  x","G",null,{"$f":"ClashCount('Other league dates'!G$8:G$25,$A407:$R407)","v":""},{"$f":"ClashCount('Other league dates'!H$8:H$25,$A407:$R407)","v":""},{"$f":"ClashCount('Other league dates'!I$8:I$25,$A407:$R407)","v":""}]
["  x","  o","  x--","--x","  o","  x","  o","  x","  o","  x","  o--","--o","  x","  o","  x","  o","  x","  o","H",null,{"$f":"ClashCount('Other league dates'!G$8:G$25,$A408:$R408)","v":""},{"$f":"ClashCount('Other league dates'!H$8:H$25,$A408:$R408)","v":""},{"$f":"ClashCount('Other league dates'!I$8:I$25,$A408:$R408)","v":""}]
["  o--","--o","  x","  o","  x","  o","  x","  o","  x--","--x","  o","  x","  o","  x","  o","  x","  o","  x","I",null,{"$f":"ClashCount('Other league dates'!G$8:G$25,$A409:$R409)","v":""},{"$f":"ClashCount('Other league dates'!H$8:H$25,$A409:$R409)","v":""},{"$f":"ClashCount('Other league dates'!I$8:I$25,$A409:$R409)","v":""}]
["  x--","--x","  o","  x","  o","  x","  o","  x","  o--","--o","  x","  o","  x","  o","  x","  o","  x","  o","J",null,{"$f":"ClashCount('Other league dates'!G$8:G$25,$A410:$R410)","v":""},{"$f":"ClashCount('Other league dates'!H$8:H$25,$A410:$R410)","v":""},{"$f":"ClashCount('Other league dates'!I$8:I$25,$A410:$R410)","v":""}]
[]
[]
[]
["10rraa"]
[]
["AH","BJ","AF","BG","AD","BH","AI","BE","AG","BF","AE","BC","AC","BD","AB","BA","BI","AJ"]
["CF","DE","CD","DC","CI","DA","CG","DJ","CE","DH","CB","DF","DB","CA","DI","CJ","DG","CH"]
["ED","FC","EI","FA","EG","FJ","EB","FH","FB","EC","FD","EA","FI","EJ","FG","EH","FE","EF"]
["GI","HA","GB","HJ","HB","GE","HF","GC","HD","GA","HI","GJ","HG","GH","HE","GF","HC","GD"]
["JB","IG","JH","IE","JF","IC","JD","IA","JI","IJ","JG","IH","JE","IF","JC","ID","JA","IB"]
[1,2,3,4,5,6,7,8,9,10,11,12,13,14,15,16,17,18]
["RFx",1,null,3,null,5,null,7,null,9,null,11,null,13,null,15,null,17]
["  o","  x","  o","  x","  o","  x","  o","  x","  o","  x","  o","  x","  o","  x","  o","  x--","--x","  o","A",null,{"$f":"ClashCount('Other league dates'!G$8:G$25,$A423:$R423)","v":""},{"$f":"ClashCount('Other league dates'!H$8:H$25,$A423:$R423)","v":""},{"$f":"ClashCount('Other league dates'!I$8:I$25,$A423:$R423)","v":""}]
["  x","  o","  x","  o","  x","  o","  x","  o","  x","  o","  x","  o","  x","  o","  x","  o--","--o","  x","B",null,{"$f":"ClashCount('Other league dates'!G$8:G$25,$A424:$R424)","v":""},{"$f":"ClashCount('Other league dates'!H$8:H$25,$A424:$R424)","v":""},{"$f":"ClashCount('Other league dates'!I$8:I$25,$A424:$R424)","v":""}]
["  o","  x","  o","  x","  o","  x","  o","  x","  o","  x","  o","  x--","--x","  o","  x","  o","  x","  o","C",null,{"$f":"ClashCount('Other league dates'!G$8:G$25,$A425:$R425)","v":""},{"$f":"ClashCount('Other league dates'!H$8:H$25,$A425:$R425)","v":""},{"$f":"ClashCount('Other league dates'!I$8:I$25,$A425:$R425)","v":""}]
["  x","  o","  x","  o","  x","  o","  x","  o","  x","  o","  x","  o--","--o","  x","  o","  x","  o","  x","D",null,{"$f":"ClashCount('Other league dates'!G$8:G$25,$A426:$R426)","v":""},{"$f":"ClashCount('Other league dates'!H$8:H$25,$A426:$R426)","v":""},{"$f":"ClashCount('Other league dates'!I$8:I$25,$A426:$R426)","v":""}]
["  o","  x","  o","  x","  o","  x","  o","  x--","--x","  o","  x","  o","  x","  o","  x","  o","  x","  o","E",null,{"$f":"ClashCount('Other league dates'!G$8:G$25,$A427:$R427)","v":""},{"$f":"ClashCount('Other league dates'!H$8:H$25,$A427:$R427)","v":""},{"$f":"ClashCount('Other league dates'!I$8:I$25,$A427:$R427)","v":""}]
["  x","  o","  x","  o","  x","  o","  x","  o--","--o","  x","  o","  x","  o","  x","  o","  x","  o","  x","F",null,{"$f":"ClashCount('Other league dates'!G$8:G$25,$A428:$R428)","v":""},{"$f":"ClashCount('Other league dates'!H$8:H$25,$A428:$R428)","v":""},{"$f":"ClashCount('Other league dates'!I$8:I$25,$A428:$R428)","v":""}]
["  o","  x","  o","  x--","--x","  o","  x","  o","  x","  o","  x","  o","  x","  o","  x","  o","  x","  o","G",null,{"$f":"ClashCount('Other league dates'!G$8:G$25,$A429:$R429)","v":""},{"$f":"ClashCount('Other league dates'!H$8:H$25,$A429:$R429)","v":""},{"$f":"ClashCount('Other league dates'!I$8:I$25,$A429:$R429)","v":""}]
["  x","  o","  x","  o--","--o","  x","  o","  x","  o","  x","  o","  x","  o","  x","  o","  x","  o","  x","H",null,{"$f":"ClashCount('Other league dates'!G$8:G$25,$A430:$R430)","v":""},{"$f":"ClashCount('Other league dates'!H$8:H$25,$A430:$R430)","v":""},{"$f":"ClashCount('Other league dates'!I$8:I$25,$A430:$R430)","v":""}]
["  x","  o","  x","  o","  x","  o","  x","  o","  x","  o","  x","  o","  x","  o","  x","  o","  x","  o","I",null,{"$f":"ClashCount('Other league dates'!G$8:G$25,$A431:$R431)","v":""},{"$f":"ClashCount('Other league dates'!H$8:H$25,$A431:$R431)","v":""},{"$f":"ClashCount('Other league dates'!I$8:I$25,$A431:$R431)","v":""}]
["  o","  x","  o","  x","  o","  x","  o","  x","  o","  x","  o","  x","  o","  x","  o","  x","  o","  x","J",null,{"$f":"ClashCount('Other league dates'!G$8:G$25,$A432:$R432)","v":""},{"$f":"ClashCount('Other league dates'!H$8:H$25,$A432:$R432)","v":""},{"$f":"ClashCount('Other league dates'!I$8:I$25,$A432:$R432)","v":""}]
[]
[]
[]
["10rrba"]
[]
["EB","BE","AG","GA","JB","BJ","AE","EA","FB","BF","AC","CA","AB","BA","BI","IB","IA","AI"]
["CD","DC","CB","BC","HD","DH","CG","GC","AD","DA","DB","BD","JC","CJ","DG","GD","FC","CF"]
["JF","FJ","EI","IE","AF","FA","FD","DF","CE","EC","FI","IF","HE","EH","FE","EF","DE","ED"]
["AH","HA","HF","FH","EG","GE","HB","BH","JG","GJ","HG","GH","FG","GF","HC","CH","BG","GB"]
["GI","IG","JD","DJ","CI","IC","JI","IJ","HI","IH","JE","EJ","DI","ID","JA","AJ","HJ","JH"]
[1,2,3,4,5,6,7,8,9,10,11,12,13,14,15,16,17,18]
["RFx",1,null,3,null,5,null,7,null,9,null,11,null,13,null,15,null,17]
["  o","  x","  o","  x","  o","  x","  o","  x","  o","  x","  o","  x","  o","  x--","--x","  o","  x","  o","A",null,{"$f":"ClashCount('Other league dates'!G$8:G$25,$A445:$R445)","v":""},{"$f":"ClashCount('Other league dates'!H$8:H$25,$A445:$R445)","v":""},{"$f":"ClashCount('Other league dates'!I$8:I$25,$A445:$R445)","v":""}]
["  x","  o","  x","  o","  x","  o","  x","  o","  x","  o","  x","  o","  x","  o--","--o","  x","  o","  x","B",null,{"$f":"ClashCount('Other league dates'!G$8:G$25,$A446:$R446)","v":""},{"$f":"ClashCount('Other league dates'!H$8:H$25,$A446:$R446)","v":""},{"$f":"ClashCount('Other league dates'!I$8:I$25,$A446:$R446)","v":""}]
["  o","  x","  o","  x","  o","  x","  o","  x","  o","  x--","--x","  o","  x","  o","  x","  o","  x","  o","C",null,{"$f":"ClashCount('Other league dates'!G$8:G$25,$A447:$R447)","v":""},{"$f":"ClashCount('Other league dates'!H$8:H$25,$A447:$R447)","v":""},{"$f":"ClashCount('Other league dates'!I$8:I$25,$A447:$R447)","v":""}]
["  x","  o","  x","  o","  x","  o","  x","  o","  x","  o--","--o","  x","  o","  x","  o","  x","  o","  x","D",null,{"$f":"ClashCount('Other league dates'!G$8:G$25,$A448:$R448)","v":""},{"$f":"ClashCount('Other league dates'!H$8:H$25,$A448:$R448)","v":""},{"$f":"ClashCount('Other league dates'!I$8:I$25,$A448:$R448)","v":""}]
["  o","  x","  o","  x","  o","  x--","--x","  o","  x","  o","  x","  o","  x","  o","  x","  o","  x","  o","E",null,{"$f":"ClashCount('Other league dates'!G$8:G$25,$A449:$R449)","v":""},{"$f":"ClashCount('Other league dates'!H$8:H$25,$A449:$R449)","v":""},{"$f":"ClashCount('Other league dates'!I$8:I$25,$A449:$R449)","v":""}]
["  x","  o","  x","  o","  x","  o--","--o","  x","  o","  x","  o","  x","  o","  x","  o","  x","  o","  x","F",null,{"$f":"ClashCount('Other league dates'!G$8:G$25,$A450:$R450)","v":""},{"$f":"ClashCount('Other league dates'!H$8:H$25,$A450:$R450)","v":""},{"$f":"ClashCount('Other league dates'!I$8:I$25,$A450:$R450)","v":""}]
["  o","  x--","--x","  o","  x","  o","  x","  o","  x","  o","  x","  o","  x","  o","  x","  o","  x","  o","G",null,{"$f":"ClashCount('Other league dates'!G$8:G$25,$A451:$R451)","v":""},{"$f":"ClashCount('Other league dates'!H$8:H$25,$A451:$R451)","v":""},{"$f":"ClashCount('Other league dates'!I$8:I$25,$A451:$R451)","v":""}]
["  x","  o--","--o","  x","  o","  x","  o","  x","  o","  x","  o","  x","  o","  x","  o","  x","  o","  x","H",null,{"$f":"ClashCount('Other league dates'!G$8:G$25,$A452:$R452)","v":""},{"$f":"ClashCount('Other league dates'!H$8:H$25,$A452:$R452)","v":""},{"$f":"ClashCount('Other league dates'!I$8:I$25,$A452:$R452)","v":""}]
["  x","  o","  x","  o","  x","  o","  x","  o","  x","  o","  x","  o","  x","  o","  x","  o--","--o","  x","I",null,{"$f":"ClashCount('Other league dates'!G$8:G$25,$A453:$R453)","v":""},{"$f":"ClashCount('Other league dates'!H$8:H$25,$A453:$R453)","v":""},{"$f":"ClashCount('Other league dates'!I$8:I$25,$A453:$R453)","v":""}]
["  o","  x","  o","  x","  o","  x","  o","  x","  o","  x","  o","  x","  o","  x","  o","  x--","--x","  o","J",null,{"$f":"ClashCount('Other league dates'!G$8:G$25,$A454:$R454)","v":""},{"$f":"ClashCount('Other league dates'!H$8:H$25,$A454:$R454)","v":""},{"$f":"ClashCount('Other league dates'!I$8:I$25,$A454:$R454)","v":""}]
[]
["Fit:","08rraa"]
[]
["10WNC"]
[]
["AJ","HA","AF","DA","AB","IA","AG","EA","AC","JA","AH","FA","AD","BA","AI","GA","AE","CA"]
["CH","FC","CD","BC","CI","GC","CE","CJ","JB","HC","CF","DC","CB","IC","CG","EC","JC","BJ"]
["EF","DE","EB","IE","EG","EJ","JD","BD","HE","FE","ED","BE","EI","GE","JE","DJ","DB","EH"]
["GD","BG","GI","GJ","HD","BH","FB","GH","FG","DG","GB","IG","JG","DH","HB","BF","HG","GF"]
["IB","JI","JH","FH","JF","DF","HI","IF","DI","BI","IJ","HJ","HF","FJ","FD","IH","FI","ID"]
[1,2,3,4,5,6,7,8,9,10,11,12,13,14,15,16,17,18]
[null,null,null,null,null,null,null,null,null,1,2,3,4,5,6,7,8,9,null,"Numbers on Warrington/N.Cheshire web site"]
["  o","  x","  o","  x","  o","  x","  o","  x","  o","  x","  o","  x","  o","  x","  o","  x","  o","  x","A",1,{"$f":"ClashCount('Other league dates'!G$8:G$25,$A467:$R467)","v":""},{"$f":"ClashCount('Other league dates'!H$8:H$25,$A467:$R467)","v":""},{"$f":"ClashCount('Other league dates'!I$8:I$25,$A467:$R467)","v":""}]
["  x","  o","  x","  o","  x","  o","  x","  o","  x","  o","  x","  o","  x","  o","  x","  o","  x","  o","B",6,{"$f":"ClashCount('Other league dates'!G$8:G$25,$A468:$R468)","v":""},{"$f":"ClashCount('Other league dates'!H$8:H$25,$A468:$R468)","v":""},{"$f":"ClashCount('Other league dates'!I$8:I$25,$A468:$R468)","v":""}]
["  o","  x","  o","  x","  o","  x","  o--","--o","  x--","--x","  o","  x","  o","  x","  o","  x--","--x","  o","C",2,{"$f":"ClashCount('Other league dates'!G$8:G$25,$A469:$R469)","v":""},{"$f":"ClashCount('Other league dates'!H$8:H$25,$A469:$R469)","v":""},{"$f":"ClashCount('Other league dates'!I$8:I$25,$A469:$R469)","v":""}]
["  x","  o","  x","  o","  x","  o","  x--","--x","  o--","--o","  x","  o","  x","  o","  x","  o--","--o","  x","D",7,{"$f":"ClashCount('Other league dates'!G$8:G$25,$A470:$R470)","v":""},{"$f":"ClashCount('Other league dates'!H$8:H$25,$A470:$R470)","v":""},{"$f":"ClashCount('Other league dates'!I$8:I$25,$A470:$R470)","v":""}]
["  o","  x","  o","  x","  o--","--o","  x","  o","  x--","--x","  o","  x","  o","  x--","--x","  o","  x","  o","E",3,{"$f":"ClashCount('Other league dates'!G$8:G$25,$A471:$R471)","v":""},{"$f":"ClashCount('Other league dates'!H$8:H$25,$A471:$R471)","v":""},{"$f":"ClashCount('Other league dates'!I$8:I$25,$A471:$R471)","v":""}]
["  x","  o","  x","  o","  x--","--x","  o","  x","  o--","--o","  x","  o","  x","  o--","--o","  x","  o","  x","F",8,{"$f":"ClashCount('Other league dates'!G$8:G$25,$A472:$R472)","v":""},{"$f":"ClashCount('Other league dates'!H$8:H$25,$A472:$R472)","v":""},{"$f":"ClashCount('Other league dates'!I$8:I$25,$A472:$R472)","v":""}]
["  o","  x","  o--","--o","  x","  o","  x","  o","  x--","--x","  o","  x--","--x","  o","  x","  o","  x","  o","G",4,{"$f":"ClashCount('Other league dates'!G$8:G$25,$A473:$R473)","v":""},{"$f":"ClashCount('Other league dates'!H$8:H$25,$A473:$R473)","v":""},{"$f":"ClashCount('Other league dates'!I$8:I$25,$A473:$R473)","v":""}]
["  x","  o","  x--","--x","  o","  x","  o","  x","  o--","--o","  x","  o--","--o","  x","  o","  x","  o","  x","H",9,{"$f":"ClashCount('Other league dates'!G$8:G$25,$A474:$R474)","v":""},{"$f":"ClashCount('Other league dates'!H$8:H$25,$A474:$R474)","v":""},{"$f":"ClashCount('Other league dates'!I$8:I$25,$A474:$R474)","v":""}]
["  o","  x--","--x","  o","  x","  o","  x","  o","  x--","--x","  o--","--o","  x","  o","  x","  o","  x","  o","I",5,{"$f":"ClashCount('Other league dates'!G$8:G$25,$A475:$R475)","v":""},{"$f":"ClashCount('Other league dates'!H$8:H$25,$A475:$R475)","v":""},{"$f":"ClashCount('Other league dates'!I$8:I$25,$A475:$R475)","v":""}]
["  x","  o--","--o","  x","  o","  x","  o","  x","  o--","--o","  x--","--x","  o","  x","  o","  x","  o","  x","J",10,{"$f":"ClashCount('Other league dates'!G$8:G$25,$A476:$R476)","v":""},{"$f":"ClashCount('Other league dates'!H$8:H$25,$A476:$R476)","v":""},{"$f":"ClashCount('Other league dates'!I$8:I$25,$A476:$R476)","v":""}]
[]
["Fit:","08WNC"]
[]
["10Berger"]
[]
["IB","BJ","GB","BH","EB","BF","CB","BD","AB","BA","DB","BC","FB","BE","HB","BG","JB","BI"]
["GD","HA","EI","FJ","CG","DH","AE","IF","JC","CJ","FI","EA","HD","GC","JF","IE","AH","DG"]
["EF","FC","CD","DA","AI","IJ","JG","GH","HE","EH","HG","GJ","JI","IA","AD","DC","CF","FE"]
["CH","DE","AF","IC","JD","GA","HI","EJ","FG","GF","JE","IH","AG","DJ","CI","FA","ED","HC"]
["AJ","IG","JH","GE","HF","EC","FD","CA","DI","ID","AC","DF","CE","FH","EG","HJ","GI","JA"]
[1,2,3,4,5,6,7,8,9,10,11,12,13,14,15,16,17,18]
["RFx",null,null,null,null,null,null,null,null,9,8,7,6,5,4,3,2,1]
["  o","  x","  o","  x","  o","  x","  o","  x","  o","  x","  o","  x","  o","  x","  o","  x","  o","  x","A",null,{"$f":"ClashCount('Other league dates'!G$8:G$25,$A489:$R489)","v":""},{"$f":"ClashCount('Other league dates'!H$8:H$25,$A489:$R489)","v":""},{"$f":"ClashCount('Other league dates'!I$8:I$25,$A489:$R489)","v":""}]
["  x","  o","  x","  o","  x","  o","  x","  o","  x","  o","  x","  o","  x","  o","  x","  o","  x","  o","B",null,{"$f":"ClashCount('Other league dates'!G$8:G$25,$A490:$R490)","v":""},{"$f":"ClashCount('Other league dates'!H$8:H$25,$A490:$R490)","v":""},{"$f":"ClashCount('Other league dates'!I$8:I$25,$A490:$R490)","v":""}]
["  o","  x","  o","  x","  o","  x","  o--","--o","  x","  o","  x--","--x","  o","  x","  o","  x","  o","  x","C",null,{"$f":"ClashCount('Other league dates'!G$8:G$25,$A491:$R491)","v":""},{"$f":"ClashCount('Other league dates'!H$8:H$25,$A491:$R491)","v":""},{"$f":"ClashCount('Other league dates'!I$8:I$25,$A491:$R491)","v":""}]
["  x","  o","  x","  o","  x","  o","  x--","--x","  o","  x","  o--","--o","  x","  o","  x","  o","  x","  o","D",null,{"$f":"ClashCount('Other league dates'!G$8:G$25,$A492:$R492)","v":""},{"$f":"ClashCount('Other league dates'!H$8:H$25,$A492:$R492)","v":""},{"$f":"ClashCount('Other league dates'!I$8:I$25,$A492:$R492)","v":""}]
["  o","  x","  o","  x","  o--","--o","  x","  o","  x","  o","  x","  o","  x--","--x","  o","  x","  o","  x","E",null,{"$f":"ClashCount('Other league dates'!G$8:G$25,$A493:$R493)","v":""},{"$f":"ClashCount('Other league dates'!H$8:H$25,$A493:$R493)","v":""},{"$f":"ClashCount('Other league dates'!I$8:I$25,$A493:$R493)","v":""}]
["  x","  o","  x","  o","  x--","--x","  o","  x","  o","  x","  o","  x","  o--","--o","  x","  o","  x","  o","F",null,{"$f":"ClashCount('Other league dates'!G$8:G$25,$A494:$R494)","v":""},{"$f":"ClashCount('Other league dates'!H$8:H$25,$A494:$R494)","v":""},{"$f":"ClashCount('Other league dates'!I$8:I$25,$A494:$R494)","v":""}]
["  o","  x","  o--","--o","  x","  o","  x","  o","  x","  o","  x","  o","  x","  o","  x--","--x","  o","  x","G",null,{"$f":"ClashCount('Other league dates'!G$8:G$25,$A495:$R495)","v":""},{"$f":"ClashCount('Other league dates'!H$8:H$25,$A495:$R495)","v":""},{"$f":"ClashCount('Other league dates'!I$8:I$25,$A495:$R495)","v":""}]
["  x","  o","  x--","--x","  o","  x","  o","  x","  o","  x","  o","  x","  o","  x","  o--","--o","  x","  o","H",null,{"$f":"ClashCount('Other league dates'!G$8:G$25,$A496:$R496)","v":""},{"$f":"ClashCount('Other league dates'!H$8:H$25,$A496:$R496)","v":""},{"$f":"ClashCount('Other league dates'!I$8:I$25,$A496:$R496)","v":""}]
["  o--","--o","  x","  o","  x","  o","  x","  o","  x","  o","  x","  o","  x","  o","  x","  o","  x--","--x","I",null,{"$f":"ClashCount('Other league dates'!G$8:G$25,$A497:$R497)","v":""},{"$f":"ClashCount('Other league dates'!H$8:H$25,$A497:$R497)","v":""},{"$f":"ClashCount('Other league dates'!I$8:I$25,$A497:$R497)","v":""}]
["  x--","--x","  o","  x","  o","  x","  o","  x","  o","  x","  o","  x","  o","  x","  o","  x","  o--","--o","J",null,{"$f":"ClashCount('Other league dates'!G$8:G$25,$A498:$R498)","v":""},{"$f":"ClashCount('Other league dates'!H$8:H$25,$A498:$R498)","v":""},{"$f":"ClashCount('Other league dates'!I$8:I$25,$A498:$R498)","v":""}]
[]
["Fit:","08Berger",null,"12Berger",null,"14Berger",null,"16Berger"]
[]
["12aaaa"]
[]
["AJ","BI","AF","BG","AK","BE","AG","BC","AC","BA","BK","BL","AH","BJ","AD","BH","AI","BF","AE","BD","AB","AL"]
["CH","DE","CD","DA","CI","DJ","CE","DF","DB","CL","DI","DG","CF","DC","CK","DL","CG","DH","CB","CA","DK","CJ"]
["EF","FC","EK","FL","EG","FH","FB","EA","FK","EJ","FG","FE","ED","FA","EI","FJ","EB","EC","FD","EL","FI","EH"]
["GD","HA","GI","HJ","HB","GC","HD","GL","HI","GH","HE","HC","GK","HL","GB","GE","HF","GA","HK","GJ","HG","GF"]
["IK","JL","JB","IE","JF","IA","JK","IJ","JG","IF","JC","JA","IB","IG","JH","IC","JD","IL","JI","IH","JE","ID"]
["LB","KG","LH","KC","LD","KL","LI","KH","LE","KD","LA","KI","LJ","KE","LF","KA","LK","KJ","LG","KF","LC","KB"]
[1,2,3,4,5,6,7,8,9,10,11,12,13,14,15,16,17,18,19,20,21,22]
["RFx",null,null,null,null,null,null,null,null,null,null,1,2,3,4,5,6,7,8,9,10,11]
["  o","  x","  o","  x","  o","  x","  o","  x","  o","  x--","--x--","--x","  o","  x","  o","  x","  o","  x","  o","  x","  o--","--o","A",null,{"$f":"ClashCount('Other league dates'!G$6:G$27,$A512:$V512)","v":""},{"$f":"ClashCount('Other league dates'!H$6:H$27,$A512:$V512)","v":""},{"$f":"ClashCount('Other league dates'!I$6:I$27,$A512:$V512)","v":""}]
["  x","  o","  x","  o","  x","  o","  x","  o","  x","  o--","--o--","--o","  x","  o","  x","  o","  x","  o","  x","  o","  x--","--x","B",null,{"$f":"ClashCount('Other league dates'!G$6:G$27,$A513:$V513)","v":""},{"$f":"ClashCount('Other league dates'!H$6:H$27,$A513:$V513)","v":""},{"$f":"ClashCount('Other league dates'!I$6:I$27,$A513:$V513)","v":""}]
["  o","  x","  o","  x","  o","  x","  o","  x--","--x","  o","  x--","--x","  o","  x","  o","  x","  o","  x","  o--","--o","  x","  o","C",null,{"$f":"ClashCount('Other league dates'!G$6:G$27,$A514:$V514)","v":""},{"$f":"ClashCount('Other league dates'!H$6:H$27,$A514:$V514)","v":""},{"$f":"ClashCount('Other league dates'!I$6:I$27,$A514:$V514)","v":""}]
["  x","  o","  x","  o","  x","  o","  x","  o--","--o","  x","  o--","--o","  x","  o","  x","  o","  x","  o","  x--","--x","  o","  x","D",null,{"$f":"ClashCount('Other league dates'!G$6:G$27,$A515:$V515)","v":""},{"$f":"ClashCount('Other league dates'!H$6:H$27,$A515:$V515)","v":""},{"$f":"ClashCount('Other league dates'!I$6:I$27,$A515:$V515)","v":""}]
["  o","  x","  o","  x","  o","  x--","--x","  o","  x","  o","  x--","--x","  o","  x","  o","  x","  o--","--o","  x","  o","  x","  o","E",null,{"$f":"ClashCount('Other league dates'!G$6:G$27,$A516:$V516)","v":""},{"$f":"ClashCount('Other league dates'!H$6:H$27,$A516:$V516)","v":""},{"$f":"ClashCount('Other league dates'!I$6:I$27,$A516:$V516)","v":""}]
["  x","  o","  x","  o","  x","  o--","--o","  x","  o","  x","  o--","--o","  x","  o","  x","  o","  x--","--x","  o","  x","  o","  x","F",null,{"$f":"ClashCount('Other league dates'!G$6:G$27,$A517:$V517)","v":""},{"$f":"ClashCount('Other league dates'!H$6:H$27,$A517:$V517)","v":""},{"$f":"ClashCount('Other league dates'!I$6:I$27,$A517:$V517)","v":""}]
["  o","  x","  o","  x--","--x","  o","  x","  o","  x","  o","  x--","--x","  o","  x","  o--","--o","  x","  o","  x","  o","  x","  o","G",null,{"$f":"ClashCount('Other league dates'!G$6:G$27,$A518:$V518)","v":""},{"$f":"ClashCount('Other league dates'!H$6:H$27,$A518:$V518)","v":""},{"$f":"ClashCount('Other league dates'!I$6:I$27,$A518:$V518)","v":""}]
["  x","  o","  x","  o--","--o","  x","  o","  x","  o","  x","  o--","--o","  x","  o","  x--","--x","  o","  x","  o","  x","  o","  x","H",null,{"$f":"ClashCount('Other league dates'!G$6:G$27,$A519:$V519)","v":""},{"$f":"ClashCount('Other league dates'!H$6:H$27,$A519:$V519)","v":""},{"$f":"ClashCount('Other league dates'!I$6:I$27,$A519:$V519)","v":""}]
["  o","  x--","--x","  o","  x","  o","  x","  o","  x","  o","  x--","--x","  o--","--o","  x","  o","  x","  o","  x","  o","  x","  o","I",null,{"$f":"ClashCount('Other league dates'!G$6:G$27,$A520:$V520)","v":""},{"$f":"ClashCount('Other league dates'!H$6:H$27,$A520:$V520)","v":""},{"$f":"ClashCount('Other league dates'!I$6:I$27,$A520:$V520)","v":""}]
["  x","  o--","--o","  x","  o","  x","  o","  x","  o","  x","  o--","--o","  x--","--x","  o","  x","  o","  x","  o","  x","  o","  x","J",null,{"$f":"ClashCount('Other league dates'!G$6:G$27,$A521:$V521)","v":""},{"$f":"ClashCount('Other league dates'!H$6:H$27,$A521:$V521)","v":""},{"$f":"ClashCount('Other league dates'!I$6:I$27,$A521:$V521)","v":""}]
["  x","  o","  x","  o","  x","  o","  x","  o","  x","  o","  x","  o","  x","  o","  x","  o","  x","  o","  x","  o","  x","  o","K",null,{"$f":"ClashCount('Other league dates'!G$6:G$27,$A522:$V522)","v":""},{"$f":"ClashCount('Other league dates'!H$6:H$27,$A522:$V522)","v":""},{"$f":"ClashCount('Other league dates'!I$6:I$27,$A522:$V522)","v":""}]
["  o","  x","  o","  x","  o","  x","  o","  x","  o","  x","  o","  x","  o","  x","  o","  x","  o","  x","  o","  x","  o","  x","L",null,{"$f":"ClashCount('Other league dates'!G$6:G$27,$A523:$V523)","v":""},{"$f":"ClashCount('Other league dates'!H$6:H$27,$A523:$V523)","v":""},{"$f":"ClashCount('Other league dates'!I$6:I$27,$A523:$V523)","v":""}]
[]
["Fit:","12asm",null,"14acaa"]
[]
["12acaa"]
[]
["AJ","BE","AK","BG","AB","BH","AI","BJ","AC","BF","BK","BC","AD","BA","AF","BL","AE","BD","AG","AL","BI","AH"]
["CH","DG","CB","DA","CD","DJ","CE","DH","DB","CL","DI","DL","CK","DC","CI","DF","CG","CA","DK","CJ","DE","CF"]
["ED","FC","EF","FJ","EG","FA","FD","EA","FK","EJ","FG","FE","EI","FH","EK","EC","FI","EL","FB","EH","FL","EB"]
["GK","HA","GI","HL","HF","GL","HK","GC","HG","GA","HE","HJ","GB","GE","HB","GJ","HD","GH","HI","GF","HC","GD"]
["IB","JL","JH","IE","JK","IC","JG","IF","JI","IH","JC","IG","JF","IL","JD","IA","JB","IJ","JE","ID","JA","IK"]
["LF","KI","LD","KC","LI","KE","LB","KL","LE","KD","LA","KA","LH","KJ","LG","KH","LK","KF","LC","KB","KG","LJ"]
[1,2,3,4,5,6,7,8,9,10,11,12,13,14,15,16,17,18,19,20,21,22]
["RFx",null,null,null,null,null,null,null,null,null,null,3,4,5,6,7,8,9,10,11,1,2]
["  o","  x","  o","  x","  o","  x","  o","  x","  o","  x--","--x--","--x","  o","  x","  o","  x","  o","  x","  o--","--o","  x","  o","A",null,{"$f":"ClashCount('Other league dates'!G$6:G$27,$A537:$V537)","v":""},{"$f":"ClashCount('Other league dates'!H$6:H$27,$A537:$V537)","v":""},{"$f":"ClashCount('Other league dates'!I$6:I$27,$A537:$V537)","v":""}]
["  x","  o","  x","  o","  x","  o","  x","  o","  x","  o--","--o--","--o","  x","  o","  x","  o","  x","  o","  x--","--x","  o","  x","B",null,{"$f":"ClashCount('Other league dates'!G$6:G$27,$A538:$V538)","v":""},{"$f":"ClashCount('Other league dates'!H$6:H$27,$A538:$V538)","v":""},{"$f":"ClashCount('Other league dates'!I$6:I$27,$A538:$V538)","v":""}]
["  o","  x","  o","  x","  o","  x","  o","  x--","--x","  o","  x--","--x","  o","  x","  o","  x","  o--","--o","  x","  o","  x","  o","C",null,{"$f":"ClashCount('Other league dates'!G$6:G$27,$A539:$V539)","v":""},{"$f":"ClashCount('Other league dates'!H$6:H$27,$A539:$V539)","v":""},{"$f":"ClashCount('Other league dates'!I$6:I$27,$A539:$V539)","v":""}]
["  x","  o","  x","  o","  x","  o","  x","  o--","--o","  x","  o--","--o","  x","  o","  x","  o","  x--","--x","  o","  x","  o","  x","D",null,{"$f":"ClashCount('Other league dates'!G$6:G$27,$A540:$V540)","v":""},{"$f":"ClashCount('Other league dates'!H$6:H$27,$A540:$V540)","v":""},{"$f":"ClashCount('Other league dates'!I$6:I$27,$A540:$V540)","v":""}]
["  o","  x","  o","  x","  o","  x--","--x","  o","  x","  o","  x--","--x","  o","  x","  o--","--o","  x","  o","  x","  o","  x","  o","E",null,{"$f":"ClashCount('Other league dates'!G$6:G$27,$A541:$V541)","v":""},{"$f":"ClashCount('Other league dates'!H$6:H$27,$A541:$V541)","v":""},{"$f":"ClashCount('Other league dates'!I$6:I$27,$A541:$V541)","v":""}]
["  x","  o","  x","  o","  x","  o--","--o","  x","  o","  x","  o--","--o","  x","  o","  x--","--x","  o","  x","  o","  x","  o","  x","F",null,{"$f":"ClashCount('Other league dates'!G$6:G$27,$A542:$V542)","v":""},{"$f":"ClashCount('Other league dates'!H$6:H$27,$A542:$V542)","v":""},{"$f":"ClashCount('Other league dates'!I$6:I$27,$A542:$V542)","v":""}]
["  o","  x","  o","  x--","--x","  o","  x","  o","  x","  o","  x--","--x","  o--","--o","  x","  o","  x","  o","  x","  o","  x","  o","G",null,{"$f":"ClashCount('Other league dates'!G$6:G$27,$A543:$V543)","v":""},{"$f":"ClashCount('Other league dates'!H$6:H$27,$A543:$V543)","v":""},{"$f":"ClashCount('Other league dates'!I$6:I$27,$A543:$V543)","v":""}]
["  x","  o","  x","  o--","--o","  x","  o","  x","  o","  x","  o--","--o","  x--","--x","  o","  x","  o","  x","  o","  x","  o","  x","H",null,{"$f":"ClashCount('Other league dates'!G$6:G$27,$A544:$V544)","v":""},{"$f":"ClashCount('Other league dates'!H$6:H$27,$A544:$V544)","v":""},{"$f":"ClashCount('Other league dates'!I$6:I$27,$A544:$V544)","v":""}]
["  o","  x--","--x","  o","  x","  o","  x","  o","  x","  o","  x","  o","  x","  o","  x","  o","  x","  o","  x","  o","  x","  o","I",null,{"$f":"ClashCount('Other league dates'!G$6:G$27,$A545:$V545)","v":""},{"$f":"ClashCount('Other league dates'!H$6:H$27,$A545:$V545)","v":""},{"$f":"ClashCount('Other league dates'!I$6:I$27,$A545:$V545)","v":""}]
["  x","  o--","--o","  x","  o","  x","  o","  x","  o","  x","  o","  x","  o","  x","  o","  x","  o","  x","  o","  x","  o","  x","J",null,{"$f":"ClashCount('Other league dates'!G$6:G$27,$A546:$V546)","v":""},{"$f":"ClashCount('Other league dates'!H$6:H$27,$A546:$V546)","v":""},{"$f":"ClashCount('Other league dates'!I$6:I$27,$A546:$V546)","v":""}]
["  x","  o","  x","  o","  x","  o","  x","  o","  x","  o","  x","  o","  x","  o","  x","  o","  x","  o","  x","  o--","--o","  x","K",null,{"$f":"ClashCount('Other league dates'!G$6:G$27,$A547:$V547)","v":""},{"$f":"ClashCount('Other league dates'!H$6:H$27,$A547:$V547)","v":""},{"$f":"ClashCount('Other league dates'!I$6:I$27,$A547:$V547)","v":""}]
["  o","  x","  o","  x","  o","  x","  o","  x","  o","  x","  o","  x","  o","  x","  o","  x","  o","  x","  o","  x--","--x","  o","L",null,{"$f":"ClashCount('Other league dates'!G$6:G$27,$A548:$V548)","v":""},{"$f":"ClashCount('Other league dates'!H$6:H$27,$A548:$V548)","v":""},{"$f":"ClashCount('Other league dates'!I$6:I$27,$A548:$V548)","v":""}]
[]
["Fit:","10aaaa"]
[]
["12akaa"]
[]
["AJ","BE","AK","BG","AB","BH","AI","BJ","AC","BF","BK","AL","BI","AH","BC","AD","BA","AF","BL","AE","BD","AG"]
["CH","DG","CB","DA","CD","DJ","CE","DH","DB","CL","DI","CJ","DE","CF","DL","CK","DC","CI","DF","CG","CA","DK"]
["ED","FC","EF","FJ","EG","FA","FD","EA","FK","EJ","FG","EH","FL","EB","FE","EI","GE","EK","EC","FI","EL","FB"]
["GK","HA","GI","HL","HF","GL","HK","GC","HG","GA","HE","GF","HC","GD","HJ","GB","FH","HB","GJ","HD","GH","HI"]
["IB","JL","JH","IE","JK","IC","JG","IF","JI","IH","JC","ID","JA","IK","IG","JF","IL","JD","IA","JB","IJ","JE"]
["LF","KI","LD","KC","LI","KE","LB","KL","LE","KD","LA","KB","KG","LJ","KA","LH","KJ","LG","KH","LK","KF","LC"]
[1,2,3,4,5,6,7,8,9,10,11,12,13,14,15,16,17,18,19,20,21,22]
["RFx",null,null,null,null,null,null,null,null,null,null,11,1,2,3,4,5,6,7,8,9,10]
["  o","  x","  o","  x","  o","  x","  o","  x","  o","  x--","--x","  o","  x","  o","  x","  o","  x","  o","  x","  o","  x","  o","A",null,{"$f":"ClashCount('Other league dates'!G$6:G$27,$A562:$V562)","v":""},{"$f":"ClashCount('Other league dates'!H$6:H$27,$A562:$V562)","v":""},{"$f":"ClashCount('Other league dates'!I$6:I$27,$A562:$V562)","v":""}]
["  x","  o","  x","  o","  x","  o","  x","  o","  x","  o--","--o","  x","  o","  x","  o","  x","  o","  x","  o","  x","  o","  x","B",null,{"$f":"ClashCount('Other league dates'!G$6:G$27,$A563:$V563)","v":""},{"$f":"ClashCount('Other league dates'!H$6:H$27,$A563:$V563)","v":""},{"$f":"ClashCount('Other league dates'!I$6:I$27,$A563:$V563)","v":""}]
["  o","  x","  o","  x","  o","  x","  o","  x--","--x","  o","  x","  o","  x","  o","  x","  o","  x","  o","  x","  o--","--o","  x","C",null,{"$f":"ClashCount('Other league dates'!G$6:G$27,$A564:$V564)","v":""},{"$f":"ClashCount('Other league dates'!H$6:H$27,$A564:$V564)","v":""},{"$f":"ClashCount('Other league dates'!I$6:I$27,$A564:$V564)","v":""}]
["  x","  o","  x","  o","  x","  o","  x","  o--","--o","  x","  o","  x","  o","  x","  o","  x","  o","  x","  o","  x--","--x","  o","D",null,{"$f":"ClashCount('Other league dates'!G$6:G$27,$A565:$V565)","v":""},{"$f":"ClashCount('Other league dates'!H$6:H$27,$A565:$V565)","v":""},{"$f":"ClashCount('Other league dates'!I$6:I$27,$A565:$V565)","v":""}]
["  o","  x","  o","  x","  o","  x--","--x","  o","  x","  o","  x","  o","  x","  o","  x","  o","  x","  o--","--o","  x","  o","  x","E",null,{"$f":"ClashCount('Other league dates'!G$6:G$27,$A566:$V566)","v":""},{"$f":"ClashCount('Other league dates'!H$6:H$27,$A566:$V566)","v":""},{"$f":"ClashCount('Other league dates'!I$6:I$27,$A566:$V566)","v":""}]
["  x","  o","  x","  o","  x","  o--","--o","  x","  o","  x","  o","  x","  o","  x","  o","  x","  o","  x--","--x","  o","  x","  o","F",null,{"$f":"ClashCount('Other league dates'!G$6:G$27,$A567:$V567)","v":""},{"$f":"ClashCount('Other league dates'!H$6:H$27,$A567:$V567)","v":""},{"$f":"ClashCount('Other league dates'!I$6:I$27,$A567:$V567)","v":""}]
["  o","  x","  o","  x--","--x","  o","  x","  o","  x","  o","  x","  o","  x","  o","  x","  o--","--o","  x","  o","  x","  o","  x","G",null,{"$f":"ClashCount('Other league dates'!G$6:G$27,$A568:$V568)","v":""},{"$f":"ClashCount('Other league dates'!H$6:H$27,$A568:$V568)","v":""},{"$f":"ClashCount('Other league dates'!I$6:I$27,$A568:$V568)","v":""}]
["  x","  o","  x","  o--","--o","  x","  o","  x","  o","  x","  o","  x","  o","  x","  o","  x--","--x","  o","  x","  o","  x","  o","H",null,{"$f":"ClashCount('Other league dates'!G$6:G$27,$A569:$V569)","v":""},{"$f":"ClashCount('Other league dates'!H$6:H$27,$A569:$V569)","v":""},{"$f":"ClashCount('Other league dates'!I$6:I$27,$A569:$V569)","v":""}]
["  o","  x--","--x","  o","  x","  o","  x","  o","  x","  o","  x","  o","  x","  o--","--o","  x","  o","  x","  o","  x","  o","  x","I",null,{"$f":"ClashCount('Other league dates'!G$6:G$27,$A570:$V570)","v":""},{"$f":"ClashCount('Other league dates'!H$6:H$27,$A570:$V570)","v":""},{"$f":"ClashCount('Other league dates'!I$6:I$27,$A570:$V570)","v":""}]
["  x","  o--","--o","  x","  o","  x","  o","  x","  o","  x","  o","  x","  o","  x--","--x","  o","  x","  o","  x","  o","  x","  o","J",null,{"$f":"ClashCount('Other league dates'!G$6:G$27,$A571:$V571)","v":""},{"$f":"ClashCount('Other league dates'!H$6:H$27,$A571:$V571)","v":""},{"$f":"ClashCount('Other league dates'!I$6:I$27,$A571:$V571)","v":""}]
["  x","  o","  x","  o","  x","  o","  x","  o","  x","  o","  x","  o--","--o","  x","  o","  x","  o","  x","  o","  x","  o","  x","K",null,{"$f":"ClashCount('Other league dates'!G$6:G$27,$A572:$V572)","v":""},{"$f":"ClashCount('Other league dates'!H$6:H$27,$A572:$V572)","v":""},{"$f":"ClashCount('Other league dates'!I$6:I$27,$A572:$V572)","v":""}]
["  o","  x","  o","  x","  o","  x","  o","  x","  o","  x","  o","  x--","--x","  o","  x","  o","  x","  o","  x","  o","  x","  o","L",null,{"$f":"ClashCount('Other league dates'!G$6:G$27,$A573:$V573)","v":""},{"$f":"ClashCount('Other league dates'!H$6:H$27,$A573:$V573)","v":""},{"$f":"ClashCount('Other league dates'!I$6:I$27,$A573:$V573)","v":""}]
[]
["Fit:","12akaaz",null,"14amba",null,"14ambax"]
[]
["12akaaz"]
[]
["LK","BG","JK","BC","HK","BL","FK","BH","DK","BD","BK","AL","BI","LJ","BE","JH","BA","HF","BJ","FD","BF","DB"]
["AJ","DE","LH","DA","JF","DJ","HD","DF","FB","CL","DI","CJ","DG","AH","DC","LF","DL","JD","DH","HB","CA","FI"]
["CH","FC","AF","FL","LD","FH","JB","EA","HI","EJ","FG","EH","FE","CF","FA","AD","FJ","LB","EC","JI","EL","HG"]
["EF","HA","CD","HJ","AB","GC","LI","GL","JG","GH","HE","GF","HC","ED","HL","CB","GE","AI","GA","LG","GJ","JE"]
["GD","JL","EB","IE","CI","IA","AG","IJ","LE","IF","JC","ID","JA","GB","IG","EI","IC","CG","IL","AE","IH","LC"]
["IB","KI","GI","KG","EG","KE","CE","KC","AC","KA","LA","KB","KL","IK","KJ","GK","KH","EK","KF","CK","KD","AK"]
[1,2,3,4,5,6,7,8,9,10,11,12,13,14,15,16,17,18,19,20,21,22]
["RFx",null,null,null,null,null,null,null,null,null,null,11,1,2,3,4,5,6,7,8,9,10]
["  o","  x","  o","  x","  o","  x","  o","  x","  o","  x--","--x","  o","  x","  o","  x","  o","  x","  o","  x","  o","  x","  o","A",null,{"$f":"ClashCount('Other league dates'!G$6:G$27,$A587:$V587)","v":""},{"$f":"ClashCount('Other league dates'!H$6:H$27,$A587:$V587)","v":""},{"$f":"ClashCount('Other league dates'!I$6:I$27,$A587:$V587)","v":""}]
["  x","  o","  x","  o","  x","  o","  x","  o","  x","  o--","--o","  x","  o","  x","  o","  x","  o","  x","  o","  x","  o","  x","B",null,{"$f":"ClashCount('Other league dates'!G$6:G$27,$A588:$V588)","v":""},{"$f":"ClashCount('Other league dates'!H$6:H$27,$A588:$V588)","v":""},{"$f":"ClashCount('Other league dates'!I$6:I$27,$A588:$V588)","v":""}]
["  o","  x","  o","  x","  o","  x","  o","  x--","--x","  o","  x","  o","  x","  o","  x","  o","  x","  o","  x","  o--","--o","  x","C",null,{"$f":"ClashCount('Other league dates'!G$6:G$27,$A589:$V589)","v":""},{"$f":"ClashCount('Other league dates'!H$6:H$27,$A589:$V589)","v":""},{"$f":"ClashCount('Other league dates'!I$6:I$27,$A589:$V589)","v":""}]
["  x","  o","  x","  o","  x","  o","  x","  o--","--o","  x","  o","  x","  o","  x","  o","  x","  o","  x","  o","  x--","--x","  o","D",null,{"$f":"ClashCount('Other league dates'!G$6:G$27,$A590:$V590)","v":""},{"$f":"ClashCount('Other league dates'!H$6:H$27,$A590:$V590)","v":""},{"$f":"ClashCount('Other league dates'!I$6:I$27,$A590:$V590)","v":""}]
["  o","  x","  o","  x","  o","  x--","--x","  o","  x","  o","  x","  o","  x","  o","  x","  o","  x","  o--","--o","  x","  o","  x","E",null,{"$f":"ClashCount('Other league dates'!G$6:G$27,$A591:$V591)","v":""},{"$f":"ClashCount('Other league dates'!H$6:H$27,$A591:$V591)","v":""},{"$f":"ClashCount('Other league dates'!I$6:I$27,$A591:$V591)","v":""}]
["  x","  o","  x","  o","  x","  o--","--o","  x","  o","  x","  o","  x","  o","  x","  o","  x","  o","  x--","--x","  o","  x","  o","F",null,{"$f":"ClashCount('Other league dates'!G$6:G$27,$A592:$V592)","v":""},{"$f":"ClashCount('Other league dates'!H$6:H$27,$A592:$V592)","v":""},{"$f":"ClashCount('Other league dates'!I$6:I$27,$A592:$V592)","v":""}]
["  o","  x","  o","  x--","--x","  o","  x","  o","  x","  o","  x","  o","  x","  o","  x","  o--","--o","  x","  o","  x","  o","  x","G",null,{"$f":"ClashCount('Other league dates'!G$6:G$27,$A593:$V593)","v":""},{"$f":"ClashCount('Other league dates'!H$6:H$27,$A593:$V593)","v":""},{"$f":"ClashCount('Other league dates'!I$6:I$27,$A593:$V593)","v":""}]
["  x","  o","  x","  o--","--o","  x","  o","  x","  o","  x","  o","  x","  o","  x","  o","  x--","--x","  o","  x","  o","  x","  o","H",null,{"$f":"ClashCount('Other league dates'!G$6:G$27,$A594:$V594)","v":""},{"$f":"ClashCount('Other league dates'!H$6:H$27,$A594:$V594)","v":""},{"$f":"ClashCount('Other league dates'!I$6:I$27,$A594:$V594)","v":""}]
["  o","  x--","--x","  o","  x","  o","  x","  o","  x","  o","  x","  o","  x","  o--","--o","  x","  o","  x","  o","  x","  o","  x","I",null,{"$f":"ClashCount('Other league dates'!G$6:G$27,$A595:$V595)","v":""},{"$f":"ClashCount('Other league dates'!H$6:H$27,$A595:$V595)","v":""},{"$f":"ClashCount('Other league dates'!I$6:I$27,$A595:$V595)","v":""}]
["  x","  o--","--o","  x","  o","  x","  o","  x","  o","  x","  o","  x","  o","  x--","--x","  o","  x","  o","  x","  o","  x","  o","J",null,{"$f":"ClashCount('Other league dates'!G$6:G$27,$A596:$V596)","v":""},{"$f":"ClashCount('Other league dates'!H$6:H$27,$A596:$V596)","v":""},{"$f":"ClashCount('Other league dates'!I$6:I$27,$A596:$V596)","v":""}]
["  x","  o","  x","  o","  x","  o","  x","  o","  x","  o","  x","  o--","--o","  x","  o","  x","  o","  x","  o","  x","  o","  x","K",null,{"$f":"ClashCount('Other league dates'!G$6:G$27,$A597:$V597)","v":""},{"$f":"ClashCount('Other league dates'!H$6:H$27,$A597:$V597)","v":""},{"$f":"ClashCount('Other league dates'!I$6:I$27,$A597:$V597)","v":""}]
["  o","  x","  o","  x","  o","  x","  o","  x","  o","  x","  o","  x--","--x","  o","  x","  o","  x","  o","  x","  o","  x","  o","L",null,{"$f":"ClashCount('Other league dates'!G$6:G$27,$A598:$V598)","v":""},{"$f":"ClashCount('Other league dates'!H$6:H$27,$A598:$V598)","v":""},{"$f":"ClashCount('Other league dates'!I$6:I$27,$A598:$V598)","v":""}]
[]
["Fit:","12akaa",null,"14amba",null,"14ambax"]
[]
["12akba"]
[]
["AJ","BE","AK","BG","AB","BH","AI","BJ","AC","BF","BK","AL","BC","AD","BA","AF","BL","AE","BD","AG","AH","BI"]
["CH","DG","CB","DA","CD","DJ","CE","DH","DB","CL","DI","CJ","DL","CK","DC","CI","DF","CG","CA","DK","CF","DE"]
["ED","FC","EF","FJ","EG","FA","FD","EA","FK","EJ","FG","EH","FE","EI","FH","EK","EC","FI","EL","FB","EB","FL"]
["GK","HA","GI","HL","HF","GL","HK","GC","HG","GA","HE","GF","HJ","GB","GE","HB","GJ","HD","GH","HI","GD","HC"]
["IB","JL","JH","IE","JK","IC","JG","IF","JI","IH","JC","ID","IG","JF","IL","JD","IA","JB","IJ","JE","IK","JA"]
["LF","KI","LD","KC","LI","KE","LB","KL","LE","KD","LA","KB","KA","LH","KJ","LG","KH","LK","KF","LC","LJ","KG"]
[1,2,3,4,5,6,7,8,9,10,11,12,13,14,15,16,17,18,19,20,21,22]
["RFx",null,null,null,null,null,null,null,null,null,null,11,3,4,5,6,7,8,9,10,2,1]
["  o","  x","  o","  x","  o","  x","  o","  x","  o","  x--","--x","  o","  x","  o","  x","  o","  x","  o","  x","  o--","--o","  x","A",null,{"$f":"ClashCount('Other league dates'!G$6:G$27,$A612:$V612)","v":""},{"$f":"ClashCount('Other league dates'!H$6:H$27,$A612:$V612)","v":""},{"$f":"ClashCount('Other league dates'!I$6:I$27,$A612:$V612)","v":""}]
["  x","  o","  x","  o","  x","  o","  x","  o","  x","  o--","--o","  x","  o","  x","  o","  x","  o","  x","  o","  x--","--x","  o","B",null,{"$f":"ClashCount('Other league dates'!G$6:G$27,$A613:$V613)","v":""},{"$f":"ClashCount('Other league dates'!H$6:H$27,$A613:$V613)","v":""},{"$f":"ClashCount('Other league dates'!I$6:I$27,$A613:$V613)","v":""}]
["  o","  x","  o","  x","  o","  x","  o","  x--","--x","  o","  x","  o","  x","  o","  x","  o","  x","  o--","--o","  x","  o","  x","C",null,{"$f":"ClashCount('Other league dates'!G$6:G$27,$A614:$V614)","v":""},{"$f":"ClashCount('Other league dates'!H$6:H$27,$A614:$V614)","v":""},{"$f":"ClashCount('Other league dates'!I$6:I$27,$A614:$V614)","v":""}]
["  x","  o","  x","  o","  x","  o","  x","  o--","--o","  x","  o","  x","  o","  x","  o","  x","  o","  x--","--x","  o","  x","  o","D",null,{"$f":"ClashCount('Other league dates'!G$6:G$27,$A615:$V615)","v":""},{"$f":"ClashCount('Other league dates'!H$6:H$27,$A615:$V615)","v":""},{"$f":"ClashCount('Other league dates'!I$6:I$27,$A615:$V615)","v":""}]
["  o","  x","  o","  x","  o","  x--","--x","  o","  x","  o","  x","  o","  x","  o","  x","  o--","--o","  x","  o","  x","  o","  x","E",null,{"$f":"ClashCount('Other league dates'!G$6:G$27,$A616:$V616)","v":""},{"$f":"ClashCount('Other league dates'!H$6:H$27,$A616:$V616)","v":""},{"$f":"ClashCount('Other league dates'!I$6:I$27,$A616:$V616)","v":""}]
["  x","  o","  x","  o","  x","  o--","--o","  x","  o","  x","  o","  x","  o","  x","  o","  x--","--x","  o","  x","  o","  x","  o","F",null,{"$f":"ClashCount('Other league dates'!G$6:G$27,$A617:$V617)","v":""},{"$f":"ClashCount('Other league dates'!H$6:H$27,$A617:$V617)","v":""},{"$f":"ClashCount('Other league dates'!I$6:I$27,$A617:$V617)","v":""}]
["  o","  x","  o","  x--","--x","  o","  x","  o","  x","  o","  x","  o","  x","  o--","--o","  x","  o","  x","  o","  x","  o","  x","G",null,{"$f":"ClashCount('Other league dates'!G$6:G$27,$A618:$V618)","v":""},{"$f":"ClashCount('Other league dates'!H$6:H$27,$A618:$V618)","v":""},{"$f":"ClashCount('Other league dates'!I$6:I$27,$A618:$V618)","v":""}]
["  x","  o","  x","  o--","--o","  x","  o","  x","  o","  x","  o","  x","  o","  x--","--x","  o","  x","  o","  x","  o","  x","  o","H",null,{"$f":"ClashCount('Other league dates'!G$6:G$27,$A619:$V619)","v":""},{"$f":"ClashCount('Other league dates'!H$6:H$27,$A619:$V619)","v":""},{"$f":"ClashCount('Other league dates'!I$6:I$27,$A619:$V619)","v":""}]
["  o","  x--","--x","  o","  x","  o","  x","  o","  x","  o","  x","  o--","--o","  x","  o","  x","  o","  x","  o","  x","  o","  x","I",null,{"$f":"ClashCount('Other league dates'!G$6:G$27,$A620:$V620)","v":""},{"$f":"ClashCount('Other league dates'!H$6:H$27,$A620:$V620)","v":""},{"$f":"ClashCount('Other league dates'!I$6:I$27,$A620:$V620)","v":""}]
["  x","  o--","--o","  x","  o","  x","  o","  x","  o","  x","  o","  x--","--x","  o","  x","  o","  x","  o","  x","  o","  x","  o","J",null,{"$f":"ClashCount('Other league dates'!G$6:G$27,$A621:$V621)","v":""},{"$f":"ClashCount('Other league dates'!H$6:H$27,$A621:$V621)","v":""},{"$f":"ClashCount('Other league dates'!I$6:I$27,$A621:$V621)","v":""}]
["  x","  o","  x","  o","  x","  o","  x","  o","  x","  o","  x","  o--","--o","  x","  o","  x","  o","  x","  o","  x--","--x","  o","K",null,{"$f":"ClashCount('Other league dates'!G$6:G$27,$A622:$V622)","v":""},{"$f":"ClashCount('Other league dates'!H$6:H$27,$A622:$V622)","v":""},{"$f":"ClashCount('Other league dates'!I$6:I$27,$A622:$V622)","v":""}]
["  o","  x","  o","  x","  o","  x","  o","  x","  o","  x","  o","  x--","--x","  o","  x","  o","  x","  o","  x","  o--","--o","  x","L",null,{"$f":"ClashCount('Other league dates'!G$6:G$27,$A623:$V623)","v":""},{"$f":"ClashCount('Other league dates'!H$6:H$27,$A623:$V623)","v":""},{"$f":"ClashCount('Other league dates'!I$6:I$27,$A623:$V623)","v":""}]
[]
["Fit:","10aiaa",null,"10aiab"]
[]
["12akca"]
[]
["AJ","BE","AK","BG","AB","BH","AI","BJ","AC","BF","BK","AL","BA","AF","BL","AE","BD","AG","AH","BI","AD","BC"]
["CH","DG","CB","DA","CD","DJ","CE","DH","DB","CL","DI","CJ","DC","CI","DF","CG","CA","DK","CF","DE","CK","DL"]
["ED","FC","EF","FJ","EG","FA","FD","EA","FK","EJ","FG","EH","FH","EK","EC","FI","EL","FB","EB","FL","EI","FE"]
["GK","HA","GI","HL","HF","GL","HK","GC","HG","GA","HE","GF","GE","HB","GJ","HD","GH","HI","GD","HC","GB","HJ"]
["IB","JL","JH","IE","JK","IC","JG","IF","JI","IH","JC","ID","IL","JD","IA","JB","IJ","JE","IK","JA","JF","IG"]
["LF","KI","LD","KC","LI","KE","LB","KL","LE","KD","LA","KB","KJ","LG","KH","LK","KF","LC","LJ","KG","LH","KA"]
[1,2,3,4,5,6,7,8,9,10,11,12,13,14,15,16,17,18,19,20,21,22]
["RFx",null,null,null,null,null,null,null,null,null,null,11,5,6,7,8,9,10,2,1,4,3]
["  o","  x","  o","  x","  o","  x","  o","  x","  o","  x--","--x","  o","  x","  o","  x","  o","  x","  o--","--o","  x","  o","  x","A",null,{"$f":"ClashCount('Other league dates'!G$6:G$27,$A637:$V637)","v":""},{"$f":"ClashCount('Other league dates'!H$6:H$27,$A637:$V637)","v":""},{"$f":"ClashCount('Other league dates'!I$6:I$27,$A637:$V637)","v":""}]
["  x","  o","  x","  o","  x","  o","  x","  o","  x","  o--","--o","  x","  o","  x","  o","  x","  o","  x--","--x","  o","  x","  o","B",null,{"$f":"ClashCount('Other league dates'!G$6:G$27,$A638:$V638)","v":""},{"$f":"ClashCount('Other league dates'!H$6:H$27,$A638:$V638)","v":""},{"$f":"ClashCount('Other league dates'!I$6:I$27,$A638:$V638)","v":""}]
["  o","  x","  o","  x","  o","  x","  o","  x--","--x","  o","  x","  o","  x","  o","  x","  o--","--o","  x","  o","  x","  o","  x","C",null,{"$f":"ClashCount('Other league dates'!G$6:G$27,$A639:$V639)","v":""},{"$f":"ClashCount('Other league dates'!H$6:H$27,$A639:$V639)","v":""},{"$f":"ClashCount('Other league dates'!I$6:I$27,$A639:$V639)","v":""}]
["  x","  o","  x","  o","  x","  o","  x","  o--","--o","  x","  o","  x","  o","  x","  o","  x--","--x","  o","  x","  o","  x","  o","D",null,{"$f":"ClashCount('Other league dates'!G$6:G$27,$A640:$V640)","v":""},{"$f":"ClashCount('Other league dates'!H$6:H$27,$A640:$V640)","v":""},{"$f":"ClashCount('Other league dates'!I$6:I$27,$A640:$V640)","v":""}]
["  o","  x","  o","  x","  o","  x--","--x","  o","  x","  o","  x","  o","  x","  o--","--o","  x","  o","  x","  o","  x","  o","  x","E",null,{"$f":"ClashCount('Other league dates'!G$6:G$27,$A641:$V641)","v":""},{"$f":"ClashCount('Other league dates'!H$6:H$27,$A641:$V641)","v":""},{"$f":"ClashCount('Other league dates'!I$6:I$27,$A641:$V641)","v":""}]
["  x","  o","  x","  o","  x","  o--","--o","  x","  o","  x","  o","  x","  o","  x--","--x","  o","  x","  o","  x","  o","  x","  o","F",null,{"$f":"ClashCount('Other league dates'!G$6:G$27,$A642:$V642)","v":""},{"$f":"ClashCount('Other league dates'!H$6:H$27,$A642:$V642)","v":""},{"$f":"ClashCount('Other league dates'!I$6:I$27,$A642:$V642)","v":""}]
["  o","  x","  o","  x--","--x","  o","  x","  o","  x","  o","  x","  o--","--o","  x","  o","  x","  o","  x","  o","  x","  o","  x","G",null,{"$f":"ClashCount('Other league dates'!G$6:G$27,$A643:$V643)","v":""},{"$f":"ClashCount('Other league dates'!H$6:H$27,$A643:$V643)","v":""},{"$f":"ClashCount('Other league dates'!I$6:I$27,$A643:$V643)","v":""}]
["  x","  o","  x","  o--","--o","  x","  o","  x","  o","  x","  o","  x--","--x","  o","  x","  o","  x","  o","  x","  o","  x","  o","H",null,{"$f":"ClashCount('Other league dates'!G$6:G$27,$A644:$V644)","v":""},{"$f":"ClashCount('Other league dates'!H$6:H$27,$A644:$V644)","v":""},{"$f":"ClashCount('Other league dates'!I$6:I$27,$A644:$V644)","v":""}]
["  o","  x--","--x","  o","  x","  o","  x","  o","  x","  o","  x","  o--","--o","  x","  o","  x","  o","  x","  o","  x--","--x","  o","I",null,{"$f":"ClashCount('Other league dates'!G$6:G$27,$A645:$V645)","v":""},{"$f":"ClashCount('Other league dates'!H$6:H$27,$A645:$V645)","v":""},{"$f":"ClashCount('Other league dates'!I$6:I$27,$A645:$V645)","v":""}]
["  x","  o--","--o","  x","  o","  x","  o","  x","  o","  x","  o","  x--","--x","  o","  x","  o","  x","  o","  x","  o--","--o","  x","J",null,{"$f":"ClashCount('Other league dates'!G$6:G$27,$A646:$V646)","v":""},{"$f":"ClashCount('Other league dates'!H$6:H$27,$A646:$V646)","v":""},{"$f":"ClashCount('Other league dates'!I$6:I$27,$A646:$V646)","v":""}]
["  x","  o","  x","  o","  x","  o","  x","  o","  x","  o","  x","  o--","--o","  x","  o","  x","  o","  x--","--x","  o","  x","  o","K",null,{"$f":"ClashCount('Other league dates'!G$6:G$27,$A647:$V647)","v":""},{"$f":"ClashCount('Other league dates'!H$6:H$27,$A647:$V647)","v":""},{"$f":"ClashCount('Other league dates'!I$6:I$27,$A647:$V647)","v":""}]
["  o","  x","  o","  x","  o","  x","  o","  x","  o","  x","  o","  x--","--x","  o","  x","  o","  x","  o--","--o","  x","  o","  x","L",null,{"$f":"ClashCount('Other league dates'!G$6:G$27,$A648:$V648)","v":""},{"$f":"ClashCount('Other league dates'!H$6:H$27,$A648:$V648)","v":""},{"$f":"ClashCount('Other league dates'!I$6:I$27,$A648:$V648)","v":""}]
[]
["Fit:","08agaa",null,"08agab"]
[]
["12alanx",null,null,"Use J for Open date, to avoid successive away matches for other teams"]
[]
["AK","KJ","AE","CJ","AI","EJ","AL","GJ","AF","IJ","AJ","BI","CK","AG","EC","AB","GE","AD","IG","AH","AC","KA"]
["LI","CA","KC","EK","KG","GC","KB","IE","KD","BG","KH","LG","EA","KE","GK","KI","IC","KL","BE","KF","LB","CH"]
["DG","EH","DB","GA","CE","IK","CI","BC","CL","LE","CF","DE","GH","DL","IA","CG","BK","CB","LC","CD","DI","EF"]
["FE","GF","FI","IH","FL","BA","EG","LK","EB","DC","ED","FC","IF","FB","BH","FD","LA","EI","DK","EL","FG","GD"]
["HC","ID","HG","BF","HB","LH","HD","DA","GI","FK","GL","HK","BD","HI","LF","HL","DH","HF","FA","GB","HE","IL"]
["JB","BL","JL","LD","JD","DF","JF","FH","JH","HA","IB","JA","LJ","JC","DJ","JE","FJ","JG","HJ","JI","JK","BJ"]
[1,2,3,4,5,6,7,8,9,10,11,12,13,14,15,16,17,18,19,20,21,22]
["RFx",null,null,null,null,null,null,null,null,null,null,11,3,4,5,6,7,8,9,10,2,1]
["  o","  x","  o","  x","  o","  x","  o","  x","  o","  x","  o","  x--","--x","  o","  x","  o","  x","  o","  x","  o--","--o","  x","A",null,{"$f":"ClashCount('Other league dates'!G$6:G$27,$A662:$V662)","v":""},{"$f":"ClashCount('Other league dates'!H$6:H$27,$A662:$V662)","v":""},{"$f":"ClashCount('Other league dates'!I$6:I$27,$A662:$V662)","v":""}]
["  x","  o","  x","  o","  x","  o","  x","  o","  x","  o","  x","  o--","--o","  x","  o","  x","  o","  x","  o","  x--","--x","  o","B",null,{"$f":"ClashCount('Other league dates'!G$6:G$27,$A663:$V663)","v":""},{"$f":"ClashCount('Other league dates'!H$6:H$27,$A663:$V663)","v":""},{"$f":"ClashCount('Other league dates'!I$6:I$27,$A663:$V663)","v":""}]
["  x","  o","  x","  o--","--o","  x","  o","  x","  o","  x","  o","  x","  o","  x--","--x","  o","  x","  o","  x","  o","  x","  o","C",null,{"$f":"ClashCount('Other league dates'!G$6:G$27,$A664:$V664)","v":""},{"$f":"ClashCount('Other league dates'!H$6:H$27,$A664:$V664)","v":""},{"$f":"ClashCount('Other league dates'!I$6:I$27,$A664:$V664)","v":""}]
["  o","  x","  o","  x--","--x","  o","  x","  o","  x","  o","  x","  o","  x","  o--","--o","  x","  o","  x","  o","  x","  o","  x","D",null,{"$f":"ClashCount('Other league dates'!G$6:G$27,$A665:$V665)","v":""},{"$f":"ClashCount('Other league dates'!H$6:H$27,$A665:$V665)","v":""},{"$f":"ClashCount('Other league dates'!I$6:I$27,$A665:$V665)","v":""}]
["  x","  o","  x","  o","  x","  o--","--o","  x","  o","  x","  o","  x","  o","  x","  o","  x--","--x","  o","  x","  o","  x","  o","E",null,{"$f":"ClashCount('Other league dates'!G$6:G$27,$A666:$V666)","v":""},{"$f":"ClashCount('Other league dates'!H$6:H$27,$A666:$V666)","v":""},{"$f":"ClashCount('Other league dates'!I$6:I$27,$A666:$V666)","v":""}]
["  o","  x","  o","  x","  o","  x--","--x","  o","  x","  o","  x","  o","  x","  o","  x","  o--","--o","  x","  o","  x","  o","  x","F",null,{"$f":"ClashCount('Other league dates'!G$6:G$27,$A667:$V667)","v":""},{"$f":"ClashCount('Other league dates'!H$6:H$27,$A667:$V667)","v":""},{"$f":"ClashCount('Other league dates'!I$6:I$27,$A667:$V667)","v":""}]
["  x","  o","  x","  o","  x","  o","  x","  o--","--o","  x","  o","  x","  o","  x","  o","  x","  o","  x--","--x","  o","  x","  o","G",null,{"$f":"ClashCount('Other league dates'!G$6:G$27,$A668:$V668)","v":""},{"$f":"ClashCount('Other league dates'!H$6:H$27,$A668:$V668)","v":""},{"$f":"ClashCount('Other league dates'!I$6:I$27,$A668:$V668)","v":""}]
["  o","  x","  o","  x","  o","  x","  o","  x--","--x","  o","  x","  o","  x","  o","  x","  o","  x","  o--","--o","  x","  o","  x","H",null,{"$f":"ClashCount('Other league dates'!G$6:G$27,$A669:$V669)","v":""},{"$f":"ClashCount('Other league dates'!H$6:H$27,$A669:$V669)","v":""},{"$f":"ClashCount('Other league dates'!I$6:I$27,$A669:$V669)","v":""}]
["  x","  o","  x","  o","  x","  o","  x","  o","  x","  o--","--o","  x","  o","  x","  o","  x","  o","  x","  o","  x--","--x","  o","I",null,{"$f":"ClashCount('Other league dates'!G$6:G$27,$A670:$V670)","v":""},{"$f":"ClashCount('Other league dates'!H$6:H$27,$A670:$V670)","v":""},{"$f":"ClashCount('Other league dates'!I$6:I$27,$A670:$V670)","v":""}]
["  o","  x","  o","  x","  o","  x","  o","  x","  o","  x--","--x","  o","  x","  o","  x","  o","  x","  o","  x","  o--","--o","  x","J",null,{"$f":"ClashCount('Other league dates'!G$6:G$27,$A671:$V671)","v":""},{"$f":"ClashCount('Other league dates'!H$6:H$27,$A671:$V671)","v":""},{"$f":"ClashCount('Other league dates'!I$6:I$27,$A671:$V671)","v":""}]
["  x","  o--","--o","  x","  o","  x","  o","  x","  o","  x","  o","  x--","--x","  o","  x","  o","  x","  o","  x","  o","  x","  o","K",null,{"$f":"ClashCount('Other league dates'!G$6:G$27,$A672:$V672)","v":""},{"$f":"ClashCount('Other league dates'!H$6:H$27,$A672:$V672)","v":""},{"$f":"ClashCount('Other league dates'!I$6:I$27,$A672:$V672)","v":""}]
["  o","  x--","--x","  o","  x","  o","  x","  o","  x","  o","  x","  o--","--o","  x","  o","  x","  o","  x","  o","  x","  o","  x","L",null,{"$f":"ClashCount('Other league dates'!G$6:G$27,$A673:$V673)","v":""},{"$f":"ClashCount('Other league dates'!H$6:H$27,$A673:$V673)","v":""},{"$f":"ClashCount('Other league dates'!I$6:I$27,$A673:$V673)","v":""}]
[]
["Fit:","10alanx",null,"14alanx"]
[]
["12apaa"]
[]
["AJ","BI","AF","BG","AK","BE","AG","BC","AC","BA","BK","AL","AB","BD","AE","BF","AI","BH","AD","BJ","AH","BL"]
["CH","DE","CD","DA","CI","DJ","CE","DF","DB","CL","DI","CJ","DK","CA","CB","DH","CG","DL","CK","DC","CF","DG"]
["EF","FC","EK","FL","EG","FH","FB","EA","FK","EJ","FG","EH","FI","EL","FD","EC","EB","FJ","EI","FA","ED","FE"]
["GD","HA","GI","HJ","HB","GC","HD","GL","HI","GH","HE","GF","HG","GJ","HK","GA","HF","GE","GB","HL","GK","HC"]
["IK","JL","JB","IE","JF","IA","JK","IJ","JG","IF","JC","ID","JE","IH","JI","IL","JD","IC","JH","IG","IB","JA"]
["LB","KG","LH","KC","LD","KL","LI","KH","LE","KD","LA","KB","LC","KF","LG","KJ","LK","KA","LF","KE","LJ","KI"]
[1,2,3,4,5,6,7,8,9,10,11,12,13,14,15,16,17,18,19,20,21,22]
["RFx",null,null,null,null,null,null,null,null,null,null,11,10,9,8,7,6,5,4,3,2,1]
["  o","  x","  o","  x","  o","  x","  o","  x","  o","  x--","--x","  o--","--o","  x","  o","  x","  o","  x","  o","  x","  o","  x","A",null,{"$f":"ClashCount('Other league dates'!G$6:G$27,$A687:$V687)","v":""},{"$f":"ClashCount('Other league dates'!H$6:H$27,$A687:$V687)","v":""},{"$f":"ClashCount('Other league dates'!I$6:I$27,$A687:$V687)","v":""}]
["  x","  o","  x","  o","  x","  o","  x","  o","  x","  o--","--o","  x--","--x","  o","  x","  o","  x","  o","  x","  o","  x","  o","B",null,{"$f":"ClashCount('Other league dates'!G$6:G$27,$A688:$V688)","v":""},{"$f":"ClashCount('Other league dates'!H$6:H$27,$A688:$V688)","v":""},{"$f":"ClashCount('Other league dates'!I$6:I$27,$A688:$V688)","v":""}]
["  o","  x","  o","  x","  o","  x","  o","  x--","--x","  o","  x","  o","  x","  o--","--o","  x","  o","  x","  o","  x","  o","  x","C",null,{"$f":"ClashCount('Other league dates'!G$6:G$27,$A689:$V689)","v":""},{"$f":"ClashCount('Other league dates'!H$6:H$27,$A689:$V689)","v":""},{"$f":"ClashCount('Other league dates'!I$6:I$27,$A689:$V689)","v":""}]
["  x","  o","  x","  o","  x","  o","  x","  o--","--o","  x","  o","  x","  o","  x--","--x","  o","  x","  o","  x","  o","  x","  o","D",null,{"$f":"ClashCount('Other league dates'!G$6:G$27,$A690:$V690)","v":""},{"$f":"ClashCount('Other league dates'!H$6:H$27,$A690:$V690)","v":""},{"$f":"ClashCount('Other league dates'!I$6:I$27,$A690:$V690)","v":""}]
["  o","  x","  o","  x","  o","  x--","--x","  o","  x","  o","  x","  o","  x","  o","  x","  o--","--o","  x","  o","  x","  o","  x","E",null,{"$f":"ClashCount('Other league dates'!G$6:G$27,$A691:$V691)","v":""},{"$f":"ClashCount('Other league dates'!H$6:H$27,$A691:$V691)","v":""},{"$f":"ClashCount('Other league dates'!I$6:I$27,$A691:$V691)","v":""}]
["  x","  o","  x","  o","  x","  o--","--o","  x","  o","  x","  o","  x","  o","  x","  o","  x--","--x","  o","  x","  o","  x","  o","F",null,{"$f":"ClashCount('Other league dates'!G$6:G$27,$A692:$V692)","v":""},{"$f":"ClashCount('Other league dates'!H$6:H$27,$A692:$V692)","v":""},{"$f":"ClashCount('Other league dates'!I$6:I$27,$A692:$V692)","v":""}]
["  o","  x","  o","  x--","--x","  o","  x","  o","  x","  o","  x","  o","  x","  o","  x","  o","  x","  o--","--o","  x","  o","  x","G",null,{"$f":"ClashCount('Other league dates'!G$6:G$27,$A693:$V693)","v":""},{"$f":"ClashCount('Other league dates'!H$6:H$27,$A693:$V693)","v":""},{"$f":"ClashCount('Other league dates'!I$6:I$27,$A693:$V693)","v":""}]
["  x","  o","  x","  o--","--o","  x","  o","  x","  o","  x","  o","  x","  o","  x","  o","  x","  o","  x--","--x","  o","  x","  o","H",null,{"$f":"ClashCount('Other league dates'!G$6:G$27,$A694:$V694)","v":""},{"$f":"ClashCount('Other league dates'!H$6:H$27,$A694:$V694)","v":""},{"$f":"ClashCount('Other league dates'!I$6:I$27,$A694:$V694)","v":""}]
["  o","  x--","--x","  o","  x","  o","  x","  o","  x","  o","  x","  o","  x","  o","  x","  o","  x","  o","  x","  o--","--o","  x","I",null,{"$f":"ClashCount('Other league dates'!G$6:G$27,$A695:$V695)","v":""},{"$f":"ClashCount('Other league dates'!H$6:H$27,$A695:$V695)","v":""},{"$f":"ClashCount('Other league dates'!I$6:I$27,$A695:$V695)","v":""}]
["  x","  o--","--o","  x","  o","  x","  o","  x","  o","  x","  o","  x","  o","  x","  o","  x","  o","  x","  o","  x--","--x","  o","J",null,{"$f":"ClashCount('Other league dates'!G$6:G$27,$A696:$V696)","v":""},{"$f":"ClashCount('Other league dates'!H$6:H$27,$A696:$V696)","v":""},{"$f":"ClashCount('Other league dates'!I$6:I$27,$A696:$V696)","v":""}]
["  x","  o","  x","  o","  x","  o","  x","  o","  x","  o","  x","  o","  x","  o","  x","  o","  x","  o","  x","  o","  x","  o","K",null,{"$f":"ClashCount('Other league dates'!G$6:G$27,$A697:$V697)","v":""},{"$f":"ClashCount('Other league dates'!H$6:H$27,$A697:$V697)","v":""},{"$f":"ClashCount('Other league dates'!I$6:I$27,$A697:$V697)","v":""}]
["  o","  x","  o","  x","  o","  x","  o","  x","  o","  x","  o","  x","  o","  x","  o","  x","  o","  x","  o","  x","  o","  x","L",null,{"$f":"ClashCount('Other league dates'!G$6:G$27,$A698:$V698)","v":""},{"$f":"ClashCount('Other league dates'!H$6:H$27,$A698:$V698)","v":""},{"$f":"ClashCount('Other league dates'!I$6:I$27,$A698:$V698)","v":""}]
[]
["Fit:","08ataa",null,"08ataax",null,"10araa",null,"14anaa"]
[]
["12asm",null,null,null,"Similar to 12aaa. Used by Altrincham & S Manchester"]
[]
["AK","BG","AI","BC","AG","BJ","AE","BF","AC","BA","BK","BI","AJ","BE","AH","BL","AF","BH","AD","BD","AB","AL"]
["CH","DE","CD","DL","CK","DH","CG","DA","DB","CL","DI","DG","CF","DC","CB","DJ","CI","DF","CE","CA","DK","CJ"]
["EF","FC","EB","FJ","EI","FA","FD","EC","FK","EJ","FG","FE","ED","FL","EK","FH","EG","EA","FB","EL","FI","EH"]
["GD","HL","GK","HA","HF","GE","HB","GL","HI","GH","HE","HC","GB","HJ","GI","GA","HD","GC","HK","GJ","HG","GF"]
["IB","JA","JH","IG","JD","IC","JK","IJ","JG","IF","JC","JL","IK","IA","JF","IE","JB","IL","JI","IH","JE","ID"]
["LJ","KI","LF","KE","LB","KL","LI","KH","LE","KD","LA","KA","LH","KG","LD","KC","LK","KJ","LG","KF","LC","KB"]
[1,2,3,4,5,6,7,8,9,10,11,12,13,14,15,16,17,18,19,20,21,22]
["RFx",null,null,null,null,null,null,null,null,null,null,1,2,3,4,5,6,7,8,9,10,11]
["  o","  x","  o","  x","  o","  x","  o","  x","  o","  x--","--x--","--x","  o","  x","  o","  x","  o","  x","  o","  x","  o--","--o","A",null,{"$f":"ClashCount('Other league dates'!G$6:G$27,$A712:$V712)","v":""},{"$f":"ClashCount('Other league dates'!H$6:H$27,$A712:$V712)","v":""},{"$f":"ClashCount('Other league dates'!I$6:I$27,$A712:$V712)","v":""}]
["  x","  o","  x","  o","  x","  o","  x","  o","  x","  o--","--o--","--o","  x","  o","  x","  o","  x","  o","  x","  o","  x--","--x","B",null,{"$f":"ClashCount('Other league dates'!G$6:G$27,$A713:$V713)","v":""},{"$f":"ClashCount('Other league dates'!H$6:H$27,$A713:$V713)","v":""},{"$f":"ClashCount('Other league dates'!I$6:I$27,$A713:$V713)","v":""}]
["  o","  x","  o","  x","  o","  x","  o","  x--","--x","  o","  x--","--x","  o","  x","  o","  x","  o","  x","  o--","--o","  x","  o","C",null,{"$f":"ClashCount('Other league dates'!G$6:G$27,$A714:$V714)","v":""},{"$f":"ClashCount('Other league dates'!H$6:H$27,$A714:$V714)","v":""},{"$f":"ClashCount('Other league dates'!I$6:I$27,$A714:$V714)","v":""}]
["  x","  o","  x","  o","  x","  o","  x","  o--","--o","  x","  o--","--o","  x","  o","  x","  o","  x","  o","  x--","--x","  o","  x","D",null,{"$f":"ClashCount('Other league dates'!G$6:G$27,$A715:$V715)","v":""},{"$f":"ClashCount('Other league dates'!H$6:H$27,$A715:$V715)","v":""},{"$f":"ClashCount('Other league dates'!I$6:I$27,$A715:$V715)","v":""}]
["  o","  x","  o","  x","  o","  x--","--x","  o","  x","  o","  x--","--x","  o","  x","  o","  x","  o--","--o","  x","  o","  x","  o","E",null,{"$f":"ClashCount('Other league dates'!G$6:G$27,$A716:$V716)","v":""},{"$f":"ClashCount('Other league dates'!H$6:H$27,$A716:$V716)","v":""},{"$f":"ClashCount('Other league dates'!I$6:I$27,$A716:$V716)","v":""}]
["  x","  o","  x","  o","  x","  o--","--o","  x","  o","  x","  o--","--o","  x","  o","  x","  o","  x--","--x","  o","  x","  o","  x","F",null,{"$f":"ClashCount('Other league dates'!G$6:G$27,$A717:$V717)","v":""},{"$f":"ClashCount('Other league dates'!H$6:H$27,$A717:$V717)","v":""},{"$f":"ClashCount('Other league dates'!I$6:I$27,$A717:$V717)","v":""}]
["  o","  x","  o","  x--","--x","  o","  x","  o","  x","  o","  x--","--x","  o","  x","  o--","--o","  x","  o","  x","  o","  x","  o","G",null,{"$f":"ClashCount('Other league dates'!G$6:G$27,$A718:$V718)","v":""},{"$f":"ClashCount('Other league dates'!H$6:H$27,$A718:$V718)","v":""},{"$f":"ClashCount('Other league dates'!I$6:I$27,$A718:$V718)","v":""}]
["  x","  o","  x","  o--","--o","  x","  o","  x","  o","  x","  o--","--o","  x","  o","  x--","--x","  o","  x","  o","  x","  o","  x","H",null,{"$f":"ClashCount('Other league dates'!G$6:G$27,$A719:$V719)","v":""},{"$f":"ClashCount('Other league dates'!H$6:H$27,$A719:$V719)","v":""},{"$f":"ClashCount('Other league dates'!I$6:I$27,$A719:$V719)","v":""}]
["  o","  x--","--x","  o","  x","  o","  x","  o","  x","  o","  x--","--x","  o--","--o","  x","  o","  x","  o","  x","  o","  x","  o","I",null,{"$f":"ClashCount('Other league dates'!G$6:G$27,$A720:$V720)","v":""},{"$f":"ClashCount('Other league dates'!H$6:H$27,$A720:$V720)","v":""},{"$f":"ClashCount('Other league dates'!I$6:I$27,$A720:$V720)","v":""}]
["  x","  o--","--o","  x","  o","  x","  o","  x","  o","  x","  o--","--o","  x--","--x","  o","  x","  o","  x","  o","  x","  o","  x","J",null,{"$f":"ClashCount('Other league dates'!G$6:G$27,$A721:$V721)","v":""},{"$f":"ClashCount('Other league dates'!H$6:H$27,$A721:$V721)","v":""},{"$f":"ClashCount('Other league dates'!I$6:I$27,$A721:$V721)","v":""}]
["  x","  o","  x","  o","  x","  o","  x","  o","  x","  o","  x","  o","  x","  o","  x","  o","  x","  o","  x","  o","  x","  o","K",null,{"$f":"ClashCount('Other league dates'!G$6:G$27,$A722:$V722)","v":""},{"$f":"ClashCount('Other league dates'!H$6:H$27,$A722:$V722)","v":""},{"$f":"ClashCount('Other league dates'!I$6:I$27,$A722:$V722)","v":""}]
["  o","  x","  o","  x","  o","  x","  o","  x","  o","  x","  o","  x","  o","  x","  o","  x","  o","  x","  o","  x","  o","  x","L",null,{"$f":"ClashCount('Other league dates'!G$6:G$27,$A723:$V723)","v":""},{"$f":"ClashCount('Other league dates'!H$6:H$27,$A723:$V723)","v":""},{"$f":"ClashCount('Other league dates'!I$6:I$27,$A723:$V723)","v":""}]
[]
["Fit:","12aaaa",null,"14acaa"]
[]
["12bbaa"]
[]
["AL","BE","AJ","BC","AB","BL","AI","BH","AE","BD","BG","AF","BI","AD","BA","AK","BJ","AG","BF","AC","AH","BK"]
["CJ","DG","CF","DA","CK","DJ","CG","DF","CD","CA","DK","CH","DE","CB","DL","CI","DH","CE","DC","DB","CL","DI"]
["EH","FA","ED","FL","EI","FH","EF","EC","FB","EL","FI","EB","FC","EK","FJ","EG","FE","FD","EA","FK","EJ","FG"]
["GF","HC","GK","HJ","GH","GE","HD","GA","HK","GJ","HA","GD","HL","GI","HG","HF","GC","HB","GL","HI","GB","HE"]
["ID","JL","IB","IG","JF","IC","JB","IL","JI","IH","JE","IK","JA","JH","IE","JD","IA","JK","IJ","JG","IF","JC"]
["KB","KI","LH","KE","LD","KA","LK","KJ","LG","KF","LC","LJ","KG","LF","KC","LB","KL","LI","KH","LE","KD","LA"]
[1,2,3,4,5,6,7,8,9,10,11,12,13,14,15,16,17,18,19,20,21,22]
["RFx",null,null,null,null,null,null,null,null,null,null,2,3,4,5,6,7,8,9,10,11,1]
["  o","  x","  o","  x","  o","  x","  o","  x","  o","  x--","--x","  o","  x","  o","  x","  o","  x","  o","  x","  o--","--o","  x","A",null,{"$f":"ClashCount('Other league dates'!G$6:G$27,$A737:$V737)","v":""},{"$f":"ClashCount('Other league dates'!H$6:H$27,$A737:$V737)","v":""},{"$f":"ClashCount('Other league dates'!I$6:I$27,$A737:$V737)","v":""}]
["  x","  o","  x","  o","  x","  o","  x","  o","  x","  o--","--o","  x","  o","  x","  o","  x","  o","  x","  o","  x--","--x","  o","B",null,{"$f":"ClashCount('Other league dates'!G$6:G$27,$A738:$V738)","v":""},{"$f":"ClashCount('Other league dates'!H$6:H$27,$A738:$V738)","v":""},{"$f":"ClashCount('Other league dates'!I$6:I$27,$A738:$V738)","v":""}]
["  o","  x","  o","  x","  o","  x","  o","  x","  o--","--o","  x","  o","  x","  o","  x","  o","  x","  o","  x--","--x","  o","  x","C",null,{"$f":"ClashCount('Other league dates'!G$6:G$27,$A739:$V739)","v":""},{"$f":"ClashCount('Other league dates'!H$6:H$27,$A739:$V739)","v":""},{"$f":"ClashCount('Other league dates'!I$6:I$27,$A739:$V739)","v":""}]
["  x","  o","  x","  o","  x","  o","  x","  o","  x--","--x","  o","  x","  o","  x","  o","  x","  o","  x","  o--","--o","  x","  o","D",null,{"$f":"ClashCount('Other league dates'!G$6:G$27,$A740:$V740)","v":""},{"$f":"ClashCount('Other league dates'!H$6:H$27,$A740:$V740)","v":""},{"$f":"ClashCount('Other league dates'!I$6:I$27,$A740:$V740)","v":""}]
["  o","  x","  o","  x","  o","  x","  o--","--o","  x","  o","  x","  o","  x","  o","  x","  o","  x--","--x","  o","  x","  o","  x","E",null,{"$f":"ClashCount('Other league dates'!G$6:G$27,$A741:$V741)","v":""},{"$f":"ClashCount('Other league dates'!H$6:H$27,$A741:$V741)","v":""},{"$f":"ClashCount('Other league dates'!I$6:I$27,$A741:$V741)","v":""}]
["  x","  o","  x","  o","  x","  o","  x--","--x","  o","  x","  o","  x","  o","  x","  o","  x","  o--","--o","  x","  o","  x","  o","F",null,{"$f":"ClashCount('Other league dates'!G$6:G$27,$A742:$V742)","v":""},{"$f":"ClashCount('Other league dates'!H$6:H$27,$A742:$V742)","v":""},{"$f":"ClashCount('Other league dates'!I$6:I$27,$A742:$V742)","v":""}]
["  o","  x","  o","  x","  o--","--o","  x","  o","  x","  o","  x","  o","  x","  o","  x--","--x","  o","  x","  o","  x","  o","  x","G",null,{"$f":"ClashCount('Other league dates'!G$6:G$27,$A743:$V743)","v":""},{"$f":"ClashCount('Other league dates'!H$6:H$27,$A743:$V743)","v":""},{"$f":"ClashCount('Other league dates'!I$6:I$27,$A743:$V743)","v":""}]
["  x","  o","  x","  o","  x--","--x","  o","  x","  o","  x","  o","  x","  o","  x","  o--","--o","  x","  o","  x","  o","  x","  o","H",null,{"$f":"ClashCount('Other league dates'!G$6:G$27,$A744:$V744)","v":""},{"$f":"ClashCount('Other league dates'!H$6:H$27,$A744:$V744)","v":""},{"$f":"ClashCount('Other league dates'!I$6:I$27,$A744:$V744)","v":""}]
["  o","  x","  o--","--o","  x","  o","  x","  o","  x","  o","  x","  o","  x--","--x","  o","  x","  o","  x","  o","  x","  o","  x","I",null,{"$f":"ClashCount('Other league dates'!G$6:G$27,$A745:$V745)","v":""},{"$f":"ClashCount('Other league dates'!H$6:H$27,$A745:$V745)","v":""},{"$f":"ClashCount('Other league dates'!I$6:I$27,$A745:$V745)","v":""}]
["  x","  o","  x--","--x","  o","  x","  o","  x","  o","  x","  o","  x","  o--","--o","  x","  o","  x","  o","  x","  o","  x","  o","J",null,{"$f":"ClashCount('Other league dates'!G$6:G$27,$A746:$V746)","v":""},{"$f":"ClashCount('Other league dates'!H$6:H$27,$A746:$V746)","v":""},{"$f":"ClashCount('Other league dates'!I$6:I$27,$A746:$V746)","v":""}]
["  o--","--o","  x","  o","  x","  o","  x","  o","  x","  o","  x--","--x","  o","  x","  o","  x","  o","  x","  o","  x","  o","  x","K",null,{"$f":"ClashCount('Other league dates'!G$6:G$27,$A747:$V747)","v":""},{"$f":"ClashCount('Other league dates'!H$6:H$27,$A747:$V747)","v":""},{"$f":"ClashCount('Other league dates'!I$6:I$27,$A747:$V747)","v":""}]
["  x--","--x","  o","  x","  o","  x","  o","  x","  o","  x","  o--","--o","  x","  o","  x","  o","  x","  o","  x","  o","  x","  o","L",null,{"$f":"ClashCount('Other league dates'!G$6:G$27,$A748:$V748)","v":""},{"$f":"ClashCount('Other league dates'!H$6:H$27,$A748:$V748)","v":""},{"$f":"ClashCount('Other league dates'!I$6:I$27,$A748:$V748)","v":""}]
[]
["Fit:","14bdaa"]
[]
["12caaa"]
[]
["BF","AI","BD","AB","BK","AJ","BG","AF","BC","BH","AK","FB","IA","DB","BA","KB","JA","GB","FA","CB","HB","KA"]
["CH","DE","CA","DL","CI","DH","CE","DC","DA","CL","DI","HC","ED","AC","LD","IC","HD","EC","CD","AD","LC","ID"]
["EA","FC","EK","FJ","EG","FE","FD","EB","FK","EJ","FG","AE","CF","KE","JF","GE","EF","DF","BE","KF","JE","GF"]
["GD","HL","GI","HG","HF","GC","HA","GL","HI","GA","HE","DG","LH","IG","GH","FH","CG","AH","LG","IH","AG","EH"]
["IK","JB","JH","IE","JD","IB","JK","IJ","JG","IF","JC","KI","BJ","HJ","EI","DJ","BI","KJ","JI","GJ","FI","CJ"]
["LJ","KG","LF","KC","LA","KL","LI","KH","LE","KD","LB","JL","GK","FL","CK","AL","LK","IL","HK","EL","DK","BL"]
[1,2,3,4,5,6,7,8,9,10,11,12,13,14,15,16,17,18,19,20,21,22]
["RFx",null,null,null,null,null,null,null,null,null,null,1,2,3,4,5,6,7,8,9,10,11]
["  x","  o","  x","  o","  x","  o","  x","  o","  x--","--x","  o--","--o","  x","  o","  x","  o","  x","  o","  x","  o--","--o","  x","A",null,{"$f":"ClashCount('Other league dates'!G$6:G$27,$A762:$V762)","v":""},{"$f":"ClashCount('Other league dates'!H$6:H$27,$A762:$V762)","v":""},{"$f":"ClashCount('Other league dates'!I$6:I$27,$A762:$V762)","v":""}]
["  o","  x","  o","  x","  o","  x","  o","  x","  o--","--o","  x--","--x","  o","  x","  o","  x","  o","  x","  o","  x--","--x","  o","B",null,{"$f":"ClashCount('Other league dates'!G$6:G$27,$A763:$V763)","v":""},{"$f":"ClashCount('Other league dates'!H$6:H$27,$A763:$V763)","v":""},{"$f":"ClashCount('Other league dates'!I$6:I$27,$A763:$V763)","v":""}]
["  o","  x","  o","  x","  o","  x","  o","  x--","--x","  o","  x--","--x","  o","  x","  o","  x","  o","  x","  o--","--o","  x","  o","C",null,{"$f":"ClashCount('Other league dates'!G$6:G$27,$A764:$V764)","v":""},{"$f":"ClashCount('Other league dates'!H$6:H$27,$A764:$V764)","v":""},{"$f":"ClashCount('Other league dates'!I$6:I$27,$A764:$V764)","v":""}]
["  x","  o","  x","  o","  x","  o","  x","  o--","--o","  x","  o--","--o","  x","  o","  x","  o","  x","  o","  x--","--x","  o","  x","D",null,{"$f":"ClashCount('Other league dates'!G$6:G$27,$A765:$V765)","v":""},{"$f":"ClashCount('Other league dates'!H$6:H$27,$A765:$V765)","v":""},{"$f":"ClashCount('Other league dates'!I$6:I$27,$A765:$V765)","v":""}]
["  o","  x","  o","  x","  o","  x--","--x","  o","  x","  o","  x--","--x","  o","  x","  o","  x","  o--","--o","  x","  o","  x","  o","E",null,{"$f":"ClashCount('Other league dates'!G$6:G$27,$A766:$V766)","v":""},{"$f":"ClashCount('Other league dates'!H$6:H$27,$A766:$V766)","v":""},{"$f":"ClashCount('Other league dates'!I$6:I$27,$A766:$V766)","v":""}]
["  x","  o","  x","  o","  x","  o--","--o","  x","  o","  x","  o--","--o","  x","  o","  x","  o","  x--","--x","  o","  x","  o","  x","F",null,{"$f":"ClashCount('Other league dates'!G$6:G$27,$A767:$V767)","v":""},{"$f":"ClashCount('Other league dates'!H$6:H$27,$A767:$V767)","v":""},{"$f":"ClashCount('Other league dates'!I$6:I$27,$A767:$V767)","v":""}]
["  o","  x","  o","  x--","--x","  o","  x","  o","  x","  o","  x--","--x","  o","  x","  o--","--o","  x","  o","  x","  o","  x","  o","G",null,{"$f":"ClashCount('Other league dates'!G$6:G$27,$A768:$V768)","v":""},{"$f":"ClashCount('Other league dates'!H$6:H$27,$A768:$V768)","v":""},{"$f":"ClashCount('Other league dates'!I$6:I$27,$A768:$V768)","v":""}]
["  x","  o","  x","  o--","--o","  x","  o","  x","  o","  x","  o--","--o","  x","  o","  x--","--x","  o","  x","  o","  x","  o","  x","H",null,{"$f":"ClashCount('Other league dates'!G$6:G$27,$A769:$V769)","v":""},{"$f":"ClashCount('Other league dates'!H$6:H$27,$A769:$V769)","v":""},{"$f":"ClashCount('Other league dates'!I$6:I$27,$A769:$V769)","v":""}]
["  o","  x--","--x","  o","  x","  o","  x","  o","  x","  o","  x--","--x","  o--","--o","  x","  o","  x","  o","  x","  o","  x","  o","I",null,{"$f":"ClashCount('Other league dates'!G$6:G$27,$A770:$V770)","v":""},{"$f":"ClashCount('Other league dates'!H$6:H$27,$A770:$V770)","v":""},{"$f":"ClashCount('Other league dates'!I$6:I$27,$A770:$V770)","v":""}]
["  x","  o--","--o","  x","  o","  x","  o","  x","  o","  x","  o--","--o","  x--","--x","  o","  x","  o","  x","  o","  x","  o","  x","J",null,{"$f":"ClashCount('Other league dates'!G$6:G$27,$A771:$V771)","v":""},{"$f":"ClashCount('Other league dates'!H$6:H$27,$A771:$V771)","v":""},{"$f":"ClashCount('Other league dates'!I$6:I$27,$A771:$V771)","v":""}]
["  x","  o","  x","  o","  x","  o","  x","  o","  x","  o","  x","  o","  x","  o","  x","  o","  x","  o","  x","  o","  x","  o","K",null,{"$f":"ClashCount('Other league dates'!G$6:G$27,$A772:$V772)","v":""},{"$f":"ClashCount('Other league dates'!H$6:H$27,$A772:$V772)","v":""},{"$f":"ClashCount('Other league dates'!I$6:I$27,$A772:$V772)","v":""}]
["  o","  x","  o","  x","  o","  x","  o","  x","  o","  x","  o","  x","  o","  x","  o","  x","  o","  x","  o","  x","  o","  x","L",null,{"$f":"ClashCount('Other league dates'!G$6:G$27,$A773:$V773)","v":""},{"$f":"ClashCount('Other league dates'!H$6:H$27,$A773:$V773)","v":""},{"$f":"ClashCount('Other league dates'!I$6:I$27,$A773:$V773)","v":""}]
[]
[]
[]
["12ccaa"]
[]
["AF","BI","AD","BA","AK","BJ","AG","BF","AC","AH","BK","DA","AB","KA","JB","GA","FB","CA","HA","KB","FA","IB"]
["CH","DE","CB","DL","CI","DH","CE","DC","DB","CL","DI","BC","LD","IC","HD","EC","CD","BD","LC","ID","HC","ED"]
["EB","FC","EK","FJ","EG","FE","FD","EA","FK","EJ","FG","KE","JF","GE","EF","DF","AE","KF","JE","GF","BE","CF"]
["GD","HL","GI","HG","HF","GC","HB","GL","HI","GB","HE","IG","GH","FH","CG","BH","LG","IH","BG","EH","DG","LH"]
["IK","JA","JH","IE","JD","IA","JK","IJ","JG","IF","JC","HJ","EI","DJ","AI","KJ","JI","GJ","FI","CJ","KI","AJ"]
["LJ","KG","LF","KC","LB","KL","LI","KH","LE","KD","LA","FL","CK","BL","LK","IL","HK","EL","DK","AL","JL","GK"]
[1,2,3,4,5,6,7,8,9,10,11,12,13,14,15,16,17,18,19,20,21,22]
["RFx",null,null,null,null,null,null,null,null,null,null,3,4,5,6,7,8,9,10,11,1,2]
["  o","  x","  o","  x","  o","  x","  o","  x","  o--","--o","  x--","--x","  o","  x","  o","  x","  o","  x--","--x","  o","  x","  o","A",null,{"$f":"ClashCount('Other league dates'!G$6:G$27,$A787:$V787)","v":""},{"$f":"ClashCount('Other league dates'!H$6:H$27,$A787:$V787)","v":""},{"$f":"ClashCount('Other league dates'!I$6:I$27,$A787:$V787)","v":""}]
["  x","  o","  x","  o","  x","  o","  x","  o","  x--","--x","  o--","--o","  x","  o","  x","  o","  x","  o--","--o","  x","  o","  x","B",null,{"$f":"ClashCount('Other league dates'!G$6:G$27,$A788:$V788)","v":""},{"$f":"ClashCount('Other league dates'!H$6:H$27,$A788:$V788)","v":""},{"$f":"ClashCount('Other league dates'!I$6:I$27,$A788:$V788)","v":""}]
["  o","  x","  o","  x","  o","  x","  o","  x--","--x","  o","  x--","--x","  o","  x","  o","  x","  o--","--o","  x","  o","  x","  o","C",null,{"$f":"ClashCount('Other league dates'!G$6:G$27,$A789:$V789)","v":""},{"$f":"ClashCount('Other league dates'!H$6:H$27,$A789:$V789)","v":""},{"$f":"ClashCount('Other league dates'!I$6:I$27,$A789:$V789)","v":""}]
["  x","  o","  x","  o","  x","  o","  x","  o--","--o","  x","  o--","--o","  x","  o","  x","  o","  x--","--x","  o","  x","  o","  x","D",null,{"$f":"ClashCount('Other league dates'!G$6:G$27,$A790:$V790)","v":""},{"$f":"ClashCount('Other league dates'!H$6:H$27,$A790:$V790)","v":""},{"$f":"ClashCount('Other league dates'!I$6:I$27,$A790:$V790)","v":""}]
["  o","  x","  o","  x","  o","  x--","--x","  o","  x","  o","  x--","--x","  o","  x","  o--","--o","  x","  o","  x","  o","  x","  o","E",null,{"$f":"ClashCount('Other league dates'!G$6:G$27,$A791:$V791)","v":""},{"$f":"ClashCount('Other league dates'!H$6:H$27,$A791:$V791)","v":""},{"$f":"ClashCount('Other league dates'!I$6:I$27,$A791:$V791)","v":""}]
["  x","  o","  x","  o","  x","  o--","--o","  x","  o","  x","  o--","--o","  x","  o","  x--","--x","  o","  x","  o","  x","  o","  x","F",null,{"$f":"ClashCount('Other league dates'!G$6:G$27,$A792:$V792)","v":""},{"$f":"ClashCount('Other league dates'!H$6:H$27,$A792:$V792)","v":""},{"$f":"ClashCount('Other league dates'!I$6:I$27,$A792:$V792)","v":""}]
["  o","  x","  o","  x--","--x","  o","  x","  o","  x","  o","  x--","--x","  o--","--o","  x","  o","  x","  o","  x","  o","  x","  o","G",null,{"$f":"ClashCount('Other league dates'!G$6:G$27,$A793:$V793)","v":""},{"$f":"ClashCount('Other league dates'!H$6:H$27,$A793:$V793)","v":""},{"$f":"ClashCount('Other league dates'!I$6:I$27,$A793:$V793)","v":""}]
["  x","  o","  x","  o--","--o","  x","  o","  x","  o","  x","  o--","--o","  x--","--x","  o","  x","  o","  x","  o","  x","  o","  x","H",null,{"$f":"ClashCount('Other league dates'!G$6:G$27,$A794:$V794)","v":""},{"$f":"ClashCount('Other league dates'!H$6:H$27,$A794:$V794)","v":""},{"$f":"ClashCount('Other league dates'!I$6:I$27,$A794:$V794)","v":""}]
["  o","  x--","--x","  o","  x","  o","  x","  o","  x","  o","  x","  o","  x","  o","  x","  o","  x","  o","  x","  o","  x","  o","I",null,{"$f":"ClashCount('Other league dates'!G$6:G$27,$A795:$V795)","v":""},{"$f":"ClashCount('Other league dates'!H$6:H$27,$A795:$V795)","v":""},{"$f":"ClashCount('Other league dates'!I$6:I$27,$A795:$V795)","v":""}]
["  x","  o--","--o","  x","  o","  x","  o","  x","  o","  x","  o","  x","  o","  x","  o","  x","  o","  x","  o","  x","  o","  x","J",null,{"$f":"ClashCount('Other league dates'!G$6:G$27,$A796:$V796)","v":""},{"$f":"ClashCount('Other league dates'!H$6:H$27,$A796:$V796)","v":""},{"$f":"ClashCount('Other league dates'!I$6:I$27,$A796:$V796)","v":""}]
["  x","  o","  x","  o","  x","  o","  x","  o","  x","  o","  x","  o","  x","  o","  x","  o","  x","  o","  x","  o--","--o","  x","K",null,{"$f":"ClashCount('Other league dates'!G$6:G$27,$A797:$V797)","v":""},{"$f":"ClashCount('Other league dates'!H$6:H$27,$A797:$V797)","v":""},{"$f":"ClashCount('Other league dates'!I$6:I$27,$A797:$V797)","v":""}]
["  o","  x","  o","  x","  o","  x","  o","  x","  o","  x","  o","  x","  o","  x","  o","  x","  o","  x","  o","  x--","--x","  o","L",null,{"$f":"ClashCount('Other league dates'!G$6:G$27,$A798:$V798)","v":""},{"$f":"ClashCount('Other league dates'!H$6:H$27,$A798:$V798)","v":""},{"$f":"ClashCount('Other league dates'!I$6:I$27,$A798:$V798)","v":""}]
[]
["Fit:","10caaa"]
[]
["12donx",null,null,"Use J for Open date, to avoid successive away matches for other teams"]
[]
["KJ","JI","KF","GJ","KB","EJ","KI","CJ","KE","AJ","KA","LI","KH","IG","KD","GE","KL","EC","KG","CA","KC","AK"]
["AH","LG","AD","IE","AL","GC","AG","EA","AC","CK","BI","BG","AF","LE","AB","IC","AI","GA","AE","EK","BL","CH"]
["CF","BE","CB","LC","CI","IA","CE","GK","DL","EH","DG","DE","CD","BC","CL","LA","CG","IK","DB","GH","DI","EF"]
["ED","DC","EL","BA","EG","LK","FB","IH","FI","GF","FE","FC","EB","DA","EI","BK","FD","LH","FL","IF","FG","GD"]
["GB","FA","GI","DK","HD","BH","HL","LF","HG","ID","HC","HA","GL","FK","HF","DH","HB","BF","HI","LD","HE","IB"]
["IL","HK","JH","FH","JF","DF","JD","BD","JB","LB","JL","JK","IJ","HJ","JG","FJ","JE","DJ","JC","BJ","JA","LJ"]
[1,2,3,4,5,6,7,8,9,10,11,12,13,14,15,16,17,18,19,20,21,22]
["RFx",null,null,null,null,null,null,null,null,null,null,1,2,3,4,5,6,7,8,9,10,11]
["  o","  x","  o","  x","  o","  x","  o","  x","  o--","--o","  x--","--x","  o","  x","  o","  x","  o","  x","  o","  x--","--x","  o","A",null,{"$f":"ClashCount('Other league dates'!G$6:G$27,$A812:$V812)","v":""},{"$f":"ClashCount('Other league dates'!H$6:H$27,$A812:$V812)","v":""},{"$f":"ClashCount('Other league dates'!I$6:I$27,$A812:$V812)","v":""}]
["  x","  o","  x","  o","  x","  o","  x","  o","  x--","--x","  o--","--o","  x","  o","  x","  o","  x","  o","  x","  o--","--o","  x","B",null,{"$f":"ClashCount('Other league dates'!G$6:G$27,$A813:$V813)","v":""},{"$f":"ClashCount('Other league dates'!H$6:H$27,$A813:$V813)","v":""},{"$f":"ClashCount('Other league dates'!I$6:I$27,$A813:$V813)","v":""}]
["  o","  x","  o","  x","  o","  x","  o--","--o","  x","  o","  x--","--x","  o","  x","  o","  x","  o","  x--","--x","  o","  x","  o","C",null,{"$f":"ClashCount('Other league dates'!G$6:G$27,$A814:$V814)","v":""},{"$f":"ClashCount('Other league dates'!H$6:H$27,$A814:$V814)","v":""},{"$f":"ClashCount('Other league dates'!I$6:I$27,$A814:$V814)","v":""}]
["  x","  o","  x","  o","  x","  o","  x--","--x","  o","  x","  o--","--o","  x","  o","  x","  o","  x","  o--","--o","  x","  o","  x","D",null,{"$f":"ClashCount('Other league dates'!G$6:G$27,$A815:$V815)","v":""},{"$f":"ClashCount('Other league dates'!H$6:H$27,$A815:$V815)","v":""},{"$f":"ClashCount('Other league dates'!I$6:I$27,$A815:$V815)","v":""}]
["  o","  x","  o","  x","  o--","--o","  x","  o","  x","  o","  x--","--x","  o","  x","  o","  x--","--x","  o","  x","  o","  x","  o","E",null,{"$f":"ClashCount('Other league dates'!G$6:G$27,$A816:$V816)","v":""},{"$f":"ClashCount('Other league dates'!H$6:H$27,$A816:$V816)","v":""},{"$f":"ClashCount('Other league dates'!I$6:I$27,$A816:$V816)","v":""}]
["  x","  o","  x","  o","  x--","--x","  o","  x","  o","  x","  o--","--o","  x","  o","  x","  o--","--o","  x","  o","  x","  o","  x","F",null,{"$f":"ClashCount('Other league dates'!G$6:G$27,$A817:$V817)","v":""},{"$f":"ClashCount('Other league dates'!H$6:H$27,$A817:$V817)","v":""},{"$f":"ClashCount('Other league dates'!I$6:I$27,$A817:$V817)","v":""}]
["  o","  x","  o--","--o","  x","  o","  x","  o","  x","  o","  x--","--x","  o","  x--","--x","  o","  x","  o","  x","  o","  x","  o","G",null,{"$f":"ClashCount('Other league dates'!G$6:G$27,$A818:$V818)","v":""},{"$f":"ClashCount('Other league dates'!H$6:H$27,$A818:$V818)","v":""},{"$f":"ClashCount('Other league dates'!I$6:I$27,$A818:$V818)","v":""}]
["  x","  o","  x--","--x","  o","  x","  o","  x","  o","  x","  o--","--o","  x","  o--","--o","  x","  o","  x","  o","  x","  o","  x","H",null,{"$f":"ClashCount('Other league dates'!G$6:G$27,$A819:$V819)","v":""},{"$f":"ClashCount('Other league dates'!H$6:H$27,$A819:$V819)","v":""},{"$f":"ClashCount('Other league dates'!I$6:I$27,$A819:$V819)","v":""}]
["  o","  x--","--x","  o","  x","  o","  x","  o","  x","  o","  x--","--x","  o--","--o","  x","  o","  x","  o","  x","  o","  x","  o","I",null,{"$f":"ClashCount('Other league dates'!G$6:G$27,$A820:$V820)","v":""},{"$f":"ClashCount('Other league dates'!H$6:H$27,$A820:$V820)","v":""},{"$f":"ClashCount('Other league dates'!I$6:I$27,$A820:$V820)","v":""}]
["  x","  o--","--o","  x","  o","  x","  o","  x","  o","  x","  o--","--o","  x--","--x","  o","  x","  o","  x","  o","  x","  o","  x","J",null,{"$f":"ClashCount('Other league dates'!G$6:G$27,$A821:$V821)","v":""},{"$f":"ClashCount('Other league dates'!H$6:H$27,$A821:$V821)","v":""},{"$f":"ClashCount('Other league dates'!I$6:I$27,$A821:$V821)","v":""}]
["  o","  x","  o","  x","  o","  x","  o","  x","  o","  x","  o","  x","  o","  x","  o","  x","  o","  x","  o","  x","  o","  x","K",null,{"$f":"ClashCount('Other league dates'!G$6:G$27,$A822:$V822)","v":""},{"$f":"ClashCount('Other league dates'!H$6:H$27,$A822:$V822)","v":""},{"$f":"ClashCount('Other league dates'!I$6:I$27,$A822:$V822)","v":""}]
["  x","  o","  x","  o","  x","  o","  x","  o","  x","  o","  x","  o","  x","  o","  x","  o","  x","  o","  x","  o","  x","  o","L",null,{"$f":"ClashCount('Other league dates'!G$6:G$27,$A823:$V823)","v":""},{"$f":"ClashCount('Other league dates'!H$6:H$27,$A823:$V823)","v":""},{"$f":"ClashCount('Other league dates'!I$6:I$27,$A823:$V823)","v":""}]
[]
["Fit:","10donx",null,"14donx"]
[]
["12 Mid-Chesh",null,null,null,"Matched pairs play off in first two weeks"]
[]
["AB","BA","AD","BG","AF","BI","AL","BK","BE","AJ","AH","BC","AI","BJ","BD","AC","BL","AK","BH","AG","AE","BF"]
["CD","DC","CF","DA","CL","DG","CJ","DI","DK","CH","CB","DE","DF","CE","CA","DB","DJ","CI","DL","CK","DH","CG"]
["EF","FE","EL","FC","EJ","FA","EH","FG","FI","EB","ED","FK","EC","FD","FL","EK","FH","EG","FJ","EI","FB","EA"]
["GH","HG","GB","HI","GD","HK","GF","HE","HC","GL","GJ","HA","GK","HL","HJ","GI","GE","HF","GA","HB","GC","HD"]
["IJ","JI","IH","JK","IB","JE","ID","JC","JA","IF","IL","JG","JB","IA","IG","JH","IC","JD","IE","JF","IK","JL"]
["KL","LK","KJ","LE","KH","LC","KB","LA","LG","KD","KF","LI","LH","KG","KE","LF","KA","LB","KC","LD","LJ","KI"]
[1,2,3,4,5,6,7,8,9,10,11,12,13,14,15,16,17,18,19,20,21,22]
["RFx",1,null,3,null,5,null,7,null,9,null,11,null,13,null,15,null,17,null,19,null,21]
["  o","  x","  o","  x","  o","  x","  o","  x--","--x","  o--","--o","  x","  o","  x--","--x","  o","  x","  o","  x","  o--","--o","  x","A",null,{"$f":"ClashCount('Other league dates'!G$6:G$27,$A837:$V837)","v":""},{"$f":"ClashCount('Other league dates'!H$6:H$27,$A837:$V837)","v":""},{"$f":"ClashCount('Other league dates'!I$6:I$27,$A837:$V837)","v":""}]
["  x","  o","  x","  o","  x","  o","  x","  o--","--o","  x--","--x","  o","  x","  o--","--o","  x","  o","  x","  o","  x--","--x","  o","B",null,{"$f":"ClashCount('Other league dates'!G$6:G$27,$A838:$V838)","v":""},{"$f":"ClashCount('Other league dates'!H$6:H$27,$A838:$V838)","v":""},{"$f":"ClashCount('Other league dates'!I$6:I$27,$A838:$V838)","v":""}]
["  o","  x","  o","  x","  o","  x","  o","  x--","--x","  o--","--o","  x--","--x","  o--","--o","  x--","--x","  o","  x","  o","  x","  o","C",null,{"$f":"ClashCount('Other league dates'!G$6:G$27,$A839:$V839)","v":""},{"$f":"ClashCount('Other league dates'!H$6:H$27,$A839:$V839)","v":""},{"$f":"ClashCount('Other league dates'!I$6:I$27,$A839:$V839)","v":""}]
["  x","  o","  x","  o","  x","  o","  x","  o--","--o","  x--","--x","  o--","--o","  x--","--x","  o--","--o","  x","  o","  x","  o","  x","D",null,{"$f":"ClashCount('Other league dates'!G$6:G$27,$A840:$V840)","v":""},{"$f":"ClashCount('Other league dates'!H$6:H$27,$A840:$V840)","v":""},{"$f":"ClashCount('Other league dates'!I$6:I$27,$A840:$V840)","v":""}]
["  o","  x","  o","  x","  o","  x","  o","  x--","--x","  o--","--o","  x","  o","  x--","--x","  o","  x","  o","  x","  o","  x","  o","E",null,{"$f":"ClashCount('Other league dates'!G$6:G$27,$A841:$V841)","v":""},{"$f":"ClashCount('Other league dates'!H$6:H$27,$A841:$V841)","v":""},{"$f":"ClashCount('Other league dates'!I$6:I$27,$A841:$V841)","v":""}]
["  x","  o","  x","  o","  x","  o","  x","  o--","--o","  x--","--x","  o","  x","  o--","--o","  x","  o","  x","  o","  x","  o","  x","F",null,{"$f":"ClashCount('Other league dates'!G$6:G$27,$A842:$V842)","v":""},{"$f":"ClashCount('Other league dates'!H$6:H$27,$A842:$V842)","v":""},{"$f":"ClashCount('Other league dates'!I$6:I$27,$A842:$V842)","v":""}]
["  o","  x","  o","  x","  o","  x","  o","  x--","--x","  o--","--o","  x","  o","  x--","--x","  o--","--o","  x","  o","  x","  o","  x","G",null,{"$f":"ClashCount('Other league dates'!G$6:G$27,$A843:$V843)","v":""},{"$f":"ClashCount('Other league dates'!H$6:H$27,$A843:$V843)","v":""},{"$f":"ClashCount('Other league dates'!I$6:I$27,$A843:$V843)","v":""}]
["  x","  o","  x","  o","  x","  o","  x","  o--","--o","  x--","--x","  o","  x","  o--","--o","  x--","--x","  o","  x","  o","  x","  o","H",null,{"$f":"ClashCount('Other league dates'!G$6:G$27,$A844:$V844)","v":""},{"$f":"ClashCount('Other league dates'!H$6:H$27,$A844:$V844)","v":""},{"$f":"ClashCount('Other league dates'!I$6:I$27,$A844:$V844)","v":""}]
["  o","  x","  o","  x","  o","  x","  o","  x--","--x","  o--","--o","  x--","--x","  o--","--o","  x","  o","  x","  o","  x","  o","  x","I",null,{"$f":"ClashCount('Other league dates'!G$6:G$27,$A845:$V845)","v":""},{"$f":"ClashCount('Other league dates'!H$6:H$27,$A845:$V845)","v":""},{"$f":"ClashCount('Other league dates'!I$6:I$27,$A845:$V845)","v":""}]
["  x","  o","  x","  o","  x","  o","  x","  o--","--o","  x--","--x","  o--","--o","  x--","--x","  o","  x","  o","  x","  o","  x","  o","J",null,{"$f":"ClashCount('Other league dates'!G$6:G$27,$A846:$V846)","v":""},{"$f":"ClashCount('Other league dates'!H$6:H$27,$A846:$V846)","v":""},{"$f":"ClashCount('Other league dates'!I$6:I$27,$A846:$V846)","v":""}]
["  o","  x","  o","  x","  o","  x","  o","  x--","--x","  o--","--o","  x--","--x","  o--","--o","  x","  o","  x","  o","  x--","--x","  o","K",null,{"$f":"ClashCount('Other league dates'!G$6:G$27,$A847:$V847)","v":""},{"$f":"ClashCount('Other league dates'!H$6:H$27,$A847:$V847)","v":""},{"$f":"ClashCount('Other league dates'!I$6:I$27,$A847:$V847)","v":""}]
["  x","  o","  x","  o","  x","  o","  x","  o--","--o","  x--","--x","  o--","--o","  x--","--x","  o","  x","  o","  x","  o--","--o","  x","L",null,{"$f":"ClashCount('Other league dates'!G$6:G$27,$A848:$V848)","v":""},{"$f":"ClashCount('Other league dates'!H$6:H$27,$A848:$V848)","v":""},{"$f":"ClashCount('Other league dates'!I$6:I$27,$A848:$V848)","v":""}]
[]
[]
[]
["12primx"]
[]
["AL","KL","AH","IL","AD","GL","AK","EL","AG","CL","AC","AJ","KI","AF","IG","AB","GE","AI","EC","AE","CA","BK"]
["CJ","BI","CF","KG","CB","IE","CI","GC","CE","EA","DK","CH","BG","CD","KE","CK","IC","CG","GA","DB","EJ","DI"]
["EH","DG","ED","BE","EK","KC","EG","IA","FB","GJ","FI","EF","DE","EB","BC","EI","KA","FD","IJ","FK","GH","FG"]
["GF","FE","GB","DC","GI","BA","HD","KJ","HK","IH","HG","GD","FC","GK","DA","HF","BJ","HB","KH","HI","IF","HE"]
["ID","HC","IK","FA","JF","DJ","JB","BH","JI","KF","JE","IB","HA","JH","FJ","JD","DH","JK","BF","JG","KD","JC"]
["KB","JA","LJ","HJ","LH","FH","LF","DF","LD","BD","LB","LK","JL","LI","HL","LG","FL","LE","DL","LC","BL","LA"]
[1,2,3,4,5,6,7,8,9,10,11,12,13,14,15,16,17,18,19,20,21,22]
["RFx",null,null,null,null,null,null,null,null,null,null,2,3,4,5,6,7,8,9,10,11,1]
["  o","  x","  o","  x","  o","  x","  o","  x","  o","  x","  o--","--o","  x","  o","  x","  o","  x","  o","  x","  o","  x--","--x","A",null,{"$f":"ClashCount('Other league dates'!G$6:G$27,$A862:$V862)","v":""},{"$f":"ClashCount('Other league dates'!H$6:H$27,$A862:$V862)","v":""},{"$f":"ClashCount('Other league dates'!I$6:I$27,$A862:$V862)","v":""}]
["  x","  o","  x","  o","  x","  o","  x","  o","  x","  o","  x--","--x","  o","  x","  o","  x","  o","  x","  o","  x","  o--","--o","B",null,{"$f":"ClashCount('Other league dates'!G$6:G$27,$A863:$V863)","v":""},{"$f":"ClashCount('Other league dates'!H$6:H$27,$A863:$V863)","v":""},{"$f":"ClashCount('Other league dates'!I$6:I$27,$A863:$V863)","v":""}]
["  o","  x","  o","  x","  o","  x","  o","  x","  o--","--o","  x","  o","  x","  o","  x","  o","  x","  o","  x--","--x","  o","  x","C",null,{"$f":"ClashCount('Other league dates'!G$6:G$27,$A864:$V864)","v":""},{"$f":"ClashCount('Other league dates'!H$6:H$27,$A864:$V864)","v":""},{"$f":"ClashCount('Other league dates'!I$6:I$27,$A864:$V864)","v":""}]
["  x","  o","  x","  o","  x","  o","  x","  o","  x--","--x","  o","  x","  o","  x","  o","  x","  o","  x","  o--","--o","  x","  o","D",null,{"$f":"ClashCount('Other league dates'!G$6:G$27,$A865:$V865)","v":""},{"$f":"ClashCount('Other league dates'!H$6:H$27,$A865:$V865)","v":""},{"$f":"ClashCount('Other league dates'!I$6:I$27,$A865:$V865)","v":""}]
["  o","  x","  o","  x","  o","  x","  o--","--o","  x","  o","  x","  o","  x","  o","  x","  o","  x--","--x","  o","  x","  o","  x","E",null,{"$f":"ClashCount('Other league dates'!G$6:G$27,$A866:$V866)","v":""},{"$f":"ClashCount('Other league dates'!H$6:H$27,$A866:$V866)","v":""},{"$f":"ClashCount('Other league dates'!I$6:I$27,$A866:$V866)","v":""}]
["  x","  o","  x","  o","  x","  o","  x--","--x","  o","  x","  o","  x","  o","  x","  o","  x","  o--","--o","  x","  o","  x","  o","F",null,{"$f":"ClashCount('Other league dates'!G$6:G$27,$A867:$V867)","v":""},{"$f":"ClashCount('Other league dates'!H$6:H$27,$A867:$V867)","v":""},{"$f":"ClashCount('Other league dates'!I$6:I$27,$A867:$V867)","v":""}]
["  o","  x","  o","  x","  o--","--o","  x","  o","  x","  o","  x","  o","  x","  o","  x--","--x","  o","  x","  o","  x","  o","  x","G",null,{"$f":"ClashCount('Other league dates'!G$6:G$27,$A868:$V868)","v":""},{"$f":"ClashCount('Other league dates'!H$6:H$27,$A868:$V868)","v":""},{"$f":"ClashCount('Other league dates'!I$6:I$27,$A868:$V868)","v":""}]
["  x","  o","  x","  o","  x--","--x","  o","  x","  o","  x","  o","  x","  o","  x","  o--","--o","  x","  o","  x","  o","  x","  o","H",null,{"$f":"ClashCount('Other league dates'!G$6:G$27,$A869:$V869)","v":""},{"$f":"ClashCount('Other league dates'!H$6:H$27,$A869:$V869)","v":""},{"$f":"ClashCount('Other league dates'!I$6:I$27,$A869:$V869)","v":""}]
["  o","  x","  o--","--o","  x","  o","  x","  o","  x","  o","  x","  o","  x--","--x","  o","  x","  o","  x","  o","  x","  o","  x","I",null,{"$f":"ClashCount('Other league dates'!G$6:G$27,$A870:$V870)","v":""},{"$f":"ClashCount('Other league dates'!H$6:H$27,$A870:$V870)","v":""},{"$f":"ClashCount('Other league dates'!I$6:I$27,$A870:$V870)","v":""}]
["  x","  o","  x--","--x","  o","  x","  o","  x","  o","  x","  o","  x","  o--","--o","  x","  o","  x","  o","  x","  o","  x","  o","J",null,{"$f":"ClashCount('Other league dates'!G$6:G$27,$A871:$V871)","v":""},{"$f":"ClashCount('Other league dates'!H$6:H$27,$A871:$V871)","v":""},{"$f":"ClashCount('Other league dates'!I$6:I$27,$A871:$V871)","v":""}]
["  o--","--o","  x","  o","  x","  o","  x","  o","  x","  o","  x--","--x","  o","  x","  o","  x","  o","  x","  o","  x","  o","  x","K",null,{"$f":"ClashCount('Other league dates'!G$6:G$27,$A872:$V872)","v":""},{"$f":"ClashCount('Other league dates'!H$6:H$27,$A872:$V872)","v":""},{"$f":"ClashCount('Other league dates'!I$6:I$27,$A872:$V872)","v":""}]
["  x--","--x","  o","  x","  o","  x","  o","  x","  o","  x","  o--","--o","  x","  o","  x","  o","  x","  o","  x","  o","  x","  o","L",null,{"$f":"ClashCount('Other league dates'!G$6:G$27,$A873:$V873)","v":""},{"$f":"ClashCount('Other league dates'!H$6:H$27,$A873:$V873)","v":""},{"$f":"ClashCount('Other league dates'!I$6:I$27,$A873:$V873)","v":""}]
[]
[]
[]
["12rraa"]
[]
["AJ","BL","AH","BI","AF","BJ","AD","BG","AK","BH","AI","BE","AG","BF","AE","BC","AC","BD","AB","BA","BK","AL"]
["CH","DG","CF","DE","CD","DC","CK","DA","CI","DL","CG","DJ","CE","DH","CB","DF","DB","CA","DK","CL","DI","CJ"]
["EF","FE","ED","FC","EK","FA","EI","FL","EG","FJ","EB","FH","FB","EC","FD","EA","FK","EL","FI","EJ","FG","EH"]
["GD","HC","GK","HA","GI","HL","GB","HJ","HB","GE","HF","GC","HD","GA","HK","GL","HI","GJ","HG","GH","HE","GF"]
["IK","JA","IB","JL","JB","IG","JH","IE","JF","IC","JD","IA","JK","IL","JI","IJ","JG","IH","JE","IF","JC","ID"]
["LB","KI","LJ","KG","LH","KE","LF","KC","LD","KA","LK","KL","LI","KJ","LG","KH","LE","KF","LC","KD","LA","KB"]
[1,2,3,4,5,6,7,8,9,10,11,12,13,14,15,16,17,18,19,20,21,22]
["RFx",1,null,3,null,5,null,7,null,9,null,11,null,13,null,15,null,17,null,19,null,21]
["  o","  x","  o","  x","  o","  x","  o","  x","  o","  x","  o","  x","  o","  x","  o","  x","  o","  x","  o","  x--","--x","  o","A",null,{"$f":"ClashCount('Other league dates'!G$6:G$27,$A887:$V887)","v":""},{"$f":"ClashCount('Other league dates'!H$6:H$27,$A887:$V887)","v":""},{"$f":"ClashCount('Other league dates'!I$6:I$27,$A887:$V887)","v":""}]
["  x","  o","  x","  o","  x","  o","  x","  o","  x","  o","  x","  o","  x","  o","  x","  o","  x","  o","  x","  o--","--o","  x","B",null,{"$f":"ClashCount('Other league dates'!G$6:G$27,$A888:$V888)","v":""},{"$f":"ClashCount('Other league dates'!H$6:H$27,$A888:$V888)","v":""},{"$f":"ClashCount('Other league dates'!I$6:I$27,$A888:$V888)","v":""}]
["  o","  x","  o","  x","  o","  x","  o","  x","  o","  x","  o","  x","  o","  x","  o","  x--","--x","  o","  x","  o","  x","  o","C",null,{"$f":"ClashCount('Other league dates'!G$6:G$27,$A889:$V889)","v":""},{"$f":"ClashCount('Other league dates'!H$6:H$27,$A889:$V889)","v":""},{"$f":"ClashCount('Other league dates'!I$6:I$27,$A889:$V889)","v":""}]
["  x","  o","  x","  o","  x","  o","  x","  o","  x","  o","  x","  o","  x","  o","  x","  o--","--o","  x","  o","  x","  o","  x","D",null,{"$f":"ClashCount('Other league dates'!G$6:G$27,$A890:$V890)","v":""},{"$f":"ClashCount('Other league dates'!H$6:H$27,$A890:$V890)","v":""},{"$f":"ClashCount('Other league dates'!I$6:I$27,$A890:$V890)","v":""}]
["  o","  x","  o","  x","  o","  x","  o","  x","  o","  x","  o","  x--","--x","  o","  x","  o","  x","  o","  x","  o","  x","  o","E",null,{"$f":"ClashCount('Other league dates'!G$6:G$27,$A891:$V891)","v":""},{"$f":"ClashCount('Other league dates'!H$6:H$27,$A891:$V891)","v":""},{"$f":"ClashCount('Other league dates'!I$6:I$27,$A891:$V891)","v":""}]
["  x","  o","  x","  o","  x","  o","  x","  o","  x","  o","  x","  o--","--o","  x","  o","  x","  o","  x","  o","  x","  o","  x","F",null,{"$f":"ClashCount('Other league dates'!G$6:G$27,$A892:$V892)","v":""},{"$f":"ClashCount('Other league dates'!H$6:H$27,$A892:$V892)","v":""},{"$f":"ClashCount('Other league dates'!I$6:I$27,$A892:$V892)","v":""}]
["  o","  x","  o","  x","  o","  x","  o","  x--","--x","  o","  x","  o","  x","  o","  x","  o","  x","  o","  x","  o","  x","  o","G",null,{"$f":"ClashCount('Other league dates'!G$6:G$27,$A893:$V893)","v":""},{"$f":"ClashCount('Other league dates'!H$6:H$27,$A893:$V893)","v":""},{"$f":"ClashCount('Other league dates'!I$6:I$27,$A893:$V893)","v":""}]
["  x","  o","  x","  o","  x","  o","  x","  o--","--o","  x","  o","  x","  o","  x","  o","  x","  o","  x","  o","  x","  o","  x","H",null,{"$f":"ClashCount('Other league dates'!G$6:G$27,$A894:$V894)","v":""},{"$f":"ClashCount('Other league dates'!H$6:H$27,$A894:$V894)","v":""},{"$f":"ClashCount('Other league dates'!I$6:I$27,$A894:$V894)","v":""}]
["  o","  x","  o","  x--","--x","  o","  x","  o","  x","  o","  x","  o","  x","  o","  x","  o","  x","  o","  x","  o","  x","  o","I",null,{"$f":"ClashCount('Other league dates'!G$6:G$27,$A895:$V895)","v":""},{"$f":"ClashCount('Other league dates'!H$6:H$27,$A895:$V895)","v":""},{"$f":"ClashCount('Other league dates'!I$6:I$27,$A895:$V895)","v":""}]
["  x","  o","  x","  o--","--o","  x","  o","  x","  o","  x","  o","  x","  o","  x","  o","  x","  o","  x","  o","  x","  o","  x","J",null,{"$f":"ClashCount('Other league dates'!G$6:G$27,$A896:$V896)","v":""},{"$f":"ClashCount('Other league dates'!H$6:H$27,$A896:$V896)","v":""},{"$f":"ClashCount('Other league dates'!I$6:I$27,$A896:$V896)","v":""}]
["  x","  o","  x","  o","  x","  o","  x","  o","  x","  o","  x","  o","  x","  o","  x","  o","  x","  o","  x","  o","  x","  o","K",null,{"$f":"ClashCount('Other league dates'!G$6:G$27,$A897:$V897)","v":""},{"$f":"ClashCount('Other league dates'!H$6:H$27,$A897:$V897)","v":""},{"$f":"ClashCount('Other league dates'!I$6:I$27,$A897:$V897)","v":""}]
["  o","  x","  o","  x","  o","  x","  o","  x","  o","  x","  o","  x","  o","  x","  o","  x","  o","  x","  o","  x","  o","  x","L",null,{"$f":"ClashCount('Other league dates'!G$6:G$27,$A898:$V898)","v":""},{"$f":"ClashCount('Other league dates'!H$6:H$27,$A898:$V898)","v":""},{"$f":"ClashCount('Other league dates'!I$6:I$27,$A898:$V898)","v":""}]
[]
[]
[]
["12WNC"]
[]
["AL","JA","AH","FA","AD","BA","AK","IA","AG","EA","AC","HA","AF","DA","AB","KA","AI","GA","AE","CA","AJ","LA"]
["CJ","HC","CF","DC","CB","KC","CI","GC","CE","CL","JE","FC","CD","BC","CK","IC","CG","EC","LC","EJ","CH","JC"]
["EH","FE","ED","BE","EK","IE","EG","EL","JI","GJ","HG","DE","EB","KE","EI","GE","LE","IJ","JG","GH","EF","HE"]
["GF","DG","GB","KG","GI","GL","JB","KJ","HK","IH","FI","BG","GK","IG","LG","BJ","JK","KH","HI","IF","GD","FG"]
["ID","BI","IK","IL","JF","DJ","HD","BH","FB","KF","DK","KI","LI","FJ","JD","DH","HB","BF","FK","KD","IB","DI"]
["KB","KL","LJ","HJ","LH","FH","LF","DF","LD","BD","LB","JL","JH","HL","HF","FL","FD","DL","DB","BL","LK","BK"]
[1,2,3,4,5,6,7,8,9,10,11,12,13,14,15,16,17,18,19,20,21,22]
["RFx",null,null,null,null,null,null,null,null,null,null,3,4,5,6,7,8,9,10,11,2,1,null,"Numbers on Warrington/N.Cheshire web site"]
["  o","  x","  o","  x","  o","  x","  o","  x","  o","  x","  o","  x","  o","  x","  o","  x","  o","  x","  o","  x","  o","  x","A",1,{"$f":"ClashCount('Other league dates'!G$6:G$27,$A912:$V912)","v":""},{"$f":"ClashCount('Other league dates'!H$6:H$27,$A912:$V912)","v":""},{"$f":"ClashCount('Other league dates'!I$6:I$27,$A912:$V912)","v":""}]
["  x","  o","  x","  o","  x","  o","  x","  o","  x","  o","  x","  o","  x","  o","  x","  o","  x","  o","  x","  o","  x","  o","B",7,{"$f":"ClashCount('Other league dates'!G$6:G$27,$A913:$V913)","v":""},{"$f":"ClashCount('Other league dates'!H$6:H$27,$A913:$V913)","v":""},{"$f":"ClashCount('Other league dates'!I$6:I$27,$A913:$V913)","v":""}]
["  o","  x","  o","  x","  o","  x","  o","  x","  o--","--o","  x--","--x","  o","  x","  o","  x","  o","  x--","--x","  o--","--o","  x","C",2,{"$f":"ClashCount('Other league dates'!G$6:G$27,$A914:$V914)","v":""},{"$f":"ClashCount('Other league dates'!H$6:H$27,$A914:$V914)","v":""},{"$f":"ClashCount('Other league dates'!I$6:I$27,$A914:$V914)","v":""}]
["  x","  o","  x","  o","  x","  o","  x","  o","  x--","--x","  o--","--o","  x","  o","  x","  o","  x","  o--","--o","  x--","--x","  o","D",8,{"$f":"ClashCount('Other league dates'!G$6:G$27,$A915:$V915)","v":""},{"$f":"ClashCount('Other league dates'!H$6:H$27,$A915:$V915)","v":""},{"$f":"ClashCount('Other league dates'!I$6:I$27,$A915:$V915)","v":""}]
["  o","  x","  o","  x","  o","  x","  o--","--o","  x","  o","  x--","--x","  o","  x","  o","  x--","--x","  o","  x","  o--","--o","  x","E",3,{"$f":"ClashCount('Other league dates'!G$6:G$27,$A916:$V916)","v":""},{"$f":"ClashCount('Other league dates'!H$6:H$27,$A916:$V916)","v":""},{"$f":"ClashCount('Other league dates'!I$6:I$27,$A916:$V916)","v":""}]
["  x","  o","  x","  o","  x","  o","  x--","--x","  o","  x","  o--","--o","  x","  o","  x","  o--","--o","  x","  o","  x--","--x","  o","F",9,{"$f":"ClashCount('Other league dates'!G$6:G$27,$A917:$V917)","v":""},{"$f":"ClashCount('Other league dates'!H$6:H$27,$A917:$V917)","v":""},{"$f":"ClashCount('Other league dates'!I$6:I$27,$A917:$V917)","v":""}]
["  o","  x","  o","  x","  o--","--o","  x","  o","  x","  o","  x--","--x","  o","  x--","--x","  o","  x","  o","  x","  o--","--o","  x","G",4,{"$f":"ClashCount('Other league dates'!G$6:G$27,$A918:$V918)","v":""},{"$f":"ClashCount('Other league dates'!H$6:H$27,$A918:$V918)","v":""},{"$f":"ClashCount('Other league dates'!I$6:I$27,$A918:$V918)","v":""}]
["  x","  o","  x","  o","  x--","--x","  o","  x","  o","  x","  o--","--o","  x","  o--","--o","  x","  o","  x","  o","  x--","--x","  o","H",10,{"$f":"ClashCount('Other league dates'!G$6:G$27,$A919:$V919)","v":""},{"$f":"ClashCount('Other league dates'!H$6:H$27,$A919:$V919)","v":""},{"$f":"ClashCount('Other league dates'!I$6:I$27,$A919:$V919)","v":""}]
["  o","  x","  o--","--o","  x","  o","  x","  o","  x","  o","  x--","--x--","--x","  o","  x","  o","  x","  o","  x","  o--","--o","  x","I",5,{"$f":"ClashCount('Other league dates'!G$6:G$27,$A920:$V920)","v":""},{"$f":"ClashCount('Other league dates'!H$6:H$27,$A920:$V920)","v":""},{"$f":"ClashCount('Other league dates'!I$6:I$27,$A920:$V920)","v":""}]
["  x","  o","  x--","--x","  o","  x","  o","  x","  o","  x","  o--","--o--","--o","  x","  o","  x","  o","  x","  o","  x--","--x","  o","J",11,{"$f":"ClashCount('Other league dates'!G$6:G$27,$A921:$V921)","v":""},{"$f":"ClashCount('Other league dates'!H$6:H$27,$A921:$V921)","v":""},{"$f":"ClashCount('Other league dates'!I$6:I$27,$A921:$V921)","v":""}]
["  o--","--o","  x","  o","  x","  o","  x","  o","  x","  o","  x","  o","  x","  o","  x","  o","  x","  o","  x","  o","  x--","--x","K",6,{"$f":"ClashCount('Other league dates'!G$6:G$27,$A922:$V922)","v":""},{"$f":"ClashCount('Other league dates'!H$6:H$27,$A922:$V922)","v":""},{"$f":"ClashCount('Other league dates'!I$6:I$27,$A922:$V922)","v":""}]
["  x--","--x","  o","  x","  o","  x","  o","  x","  o","  x","  o","  x","  o","  x","  o","  x","  o","  x","  o","  x","  o--","--o","L",12,{"$f":"ClashCount('Other league dates'!G$6:G$27,$A923:$V923)","v":""},{"$f":"ClashCount('Other league dates'!H$6:H$27,$A923:$V923)","v":""},{"$f":"ClashCount('Other league dates'!I$6:I$27,$A923:$V923)","v":""}]
[]
["Fit:","08WNC"]
[]
["12Berger"]
[]
["KB","BL","IB","BJ","GB","BH","EB","BF","CB","BD","AB","BA","DB","BC","FB","BE","HB","BG","JB","BI","LB","BK"]
["ID","JA","GK","HL","EI","FJ","CG","DH","AE","KF","LC","CL","FK","EA","HD","GC","JF","IE","LH","KG","AJ","DI"]
["GF","HC","ED","FA","CK","DL","AI","KJ","LG","IH","JE","EJ","HI","GL","JK","IA","LD","KC","AF","DE","CH","FG"]
["EH","FE","CF","DC","AD","KA","LK","IL","JI","GJ","HG","GH","JG","IJ","LI","KL","AK","DA","CD","FC","EF","HE"]
["CJ","DG","AH","KE","LF","IC","JD","GA","HK","EL","FI","IF","LE","KH","AG","DJ","CI","FL","EK","HA","GD","JC"]
["AL","KI","LJ","IG","JH","GE","HF","EC","FD","CA","DK","KD","AC","DF","CE","FH","EG","HJ","GI","JL","IK","LA"]
[1,2,3,4,5,6,7,8,9,10,11,12,13,14,15,16,17,18,19,20,21,22]
["RFx",null,null,null,null,null,null,null,null,null,null,11,10,9,8,7,6,5,4,3,2,1]
["  o","  x","  o","  x","  o","  x","  o","  x","  o","  x","  o","  x","  o","  x","  o","  x","  o","  x","  o","  x","  o","  x","A",null,{"$f":"ClashCount('Other league dates'!G$6:G$27,$A937:$V937)","v":""},{"$f":"ClashCount('Other league dates'!H$6:H$27,$A937:$V937)","v":""},{"$f":"ClashCount('Other league dates'!I$6:I$27,$A937:$V937)","v":""}]
["  x","  o","  x","  o","  x","  o","  x","  o","  x","  o","  x","  o","  x","  o","  x","  o","  x","  o","  x","  o","  x","  o","B",null,{"$f":"ClashCount('Other league dates'!G$6:G$27,$A938:$V938)","v":""},{"$f":"ClashCount('Other league dates'!H$6:H$27,$A938:$V938)","v":""},{"$f":"ClashCount('Other league dates'!I$6:I$27,$A938:$V938)","v":""}]
["  o","  x","  o","  x","  o","  x","  o","  x","  o--","--o","  x","  o","  x--","--x","  o","  x","  o","  x","  o","  x","  o","  x","C",null,{"$f":"ClashCount('Other league dates'!G$6:G$27,$A939:$V939)","v":""},{"$f":"ClashCount('Other league dates'!H$6:H$27,$A939:$V939)","v":""},{"$f":"ClashCount('Other league dates'!I$6:I$27,$A939:$V939)","v":""}]
["  x","  o","  x","  o","  x","  o","  x","  o","  x--","--x","  o","  x","  o--","--o","  x","  o","  x","  o","  x","  o","  x","  o","D",null,{"$f":"ClashCount('Other league dates'!G$6:G$27,$A940:$V940)","v":""},{"$f":"ClashCount('Other league dates'!H$6:H$27,$A940:$V940)","v":""},{"$f":"ClashCount('Other league dates'!I$6:I$27,$A940:$V940)","v":""}]
["  o","  x","  o","  x","  o","  x","  o--","--o","  x","  o","  x","  o","  x","  o","  x--","--x","  o","  x","  o","  x","  o","  x","E",null,{"$f":"ClashCount('Other league dates'!G$6:G$27,$A941:$V941)","v":""},{"$f":"ClashCount('Other league dates'!H$6:H$27,$A941:$V941)","v":""},{"$f":"ClashCount('Other league dates'!I$6:I$27,$A941:$V941)","v":""}]
["  x","  o","  x","  o","  x","  o","  x--","--x","  o","  x","  o","  x","  o","  x","  o--","--o","  x","  o","  x","  o","  x","  o","F",null,{"$f":"ClashCount('Other league dates'!G$6:G$27,$A942:$V942)","v":""},{"$f":"ClashCount('Other league dates'!H$6:H$27,$A942:$V942)","v":""},{"$f":"ClashCount('Other league dates'!I$6:I$27,$A942:$V942)","v":""}]
["  o","  x","  o","  x","  o--","--o","  x","  o","  x","  o","  x","  o","  x","  o","  x","  o","  x--","--x","  o","  x","  o","  x","G",null,{"$f":"ClashCount('Other league dates'!G$6:G$27,$A943:$V943)","v":""},{"$f":"ClashCount('Other league dates'!H$6:H$27,$A943:$V943)","v":""},{"$f":"ClashCount('Other league dates'!I$6:I$27,$A943:$V943)","v":""}]
["  x","  o","  x","  o","  x--","--x","  o","  x","  o","  x","  o","  x","  o","  x","  o","  x","  o--","--o","  x","  o","  x","  o","H",null,{"$f":"ClashCount('Other league dates'!G$6:G$27,$A944:$V944)","v":""},{"$f":"ClashCount('Other league dates'!H$6:H$27,$A944:$V944)","v":""},{"$f":"ClashCount('Other league dates'!I$6:I$27,$A944:$V944)","v":""}]
["  o","  x","  o--","--o","  x","  o","  x","  o","  x","  o","  x","  o","  x","  o","  x","  o","  x","  o","  x--","--x","  o","  x","I",null,{"$f":"ClashCount('Other league dates'!G$6:G$27,$A945:$V945)","v":""},{"$f":"ClashCount('Other league dates'!H$6:H$27,$A945:$V945)","v":""},{"$f":"ClashCount('Other league dates'!I$6:I$27,$A945:$V945)","v":""}]
["  x","  o","  x--","--x","  o","  x","  o","  x","  o","  x","  o","  x","  o","  x","  o","  x","  o","  x","  o--","--o","  x","  o","J",null,{"$f":"ClashCount('Other league dates'!G$6:G$27,$A946:$V946)","v":""},{"$f":"ClashCount('Other league dates'!H$6:H$27,$A946:$V946)","v":""},{"$f":"ClashCount('Other league dates'!I$6:I$27,$A946:$V946)","v":""}]
["  o--","--o","  x","  o","  x","  o","  x","  o","  x","  o","  x","  o","  x","  o","  x","  o","  x","  o","  x","  o","  x--","--x","K",null,{"$f":"ClashCount('Other league dates'!G$6:G$27,$A947:$V947)","v":""},{"$f":"ClashCount('Other league dates'!H$6:H$27,$A947:$V947)","v":""},{"$f":"ClashCount('Other league dates'!I$6:I$27,$A947:$V947)","v":""}]
["  x--","--x","  o","  x","  o","  x","  o","  x","  o","  x","  o","  x","  o","  x","  o","  x","  o","  x","  o","  x","  o--","--o","L",null,{"$f":"ClashCount('Other league dates'!G$6:G$27,$A948:$V948)","v":""},{"$f":"ClashCount('Other league dates'!H$6:H$27,$A948:$V948)","v":""},{"$f":"ClashCount('Other league dates'!I$6:I$27,$A948:$V948)","v":""}]
[]
["Fit:","08Berger",null,"10Berger",null,"14Berger",null,"16Berger"]
[]
["14aaaa"]
[]
["AL","BI","AH","BE","AD","BA","AK","BL","AG","BH","AC","BD","BM","BK","AJ","BG","AF","BC","AB","BN","AI","BJ","AE","BF","AM","AN"]
["CJ","DG","CF","DC","CB","DN","CI","DJ","CE","DF","DM","CN","DK","DI","CH","DE","CD","DA","CK","DL","CG","DH","CM","CA","DB","CL"]
["EH","FE","ED","FA","EK","FL","EG","FH","FM","EA","FB","EL","FI","FG","EF","FC","EB","FN","EI","FJ","EM","EC","FD","EN","FK","EJ"]
["GF","HC","GB","HN","GI","HJ","HM","GC","HD","GN","HK","GJ","HG","HE","GD","HA","GK","HL","GM","GE","HF","GA","HB","GL","HI","GH"]
["ID","JA","IK","JL","JM","IE","JF","IA","JB","IL","JI","IH","JE","JC","IB","JN","IM","IG","JH","IC","JD","IN","JK","IJ","JG","IF"]
["KB","LN","LM","KG","LH","KC","LD","KN","LK","KJ","LG","KF","LC","LA","KM","KI","LJ","KE","LF","KA","LB","KL","LI","KH","LE","KD"]
["NM","MK","NJ","MI","NF","MG","NB","ME","NI","MC","NE","MA","NA","MN","NL","ML","NH","MJ","ND","MH","NK","MF","NG","MD","NC","MB"]
[1,2,3,4,5,6,7,8,9,10,11,12,13,14,15,16,17,18,19,20,21,22,23,24,25,26]
["RFx",null,null,null,null,null,null,null,null,null,null,null,null,1,2,3,4,5,6,7,8,9,10,11,12,13]
["  o","  x","  o","  x","  o","  x","  o","  x","  o","  x","  o","  x--","--x--","--x","  o","  x","  o","  x","  o","  x","  o","  x","  o","  x","  o--","--o","A",null,{"$f":"ClashCount('Other league dates'!G$4:G$29,$A963:$Z963)","v":""},{"$f":"ClashCount('Other league dates'!H$4:H$29,$A963:$Z963)","v":""},{"$f":"ClashCount('Other league dates'!I$4:I$29,$A963:$Z963)","v":""}]
["  x","  o","  x","  o","  x","  o","  x","  o","  x","  o","  x","  o--","--o--","--o","  x","  o","  x","  o","  x","  o","  x","  o","  x","  o","  x--","--x","B",null,{"$f":"ClashCount('Other league dates'!G$4:G$29,$A964:$Z964)","v":""},{"$f":"ClashCount('Other league dates'!H$4:H$29,$A964:$Z964)","v":""},{"$f":"ClashCount('Other league dates'!I$4:I$29,$A964:$Z964)","v":""}]
["  o","  x","  o","  x","  o","  x","  o","  x","  o","  x--","--x","  o","  x--","--x","  o","  x","  o","  x","  o","  x","  o","  x","  o--","--o","  x","  o","C",null,{"$f":"ClashCount('Other league dates'!G$4:G$29,$A965:$Z965)","v":""},{"$f":"ClashCount('Other league dates'!H$4:H$29,$A965:$Z965)","v":""},{"$f":"ClashCount('Other league dates'!I$4:I$29,$A965:$Z965)","v":""}]
["  x","  o","  x","  o","  x","  o","  x","  o","  x","  o--","--o","  x","  o--","--o","  x","  o","  x","  o","  x","  o","  x","  o","  x--","--x","  o","  x","D",null,{"$f":"ClashCount('Other league dates'!G$4:G$29,$A966:$Z966)","v":""},{"$f":"ClashCount('Other league dates'!H$4:H$29,$A966:$Z966)","v":""},{"$f":"ClashCount('Other league dates'!I$4:I$29,$A966:$Z966)","v":""}]
["  o","  x","  o","  x","  o","  x","  o","  x--","--x","  o","  x","  o","  x--","--x","  o","  x","  o","  x","  o","  x","  o--","--o","  x","  o","  x","  o","E",null,{"$f":"ClashCount('Other league dates'!G$4:G$29,$A967:$Z967)","v":""},{"$f":"ClashCount('Other league dates'!H$4:H$29,$A967:$Z967)","v":""},{"$f":"ClashCount('Other league dates'!I$4:I$29,$A967:$Z967)","v":""}]
["  x","  o","  x","  o","  x","  o","  x","  o--","--o","  x","  o","  x","  o--","--o","  x","  o","  x","  o","  x","  o","  x--","--x","  o","  x","  o","  x","F",null,{"$f":"ClashCount('Other league dates'!G$4:G$29,$A968:$Z968)","v":""},{"$f":"ClashCount('Other league dates'!H$4:H$29,$A968:$Z968)","v":""},{"$f":"ClashCount('Other league dates'!I$4:I$29,$A968:$Z968)","v":""}]
["  o","  x","  o","  x","  o","  x--","--x","  o","  x","  o","  x","  o","  x--","--x","  o","  x","  o","  x","  o--","--o","  x","  o","  x","  o","  x","  o","G",null,{"$f":"ClashCount('Other league dates'!G$4:G$29,$A969:$Z969)","v":""},{"$f":"ClashCount('Other league dates'!H$4:H$29,$A969:$Z969)","v":""},{"$f":"ClashCount('Other league dates'!I$4:I$29,$A969:$Z969)","v":""}]
["  x","  o","  x","  o","  x","  o--","--o","  x","  o","  x","  o","  x","  o--","--o","  x","  o","  x","  o","  x--","--x","  o","  x","  o","  x","  o","  x","H",null,{"$f":"ClashCount('Other league dates'!G$4:G$29,$A970:$Z970)","v":""},{"$f":"ClashCount('Other league dates'!H$4:H$29,$A970:$Z970)","v":""},{"$f":"ClashCount('Other league dates'!I$4:I$29,$A970:$Z970)","v":""}]
["  o","  x","  o","  x--","--x","  o","  x","  o","  x","  o","  x","  o","  x--","--x","  o","  x","  o--","--o","  x","  o","  x","  o","  x","  o","  x","  o","I",null,{"$f":"ClashCount('Other league dates'!G$4:G$29,$A971:$Z971)","v":""},{"$f":"ClashCount('Other league dates'!H$4:H$29,$A971:$Z971)","v":""},{"$f":"ClashCount('Other league dates'!I$4:I$29,$A971:$Z971)","v":""}]
["  x","  o","  x","  o--","--o","  x","  o","  x","  o","  x","  o","  x","  o--","--o","  x","  o","  x--","--x","  o","  x","  o","  x","  o","  x","  o","  x","J",null,{"$f":"ClashCount('Other league dates'!G$4:G$29,$A972:$Z972)","v":""},{"$f":"ClashCount('Other league dates'!H$4:H$29,$A972:$Z972)","v":""},{"$f":"ClashCount('Other league dates'!I$4:I$29,$A972:$Z972)","v":""}]
["  o","  x--","--x","  o","  x","  o","  x","  o","  x","  o","  x","  o","  x--","--x","  o--","--o","  x","  o","  x","  o","  x","  o","  x","  o","  x","  o","K",null,{"$f":"ClashCount('Other league dates'!G$4:G$29,$A973:$Z973)","v":""},{"$f":"ClashCount('Other league dates'!H$4:H$29,$A973:$Z973)","v":""},{"$f":"ClashCount('Other league dates'!I$4:I$29,$A973:$Z973)","v":""}]
["  x","  o--","--o","  x","  o","  x","  o","  x","  o","  x","  o","  x","  o--","--o","  x--","--x","  o","  x","  o","  x","  o","  x","  o","  x","  o","  x","L",null,{"$f":"ClashCount('Other league dates'!G$4:G$29,$A974:$Z974)","v":""},{"$f":"ClashCount('Other league dates'!H$4:H$29,$A974:$Z974)","v":""},{"$f":"ClashCount('Other league dates'!I$4:I$29,$A974:$Z974)","v":""}]
["  x","  o","  x","  o","  x","  o","  x","  o","  x","  o","  x","  o","  x","  o","  x","  o","  x","  o","  x","  o","  x","  o","  x","  o","  x","  o","M",null,{"$f":"ClashCount('Other league dates'!G$4:G$29,$A975:$Z975)","v":""},{"$f":"ClashCount('Other league dates'!H$4:H$29,$A975:$Z975)","v":""},{"$f":"ClashCount('Other league dates'!I$4:I$29,$A975:$Z975)","v":""}]
["  o","  x","  o","  x","  o","  x","  o","  x","  o","  x","  o","  x","  o","  x","  o","  x","  o","  x","  o","  x","  o","  x","  o","  x","  o","  x","N",null,{"$f":"ClashCount('Other league dates'!G$4:G$29,$A976:$Z976)","v":""},{"$f":"ClashCount('Other league dates'!H$4:H$29,$A976:$Z976)","v":""},{"$f":"ClashCount('Other league dates'!I$4:I$29,$A976:$Z976)","v":""}]
[]
[]
[]
["14acaa"]
[]
["AL","BI","AH","BE","AD","BA","AK","BL","AG","BH","AC","BD","BM","BG","AF","BC","AB","BN","AI","BJ","AE","BF","AM","AN","BK","AJ"]
["CJ","DG","CF","DC","CB","DN","CI","DJ","CE","DF","DM","CN","DK","DE","CD","DA","CK","DL","CG","DH","CM","CA","DB","CL","DI","CH"]
["EH","FE","ED","FA","EK","FL","EG","FH","FM","EA","FB","EL","FI","FC","EB","FN","EI","FJ","EM","EC","FD","EN","FK","EJ","FG","EF"]
["GF","HC","GB","HN","GI","HJ","HM","GC","HD","GN","HK","GJ","HG","HA","GK","HL","GM","GE","HF","GA","HB","GL","HI","GH","HE","GD"]
["ID","JA","IK","JL","JM","IE","JF","IA","JB","IL","JI","IH","JE","JN","IM","IG","JH","IC","JD","IN","JK","IJ","JG","IF","JC","IB"]
["KB","LN","LM","KG","LH","KC","LD","KN","LK","KJ","LG","KF","LC","KI","LJ","KE","LF","KA","LB","KL","LI","KH","LE","KD","LA","KM"]
["NM","MK","NJ","MI","NF","MG","NB","ME","NI","MC","NE","MA","NA","ML","NH","MJ","ND","MH","NK","MF","NG","MD","NC","MB","MN","NL"]
[1,2,3,4,5,6,7,8,9,10,11,12,13,14,15,16,17,18,19,20,21,22,23,24,25,26]
["RFx",null,null,null,null,null,null,null,null,null,null,null,null,3,4,5,6,7,8,9,10,11,12,13,1,2]
["  o","  x","  o","  x","  o","  x","  o","  x","  o","  x","  o","  x--","--x--","--x","  o","  x","  o","  x","  o","  x","  o","  x","  o--","--o","  x","  o","A",null,{"$f":"ClashCount('Other league dates'!G$4:G$29,$A991:$Z991)","v":""},{"$f":"ClashCount('Other league dates'!H$4:H$29,$A991:$Z991)","v":""},{"$f":"ClashCount('Other league dates'!I$4:I$29,$A991:$Z991)","v":""}]
["  x","  o","  x","  o","  x","  o","  x","  o","  x","  o","  x","  o--","--o--","--o","  x","  o","  x","  o","  x","  o","  x","  o","  x--","--x","  o","  x","B",null,{"$f":"ClashCount('Other league dates'!G$4:G$29,$A992:$Z992)","v":""},{"$f":"ClashCount('Other league dates'!H$4:H$29,$A992:$Z992)","v":""},{"$f":"ClashCount('Other league dates'!I$4:I$29,$A992:$Z992)","v":""}]
["  o","  x","  o","  x","  o","  x","  o","  x","  o","  x--","--x","  o","  x--","--x","  o","  x","  o","  x","  o","  x","  o--","--o","  x","  o","  x","  o","C",null,{"$f":"ClashCount('Other league dates'!G$4:G$29,$A993:$Z993)","v":""},{"$f":"ClashCount('Other league dates'!H$4:H$29,$A993:$Z993)","v":""},{"$f":"ClashCount('Other league dates'!I$4:I$29,$A993:$Z993)","v":""}]
["  x","  o","  x","  o","  x","  o","  x","  o","  x","  o--","--o","  x","  o--","--o","  x","  o","  x","  o","  x","  o","  x--","--x","  o","  x","  o","  x","D",null,{"$f":"ClashCount('Other league dates'!G$4:G$29,$A994:$Z994)","v":""},{"$f":"ClashCount('Other league dates'!H$4:H$29,$A994:$Z994)","v":""},{"$f":"ClashCount('Other league dates'!I$4:I$29,$A994:$Z994)","v":""}]
["  o","  x","  o","  x","  o","  x","  o","  x--","--x","  o","  x","  o","  x--","--x","  o","  x","  o","  x","  o--","--o","  x","  o","  x","  o","  x","  o","E",null,{"$f":"ClashCount('Other league dates'!G$4:G$29,$A995:$Z995)","v":""},{"$f":"ClashCount('Other league dates'!H$4:H$29,$A995:$Z995)","v":""},{"$f":"ClashCount('Other league dates'!I$4:I$29,$A995:$Z995)","v":""}]
["  x","  o","  x","  o","  x","  o","  x","  o--","--o","  x","  o","  x","  o--","--o","  x","  o","  x","  o","  x--","--x","  o","  x","  o","  x","  o","  x","F",null,{"$f":"ClashCount('Other league dates'!G$4:G$29,$A996:$Z996)","v":""},{"$f":"ClashCount('Other league dates'!H$4:H$29,$A996:$Z996)","v":""},{"$f":"ClashCount('Other league dates'!I$4:I$29,$A996:$Z996)","v":""}]
["  o","  x","  o","  x","  o","  x--","--x","  o","  x","  o","  x","  o","  x--","--x","  o","  x","  o--","--o","  x","  o","  x","  o","  x","  o","  x","  o","G",null,{"$f":"ClashCount('Other league dates'!G$4:G$29,$A997:$Z997)","v":""},{"$f":"ClashCount('Other league dates'!H$4:H$29,$A997:$Z997)","v":""},{"$f":"ClashCount('Other league dates'!I$4:I$29,$A997:$Z997)","v":""}]
["  x","  o","  x","  o","  x","  o--","--o","  x","  o","  x","  o","  x","  o--","--o","  x","  o","  x--","--x","  o","  x","  o","  x","  o","  x","  o","  x","H",null,{"$f":"ClashCount('Other league dates'!G$4:G$29,$A998:$Z998)","v":""},{"$f":"ClashCount('Other league dates'!H$4:H$29,$A998:$Z998)","v":""},{"$f":"ClashCount('Other league dates'!I$4:I$29,$A998:$Z998)","v":""}]
["  o","  x","  o","  x--","--x","  o","  x","  o","  x","  o","  x","  o","  x--","--x","  o--","--o","  x","  o","  x","  o","  x","  o","  x","  o","  x","  o","I",null,{"$f":"ClashCount('Other league dates'!G$4:G$29,$A999:$Z999)","v":""},{"$f":"ClashCount('Other league dates'!H$4:H$29,$A999:$Z999)","v":""},{"$f":"ClashCount('Other league dates'!I$4:I$29,$A999:$Z999)","v":""}]
["  x","  o","  x","  o--","--o","  x","  o","  x","  o","  x","  o","  x","  o--","--o","  x--","--x","  o","  x","  o","  x","  o","  x","  o","  x","  o","  x","J",null,{"$f":"ClashCount('Other league dates'!G$4:G$29,$A1000:$Z1000)","v":""},{"$f":"ClashCount('Other league dates'!H$4:H$29,$A1000:$Z1000)","v":""},{"$f":"ClashCount('Other league dates'!I$4:I$29,$A1000:$Z1000)","v":""}]
["  o","  x--","--x","  o","  x","  o","  x","  o","  x","  o","  x","  o","  x","  o","  x","  o","  x","  o","  x","  o","  x","  o","  x","  o","  x","  o","K",null,{"$f":"ClashCount('Other league dates'!G$4:G$29,$A1001:$Z1001)","v":""},{"$f":"ClashCount('Other league dates'!H$4:H$29,$A1001:$Z1001)","v":""},{"$f":"ClashCount('Other league dates'!I$4:I$29,$A1001:$Z1001)","v":""}]
["  x","  o--","--o","  x","  o","  x","  o","  x","  o","  x","  o","  x","  o","  x","  o","  x","  o","  x","  o","  x","  o","  x","  o","  x","  o","  x","L",null,{"$f":"ClashCount('Other league dates'!G$4:G$29,$A1002:$Z1002)","v":""},{"$f":"ClashCount('Other league dates'!H$4:H$29,$A1002:$Z1002)","v":""},{"$f":"ClashCount('Other league dates'!I$4:I$29,$A1002:$Z1002)","v":""}]
["  x","  o","  x","  o","  x","  o","  x","  o","  x","  o","  x","  o","  x","  o","  x","  o","  x","  o","  x","  o","  x","  o","  x","  o--","--o","  x","M",null,{"$f":"ClashCount('Other league dates'!G$4:G$29,$A1003:$Z1003)","v":""},{"$f":"ClashCount('Other league dates'!H$4:H$29,$A1003:$Z1003)","v":""},{"$f":"ClashCount('Other league dates'!I$4:I$29,$A1003:$Z1003)","v":""}]
["  o","  x","  o","  x","  o","  x","  o","  x","  o","  x","  o","  x","  o","  x","  o","  x","  o","  x","  o","  x","  o","  x","  o","  x--","--x","  o","N",null,{"$f":"ClashCount('Other league dates'!G$4:G$29,$A1004:$Z1004)","v":""},{"$f":"ClashCount('Other league dates'!H$4:H$29,$A1004:$Z1004)","v":""},{"$f":"ClashCount('Other league dates'!I$4:I$29,$A1004:$Z1004)","v":""}]
[]
["Fit:","12aaaa",null,"12asm"]
[]
["14alanx",null,null,"Use J for Open date, to avoid successive away matches for other teams"]
[]
["AM","MJ","AC","KJ","AG","CJ","AB","EJ","AL","GJ","AF","IJ","AJ","BI","CK","AI","EC","AN","GE","AD","IG","AH","AE","KM","AK","MA"]
["NI","KA","MK","CM","ME","EK","MI","GC","MN","IE","MD","BG","MH","NG","EM","MG","GK","MB","IC","ML","BE","MF","MC","CA","NB","KH"]
["LG","CH","LB","EA","KC","GM","KG","IK","KB","BC","KL","NE","KF","LE","GA","KE","IM","KI","BK","KN","NC","KD","LN","EH","LI","CF"]
["DE","EF","DI","GH","DN","IA","CE","BM","CI","NK","CN","LC","CD","DC","IH","DL","BA","CG","NM","CB","LK","CL","DB","GF","DG","ED"]
["FC","GD","FG","IF","FB","BH","FL","NA","EG","LM","EB","DK","EL","FK","BF","FN","NH","FD","LA","EI","DM","EN","FI","ID","FE","GL"]
["HK","IL","HE","BD","HI","NF","HN","LH","HD","DA","GI","FM","GN","HM","ND","HB","LF","HL","DH","HF","FA","GB","HG","BL","HC","IN"]
["JB","BN","JN","NL","JL","LD","JD","DF","JF","FH","JH","HA","IB","JA","LJ","JC","DJ","JE","FJ","JG","HJ","JI","JK","NJ","JM","BJ"]
[1,2,3,4,5,6,7,8,9,10,11,12,13,14,15,16,17,18,19,20,21,22,23,24,25,26]
["RFx",null,null,null,null,null,null,null,null,null,null,null,null,13,5,6,7,8,9,10,11,12,4,3,2,1]
["  o","  x","  o","  x","  o","  x","  o","  x","  o","  x","  o","  x","  o","  x--","--x","  o","  x","  o","  x","  o","  x","  o--","--o","  x","  o","  x","A",null,{"$f":"ClashCount('Other league dates'!G$4:G$29,$A1019:$Z1019)","v":""},{"$f":"ClashCount('Other league dates'!H$4:H$29,$A1019:$Z1019)","v":""},{"$f":"ClashCount('Other league dates'!I$4:I$29,$A1019:$Z1019)","v":""}]
["  x","  o","  x","  o","  x","  o","  x","  o","  x","  o","  x","  o","  x","  o--","--o","  x","  o","  x","  o","  x","  o","  x--","--x","  o","  x","  o","B",null,{"$f":"ClashCount('Other league dates'!G$4:G$29,$A1020:$Z1020)","v":""},{"$f":"ClashCount('Other league dates'!H$4:H$29,$A1020:$Z1020)","v":""},{"$f":"ClashCount('Other league dates'!I$4:I$29,$A1020:$Z1020)","v":""}]
["  x","  o","  x","  o","  x","  o--","--o","  x","  o","  x","  o","  x","  o","  x","  o","  x--","--x","  o","  x","  o","  x","  o","  x","  o","  x","  o","C",null,{"$f":"ClashCount('Other league dates'!G$4:G$29,$A1021:$Z1021)","v":""},{"$f":"ClashCount('Other league dates'!H$4:H$29,$A1021:$Z1021)","v":""},{"$f":"ClashCount('Other league dates'!I$4:I$29,$A1021:$Z1021)","v":""}]
["  o","  x","  o","  x","  o","  x--","--x","  o","  x","  o","  x","  o","  x","  o","  x","  o--","--o","  x","  o","  x","  o","  x","  o","  x","  o","  x","D",null,{"$f":"ClashCount('Other league dates'!G$4:G$29,$A1022:$Z1022)","v":""},{"$f":"ClashCount('Other league dates'!H$4:H$29,$A1022:$Z1022)","v":""},{"$f":"ClashCount('Other league dates'!I$4:I$29,$A1022:$Z1022)","v":""}]
["  x","  o","  x","  o","  x","  o","  x","  o--","--o","  x","  o","  x","  o","  x","  o","  x","  o","  x--","--x","  o","  x","  o","  x","  o","  x","  o","E",null,{"$f":"ClashCount('Other league dates'!G$4:G$29,$A1023:$Z1023)","v":""},{"$f":"ClashCount('Other league dates'!H$4:H$29,$A1023:$Z1023)","v":""},{"$f":"ClashCount('Other league dates'!I$4:I$29,$A1023:$Z1023)","v":""}]
["  o","  x","  o","  x","  o","  x","  o","  x--","--x","  o","  x","  o","  x","  o","  x","  o","  x","  o--","--o","  x","  o","  x","  o","  x","  o","  x","F",null,{"$f":"ClashCount('Other league dates'!G$4:G$29,$A1024:$Z1024)","v":""},{"$f":"ClashCount('Other league dates'!H$4:H$29,$A1024:$Z1024)","v":""},{"$f":"ClashCount('Other league dates'!I$4:I$29,$A1024:$Z1024)","v":""}]
["  x","  o","  x","  o","  x","  o","  x","  o","  x","  o--","--o","  x","  o","  x","  o","  x","  o","  x","  o","  x--","--x","  o","  x","  o","  x","  o","G",null,{"$f":"ClashCount('Other league dates'!G$4:G$29,$A1025:$Z1025)","v":""},{"$f":"ClashCount('Other league dates'!H$4:H$29,$A1025:$Z1025)","v":""},{"$f":"ClashCount('Other league dates'!I$4:I$29,$A1025:$Z1025)","v":""}]
["  o","  x","  o","  x","  o","  x","  o","  x","  o","  x--","--x","  o","  x","  o","  x","  o","  x","  o","  x","  o--","--o","  x","  o","  x","  o","  x","H",null,{"$f":"ClashCount('Other league dates'!G$4:G$29,$A1026:$Z1026)","v":""},{"$f":"ClashCount('Other league dates'!H$4:H$29,$A1026:$Z1026)","v":""},{"$f":"ClashCount('Other league dates'!I$4:I$29,$A1026:$Z1026)","v":""}]
["  x","  o","  x","  o","  x","  o","  x","  o","  x","  o","  x","  o--","--o","  x","  o","  x","  o","  x","  o","  x","  o","  x--","--x","  o","  x","  o","I",null,{"$f":"ClashCount('Other league dates'!G$4:G$29,$A1027:$Z1027)","v":""},{"$f":"ClashCount('Other league dates'!H$4:H$29,$A1027:$Z1027)","v":""},{"$f":"ClashCount('Other league dates'!I$4:I$29,$A1027:$Z1027)","v":""}]
["  o","  x","  o","  x","  o","  x","  o","  x","  o","  x","  o","  x--","--x","  o","  x","  o","  x","  o","  x","  o","  x","  o--","--o","  x","  o","  x","J",null,{"$f":"ClashCount('Other league dates'!G$4:G$29,$A1028:$Z1028)","v":""},{"$f":"ClashCount('Other league dates'!H$4:H$29,$A1028:$Z1028)","v":""},{"$f":"ClashCount('Other league dates'!I$4:I$29,$A1028:$Z1028)","v":""}]
["  x","  o","  x","  o--","--o","  x","  o","  x","  o","  x","  o","  x","  o","  x--","--x","  o","  x","  o","  x","  o","  x","  o","  x","  o","  x","  o","K",null,{"$f":"ClashCount('Other league dates'!G$4:G$29,$A1029:$Z1029)","v":""},{"$f":"ClashCount('Other league dates'!H$4:H$29,$A1029:$Z1029)","v":""},{"$f":"ClashCount('Other league dates'!I$4:I$29,$A1029:$Z1029)","v":""}]
["  o","  x","  o","  x--","--x","  o","  x","  o","  x","  o","  x","  o","  x","  o--","--o","  x","  o","  x","  o","  x","  o","  x","  o","  x","  o","  x","L",null,{"$f":"ClashCount('Other league dates'!G$4:G$29,$A1030:$Z1030)","v":""},{"$f":"ClashCount('Other league dates'!H$4:H$29,$A1030:$Z1030)","v":""},{"$f":"ClashCount('Other league dates'!I$4:I$29,$A1030:$Z1030)","v":""}]
["  x","  o--","--o","  x","  o","  x","  o","  x","  o","  x","  o","  x","  o","  x--","--x","  o","  x","  o","  x","  o","  x","  o--","--o","  x--","--x","  o","M",null,{"$f":"ClashCount('Other league dates'!G$4:G$29,$A1031:$Z1031)","v":""},{"$f":"ClashCount('Other league dates'!H$4:H$29,$A1031:$Z1031)","v":""},{"$f":"ClashCount('Other league dates'!I$4:I$29,$A1031:$Z1031)","v":""}]
["  o","  x--","--x","  o","  x","  o","  x","  o","  x","  o","  x","  o","  x","  o--","--o","  x","  o","  x","  o","  x","  o","  x--","--x","  o--","--o","  x","N",null,{"$f":"ClashCount('Other league dates'!G$4:G$29,$A1032:$Z1032)","v":""},{"$f":"ClashCount('Other league dates'!H$4:H$29,$A1032:$Z1032)","v":""},{"$f":"ClashCount('Other league dates'!I$4:I$29,$A1032:$Z1032)","v":""}]
[]
["Fit:","10alanx",null,"12alanx"]
[]
["14amaa"]
[]
["AL","BI","AH","BE","AD","BA","AK","BL","AG","BH","AC","BD","BM","AN","BK","AJ","BG","AF","BC","AB","BN","AI","BJ","AE","BF","AM"]
["CJ","DG","CF","DC","CB","DN","CI","DJ","CE","DF","DM","CN","DK","CL","DI","CH","DE","CD","DA","CK","DL","CG","DH","CM","CA","DB"]
["EH","FE","ED","FA","EK","FL","EG","FH","FM","EA","FB","EL","FI","EJ","FG","EF","FC","EB","FN","EI","FJ","EM","EC","FD","EN","FK"]
["GF","HC","GB","HN","GI","HJ","HM","GC","HD","GN","HK","GJ","HG","GH","HE","GD","HA","GK","HL","GM","GE","HF","GA","HB","GL","HI"]
["ID","JA","IK","JL","JM","IE","JF","IA","JB","IL","JI","IH","JE","IF","JC","IB","JN","IM","IG","JH","IC","JD","IN","JK","IJ","JG"]
["KB","LN","LM","KG","LH","KC","LD","KN","LK","KJ","LG","KF","LC","KD","LA","KM","KI","LJ","KE","LF","KA","LB","KL","LI","KH","LE"]
["NM","MK","NJ","MI","NF","MG","NB","ME","NI","MC","NE","MA","NA","MB","MN","NL","ML","NH","MJ","ND","MH","NK","MF","NG","MD","NC"]
[1,2,3,4,5,6,7,8,9,10,11,12,13,14,15,16,17,18,19,20,21,22,23,24,25,26]
["RFx",null,null,null,null,null,null,null,null,null,null,null,null,13,1,2,3,4,5,6,7,8,9,10,11,12]
["  o","  x","  o","  x","  o","  x","  o","  x","  o","  x","  o","  x--","--x","  o","  x","  o","  x","  o","  x","  o","  x","  o","  x","  o","  x","  o","A",null,{"$f":"ClashCount('Other league dates'!G$4:G$29,$A1047:$Z1047)","v":""},{"$f":"ClashCount('Other league dates'!H$4:H$29,$A1047:$Z1047)","v":""},{"$f":"ClashCount('Other league dates'!I$4:I$29,$A1047:$Z1047)","v":""}]
["  x","  o","  x","  o","  x","  o","  x","  o","  x","  o","  x","  o--","--o","  x","  o","  x","  o","  x","  o","  x","  o","  x","  o","  x","  o","  x","B",null,{"$f":"ClashCount('Other league dates'!G$4:G$29,$A1048:$Z1048)","v":""},{"$f":"ClashCount('Other league dates'!H$4:H$29,$A1048:$Z1048)","v":""},{"$f":"ClashCount('Other league dates'!I$4:I$29,$A1048:$Z1048)","v":""}]
["  o","  x","  o","  x","  o","  x","  o","  x","  o","  x--","--x","  o","  x","  o","  x","  o","  x","  o","  x","  o","  x","  o","  x","  o--","--o","  x","C",null,{"$f":"ClashCount('Other league dates'!G$4:G$29,$A1049:$Z1049)","v":""},{"$f":"ClashCount('Other league dates'!H$4:H$29,$A1049:$Z1049)","v":""},{"$f":"ClashCount('Other league dates'!I$4:I$29,$A1049:$Z1049)","v":""}]
["  x","  o","  x","  o","  x","  o","  x","  o","  x","  o--","--o","  x","  o","  x","  o","  x","  o","  x","  o","  x","  o","  x","  o","  x--","--x","  o","D",null,{"$f":"ClashCount('Other league dates'!G$4:G$29,$A1050:$Z1050)","v":""},{"$f":"ClashCount('Other league dates'!H$4:H$29,$A1050:$Z1050)","v":""},{"$f":"ClashCount('Other league dates'!I$4:I$29,$A1050:$Z1050)","v":""}]
["  o","  x","  o","  x","  o","  x","  o","  x--","--x","  o","  x","  o","  x","  o","  x","  o","  x","  o","  x","  o","  x","  o--","--o","  x","  o","  x","E",null,{"$f":"ClashCount('Other league dates'!G$4:G$29,$A1051:$Z1051)","v":""},{"$f":"ClashCount('Other league dates'!H$4:H$29,$A1051:$Z1051)","v":""},{"$f":"ClashCount('Other league dates'!I$4:I$29,$A1051:$Z1051)","v":""}]
["  x","  o","  x","  o","  x","  o","  x","  o--","--o","  x","  o","  x","  o","  x","  o","  x","  o","  x","  o","  x","  o","  x--","--x","  o","  x","  o","F",null,{"$f":"ClashCount('Other league dates'!G$4:G$29,$A1052:$Z1052)","v":""},{"$f":"ClashCount('Other league dates'!H$4:H$29,$A1052:$Z1052)","v":""},{"$f":"ClashCount('Other league dates'!I$4:I$29,$A1052:$Z1052)","v":""}]
["  o","  x","  o","  x","  o","  x--","--x","  o","  x","  o","  x","  o","  x","  o","  x","  o","  x","  o","  x","  o--","--o","  x","  o","  x","  o","  x","G",null,{"$f":"ClashCount('Other league dates'!G$4:G$29,$A1053:$Z1053)","v":""},{"$f":"ClashCount('Other league dates'!H$4:H$29,$A1053:$Z1053)","v":""},{"$f":"ClashCount('Other league dates'!I$4:I$29,$A1053:$Z1053)","v":""}]
["  x","  o","  x","  o","  x","  o--","--o","  x","  o","  x","  o","  x","  o","  x","  o","  x","  o","  x","  o","  x--","--x","  o","  x","  o","  x","  o","H",null,{"$f":"ClashCount('Other league dates'!G$4:G$29,$A1054:$Z1054)","v":""},{"$f":"ClashCount('Other league dates'!H$4:H$29,$A1054:$Z1054)","v":""},{"$f":"ClashCount('Other league dates'!I$4:I$29,$A1054:$Z1054)","v":""}]
["  o","  x","  o","  x--","--x","  o","  x","  o","  x","  o","  x","  o","  x","  o","  x","  o","  x","  o--","--o","  x","  o","  x","  o","  x","  o","  x","I",null,{"$f":"ClashCount('Other league dates'!G$4:G$29,$A1055:$Z1055)","v":""},{"$f":"ClashCount('Other league dates'!H$4:H$29,$A1055:$Z1055)","v":""},{"$f":"ClashCount('Other league dates'!I$4:I$29,$A1055:$Z1055)","v":""}]
["  x","  o","  x","  o--","--o","  x","  o","  x","  o","  x","  o","  x","  o","  x","  o","  x","  o","  x--","--x","  o","  x","  o","  x","  o","  x","  o","J",null,{"$f":"ClashCount('Other league dates'!G$4:G$29,$A1056:$Z1056)","v":""},{"$f":"ClashCount('Other league dates'!H$4:H$29,$A1056:$Z1056)","v":""},{"$f":"ClashCount('Other league dates'!I$4:I$29,$A1056:$Z1056)","v":""}]
["  o","  x--","--x","  o","  x","  o","  x","  o","  x","  o","  x","  o","  x","  o","  x","  o--","--o","  x","  o","  x","  o","  x","  o","  x","  o","  x","K",null,{"$f":"ClashCount('Other league dates'!G$4:G$29,$A1057:$Z1057)","v":""},{"$f":"ClashCount('Other league dates'!H$4:H$29,$A1057:$Z1057)","v":""},{"$f":"ClashCount('Other league dates'!I$4:I$29,$A1057:$Z1057)","v":""}]
["  x","  o--","--o","  x","  o","  x","  o","  x","  o","  x","  o","  x","  o","  x","  o","  x--","--x","  o","  x","  o","  x","  o","  x","  o","  x","  o","L",null,{"$f":"ClashCount('Other league dates'!G$4:G$29,$A1058:$Z1058)","v":""},{"$f":"ClashCount('Other league dates'!H$4:H$29,$A1058:$Z1058)","v":""},{"$f":"ClashCount('Other league dates'!I$4:I$29,$A1058:$Z1058)","v":""}]
["  x","  o","  x","  o","  x","  o","  x","  o","  x","  o","  x","  o","  x","  o--","--o","  x","  o","  x","  o","  x","  o","  x","  o","  x","  o","  x","M",null,{"$f":"ClashCount('Other league dates'!G$4:G$29,$A1059:$Z1059)","v":""},{"$f":"ClashCount('Other league dates'!H$4:H$29,$A1059:$Z1059)","v":""},{"$f":"ClashCount('Other league dates'!I$4:I$29,$A1059:$Z1059)","v":""}]
["  o","  x","  o","  x","  o","  x","  o","  x","  o","  x","  o","  x","  o","  x--","--x","  o","  x","  o","  x","  o","  x","  o","  x","  o","  x","  o","N",null,{"$f":"ClashCount('Other league dates'!G$4:G$29,$A1060:$Z1060)","v":""},{"$f":"ClashCount('Other league dates'!H$4:H$29,$A1060:$Z1060)","v":""},{"$f":"ClashCount('Other league dates'!I$4:I$29,$A1060:$Z1060)","v":""}]
[]
[]
[]
["14amba"]
[]
["AL","BI","AH","BE","AD","BA","AK","BL","AG","BH","AC","BD","BM","AN","BG","AF","BC","AB","BN","AI","BJ","AE","BF","AM","AJ","BK"]
["CJ","DG","CF","DC","CB","DN","CI","DJ","CE","DF","DM","CN","DK","CL","DE","CD","DA","CK","DL","CG","DH","CM","CA","DB","CH","DI"]
["EH","FE","ED","FA","EK","FL","EG","FH","FM","EA","FB","EL","FI","EJ","FC","EB","FN","EI","FJ","EM","EC","FD","EN","FK","EF","FG"]
["GF","HC","GB","HN","GI","HJ","HM","GC","HD","GN","HK","GJ","HG","GH","HA","GK","HL","GM","GE","HF","GA","HB","GL","HI","GD","HE"]
["ID","JA","IK","JL","JM","IE","JF","IA","JB","IL","JI","IH","JE","IF","JN","IM","IG","JH","IC","JD","IN","JK","IJ","JG","IB","JC"]
["KB","LN","LM","KG","LH","KC","LD","KN","LK","KJ","LG","KF","LC","KD","KI","LJ","KE","LF","KA","LB","KL","LI","KH","LE","KM","LA"]
["NM","MK","NJ","MI","NF","MG","NB","ME","NI","MC","NE","MA","NA","MB","ML","NH","MJ","ND","MH","NK","MF","NG","MD","NC","NL","MN"]
[1,2,3,4,5,6,7,8,9,10,11,12,13,14,15,16,17,18,19,20,21,22,23,24,25,26]
["RFx",null,null,null,null,null,null,null,null,null,null,null,null,13,3,4,5,6,7,8,9,10,11,12,2,1]
["  o","  x","  o","  x","  o","  x","  o","  x","  o","  x","  o","  x--","--x","  o","  x","  o","  x","  o","  x","  o","  x","  o","  x","  o--","--o","  x","A",null,{"$f":"ClashCount('Other league dates'!G$4:G$29,$A1075:$Z1075)","v":""},{"$f":"ClashCount('Other league dates'!H$4:H$29,$A1075:$Z1075)","v":""},{"$f":"ClashCount('Other league dates'!I$4:I$29,$A1075:$Z1075)","v":""}]
["  x","  o","  x","  o","  x","  o","  x","  o","  x","  o","  x","  o--","--o","  x","  o","  x","  o","  x","  o","  x","  o","  x","  o","  x--","--x","  o","B",null,{"$f":"ClashCount('Other league dates'!G$4:G$29,$A1076:$Z1076)","v":""},{"$f":"ClashCount('Other league dates'!H$4:H$29,$A1076:$Z1076)","v":""},{"$f":"ClashCount('Other league dates'!I$4:I$29,$A1076:$Z1076)","v":""}]
["  o","  x","  o","  x","  o","  x","  o","  x","  o","  x--","--x","  o","  x","  o","  x","  o","  x","  o","  x","  o","  x","  o--","--o","  x","  o","  x","C",null,{"$f":"ClashCount('Other league dates'!G$4:G$29,$A1077:$Z1077)","v":""},{"$f":"ClashCount('Other league dates'!H$4:H$29,$A1077:$Z1077)","v":""},{"$f":"ClashCount('Other league dates'!I$4:I$29,$A1077:$Z1077)","v":""}]
["  x","  o","  x","  o","  x","  o","  x","  o","  x","  o--","--o","  x","  o","  x","  o","  x","  o","  x","  o","  x","  o","  x--","--x","  o","  x","  o","D",null,{"$f":"ClashCount('Other league dates'!G$4:G$29,$A1078:$Z1078)","v":""},{"$f":"ClashCount('Other league dates'!H$4:H$29,$A1078:$Z1078)","v":""},{"$f":"ClashCount('Other league dates'!I$4:I$29,$A1078:$Z1078)","v":""}]
["  o","  x","  o","  x","  o","  x","  o","  x--","--x","  o","  x","  o","  x","  o","  x","  o","  x","  o","  x","  o--","--o","  x","  o","  x","  o","  x","E",null,{"$f":"ClashCount('Other league dates'!G$4:G$29,$A1079:$Z1079)","v":""},{"$f":"ClashCount('Other league dates'!H$4:H$29,$A1079:$Z1079)","v":""},{"$f":"ClashCount('Other league dates'!I$4:I$29,$A1079:$Z1079)","v":""}]
["  x","  o","  x","  o","  x","  o","  x","  o--","--o","  x","  o","  x","  o","  x","  o","  x","  o","  x","  o","  x--","--x","  o","  x","  o","  x","  o","F",null,{"$f":"ClashCount('Other league dates'!G$4:G$29,$A1080:$Z1080)","v":""},{"$f":"ClashCount('Other league dates'!H$4:H$29,$A1080:$Z1080)","v":""},{"$f":"ClashCount('Other league dates'!I$4:I$29,$A1080:$Z1080)","v":""}]
["  o","  x","  o","  x","  o","  x--","--x","  o","  x","  o","  x","  o","  x","  o","  x","  o","  x","  o--","--o","  x","  o","  x","  o","  x","  o","  x","G",null,{"$f":"ClashCount('Other league dates'!G$4:G$29,$A1081:$Z1081)","v":""},{"$f":"ClashCount('Other league dates'!H$4:H$29,$A1081:$Z1081)","v":""},{"$f":"ClashCount('Other league dates'!I$4:I$29,$A1081:$Z1081)","v":""}]
["  x","  o","  x","  o","  x","  o--","--o","  x","  o","  x","  o","  x","  o","  x","  o","  x","  o","  x--","--x","  o","  x","  o","  x","  o","  x","  o","H",null,{"$f":"ClashCount('Other league dates'!G$4:G$29,$A1082:$Z1082)","v":""},{"$f":"ClashCount('Other league dates'!H$4:H$29,$A1082:$Z1082)","v":""},{"$f":"ClashCount('Other league dates'!I$4:I$29,$A1082:$Z1082)","v":""}]
["  o","  x","  o","  x--","--x","  o","  x","  o","  x","  o","  x","  o","  x","  o","  x","  o--","--o","  x","  o","  x","  o","  x","  o","  x","  o","  x","I",null,{"$f":"ClashCount('Other league dates'!G$4:G$29,$A1083:$Z1083)","v":""},{"$f":"ClashCount('Other league dates'!H$4:H$29,$A1083:$Z1083)","v":""},{"$f":"ClashCount('Other league dates'!I$4:I$29,$A1083:$Z1083)","v":""}]
["  x","  o","  x","  o--","--o","  x","  o","  x","  o","  x","  o","  x","  o","  x","  o","  x--","--x","  o","  x","  o","  x","  o","  x","  o","  x","  o","J",null,{"$f":"ClashCount('Other league dates'!G$4:G$29,$A1084:$Z1084)","v":""},{"$f":"ClashCount('Other league dates'!H$4:H$29,$A1084:$Z1084)","v":""},{"$f":"ClashCount('Other league dates'!I$4:I$29,$A1084:$Z1084)","v":""}]
["  o","  x--","--x","  o","  x","  o","  x","  o","  x","  o","  x","  o","  x","  o--","--o","  x","  o","  x","  o","  x","  o","  x","  o","  x","  o","  x","K",null,{"$f":"ClashCount('Other league dates'!G$4:G$29,$A1085:$Z1085)","v":""},{"$f":"ClashCount('Other league dates'!H$4:H$29,$A1085:$Z1085)","v":""},{"$f":"ClashCount('Other league dates'!I$4:I$29,$A1085:$Z1085)","v":""}]
["  x","  o--","--o","  x","  o","  x","  o","  x","  o","  x","  o","  x","  o","  x--","--x","  o","  x","  o","  x","  o","  x","  o","  x","  o","  x","  o","L",null,{"$f":"ClashCount('Other league dates'!G$4:G$29,$A1086:$Z1086)","v":""},{"$f":"ClashCount('Other league dates'!H$4:H$29,$A1086:$Z1086)","v":""},{"$f":"ClashCount('Other league dates'!I$4:I$29,$A1086:$Z1086)","v":""}]
["  x","  o","  x","  o","  x","  o","  x","  o","  x","  o","  x","  o","  x","  o--","--o","  x","  o","  x","  o","  x","  o","  x","  o","  x--","--x","  o","M",null,{"$f":"ClashCount('Other league dates'!G$4:G$29,$A1087:$Z1087)","v":""},{"$f":"ClashCount('Other league dates'!H$4:H$29,$A1087:$Z1087)","v":""},{"$f":"ClashCount('Other league dates'!I$4:I$29,$A1087:$Z1087)","v":""}]
["  o","  x","  o","  x","  o","  x","  o","  x","  o","  x","  o","  x","  o","  x--","--x","  o","  x","  o","  x","  o","  x","  o","  x","  o--","--o","  x","N",null,{"$f":"ClashCount('Other league dates'!G$4:G$29,$A1088:$Z1088)","v":""},{"$f":"ClashCount('Other league dates'!H$4:H$29,$A1088:$Z1088)","v":""},{"$f":"ClashCount('Other league dates'!I$4:I$29,$A1088:$Z1088)","v":""}]
[]
["Fit:","12akaa",null,"12akaaz",null,"14ambax"]
[]
["14ambax",null,null,"ERK addition. Swops weeks 2 and 26 to get MN pair played off early."]
[]
["AL","BK","AH","BE","AD","BA","AK","BL","AG","BH","AC","BD","BM","AN","BG","AF","BC","AB","BN","AI","BJ","AE","BF","AM","AJ","BI"]
["CJ","DI","CF","DC","CB","DN","CI","DJ","CE","DF","DM","CN","DK","CL","DE","CD","DA","CK","DL","CG","DH","CM","CA","DB","CH","DG"]
["EH","FG","ED","FA","EK","FL","EG","FH","FM","EA","FB","EL","FI","EJ","FC","EB","FN","EI","FJ","EM","EC","FD","EN","FK","EF","FE"]
["GF","HE","GB","HN","GI","HJ","HM","GC","HD","GN","HK","GJ","HG","GH","HA","GK","HL","GM","GE","HF","GA","HB","GL","HI","GD","HC"]
["ID","JC","IK","JL","JM","IE","JF","IA","JB","IL","JI","IH","JE","IF","JN","IM","IG","JH","IC","JD","IN","JK","IJ","JG","IB","JA"]
["KB","LA","LM","KG","LH","KC","LD","KN","LK","KJ","LG","KF","LC","KD","KI","LJ","KE","LF","KA","LB","KL","LI","KH","LE","KM","LN"]
["NM","MN","NJ","MI","NF","MG","NB","ME","NI","MC","NE","MA","NA","MB","ML","NH","MJ","ND","MH","NK","MF","NG","MD","NC","NL","MK"]
[1,2,3,4,5,6,7,8,9,10,11,12,13,14,15,16,17,18,19,20,21,22,23,24,25,26]
["RFx",1,null,null,null,null,null,null,null,null,null,null,null,13,3,4,5,6,7,8,9,10,11,12,null,25]
["  o","  x","  o","  x","  o","  x","  o","  x","  o","  x","  o","  x--","--x","  o","  x","  o","  x","  o","  x","  o","  x","  o","  x","  o--","--o","  x","A",null,{"$f":"ClashCount('Other league dates'!G$4:G$29,$A1103:$Z1103)","v":""},{"$f":"ClashCount('Other league dates'!H$4:H$29,$A1103:$Z1103)","v":""},{"$f":"ClashCount('Other league dates'!I$4:I$29,$A1103:$Z1103)","v":""}]
["  x","  o","  x","  o","  x","  o","  x","  o","  x","  o","  x","  o--","--o","  x","  o","  x","  o","  x","  o","  x","  o","  x","  o","  x--","--x","  o","B",null,{"$f":"ClashCount('Other league dates'!G$4:G$29,$A1104:$Z1104)","v":""},{"$f":"ClashCount('Other league dates'!H$4:H$29,$A1104:$Z1104)","v":""},{"$f":"ClashCount('Other league dates'!I$4:I$29,$A1104:$Z1104)","v":""}]
["  o","  x","  o","  x","  o","  x","  o","  x","  o","  x--","--x","  o","  x","  o","  x","  o","  x","  o","  x","  o","  x","  o--","--o","  x","  o","  x","C",null,{"$f":"ClashCount('Other league dates'!G$4:G$29,$A1105:$Z1105)","v":""},{"$f":"ClashCount('Other league dates'!H$4:H$29,$A1105:$Z1105)","v":""},{"$f":"ClashCount('Other league dates'!I$4:I$29,$A1105:$Z1105)","v":""}]
["  x","  o","  x","  o","  x","  o","  x","  o","  x","  o--","--o","  x","  o","  x","  o","  x","  o","  x","  o","  x","  o","  x--","--x","  o","  x","  o","D",null,{"$f":"ClashCount('Other league dates'!G$4:G$29,$A1106:$Z1106)","v":""},{"$f":"ClashCount('Other league dates'!H$4:H$29,$A1106:$Z1106)","v":""},{"$f":"ClashCount('Other league dates'!I$4:I$29,$A1106:$Z1106)","v":""}]
["  o","  x","  o","  x","  o","  x","  o","  x--","--x","  o","  x","  o","  x","  o","  x","  o","  x","  o","  x","  o--","--o","  x","  o","  x","  o","  x","E",null,{"$f":"ClashCount('Other league dates'!G$4:G$29,$A1107:$Z1107)","v":""},{"$f":"ClashCount('Other league dates'!H$4:H$29,$A1107:$Z1107)","v":""},{"$f":"ClashCount('Other league dates'!I$4:I$29,$A1107:$Z1107)","v":""}]
["  x","  o","  x","  o","  x","  o","  x","  o--","--o","  x","  o","  x","  o","  x","  o","  x","  o","  x","  o","  x--","--x","  o","  x","  o","  x","  o","F",null,{"$f":"ClashCount('Other league dates'!G$4:G$29,$A1108:$Z1108)","v":""},{"$f":"ClashCount('Other league dates'!H$4:H$29,$A1108:$Z1108)","v":""},{"$f":"ClashCount('Other league dates'!I$4:I$29,$A1108:$Z1108)","v":""}]
["  o","  x","  o","  x","  o","  x--","--x","  o","  x","  o","  x","  o","  x","  o","  x","  o","  x","  o--","--o","  x","  o","  x","  o","  x","  o","  x","G",null,{"$f":"ClashCount('Other league dates'!G$4:G$29,$A1109:$Z1109)","v":""},{"$f":"ClashCount('Other league dates'!H$4:H$29,$A1109:$Z1109)","v":""},{"$f":"ClashCount('Other league dates'!I$4:I$29,$A1109:$Z1109)","v":""}]
["  x","  o","  x","  o","  x","  o--","--o","  x","  o","  x","  o","  x","  o","  x","  o","  x","  o","  x--","--x","  o","  x","  o","  x","  o","  x","  o","H",null,{"$f":"ClashCount('Other league dates'!G$4:G$29,$A1110:$Z1110)","v":""},{"$f":"ClashCount('Other league dates'!H$4:H$29,$A1110:$Z1110)","v":""},{"$f":"ClashCount('Other league dates'!I$4:I$29,$A1110:$Z1110)","v":""}]
["  o","  x","  o","  x--","--x","  o","  x","  o","  x","  o","  x","  o","  x","  o","  x","  o--","--o","  x","  o","  x","  o","  x","  o","  x","  o","  x","I",null,{"$f":"ClashCount('Other league dates'!G$4:G$29,$A1111:$Z1111)","v":""},{"$f":"ClashCount('Other league dates'!H$4:H$29,$A1111:$Z1111)","v":""},{"$f":"ClashCount('Other league dates'!I$4:I$29,$A1111:$Z1111)","v":""}]
["  x","  o","  x","  o--","--o","  x","  o","  x","  o","  x","  o","  x","  o","  x","  o","  x--","--x","  o","  x","  o","  x","  o","  x","  o","  x","  o","J",null,{"$f":"ClashCount('Other league dates'!G$4:G$29,$A1112:$Z1112)","v":""},{"$f":"ClashCount('Other league dates'!H$4:H$29,$A1112:$Z1112)","v":""},{"$f":"ClashCount('Other league dates'!I$4:I$29,$A1112:$Z1112)","v":""}]
["  o","  x--","--x","  o","  x","  o","  x","  o","  x","  o","  x","  o","  x","  o--","--o","  x","  o","  x","  o","  x","  o","  x","  o","  x","  o","  x","K",null,{"$f":"ClashCount('Other league dates'!G$4:G$29,$A1113:$Z1113)","v":""},{"$f":"ClashCount('Other league dates'!H$4:H$29,$A1113:$Z1113)","v":""},{"$f":"ClashCount('Other league dates'!I$4:I$29,$A1113:$Z1113)","v":""}]
["  x","  o--","--o","  x","  o","  x","  o","  x","  o","  x","  o","  x","  o","  x--","--x","  o","  x","  o","  x","  o","  x","  o","  x","  o","  x","  o","L",null,{"$f":"ClashCount('Other league dates'!G$4:G$29,$A1114:$Z1114)","v":""},{"$f":"ClashCount('Other league dates'!H$4:H$29,$A1114:$Z1114)","v":""},{"$f":"ClashCount('Other league dates'!I$4:I$29,$A1114:$Z1114)","v":""}]
["  x","  o","  x","  o","  x","  o","  x","  o","  x","  o","  x","  o","  x","  o--","--o","  x","  o","  x","  o","  x","  o","  x","  o","  x--","--x","  o","M",null,{"$f":"ClashCount('Other league dates'!G$4:G$29,$A1115:$Z1115)","v":""},{"$f":"ClashCount('Other league dates'!H$4:H$29,$A1115:$Z1115)","v":""},{"$f":"ClashCount('Other league dates'!I$4:I$29,$A1115:$Z1115)","v":""}]
["  o","  x","  o","  x","  o","  x","  o","  x","  o","  x","  o","  x","  o","  x--","--x","  o","  x","  o","  x","  o","  x","  o","  x","  o--","--o","  x","N",null,{"$f":"ClashCount('Other league dates'!G$4:G$29,$A1116:$Z1116)","v":""},{"$f":"ClashCount('Other league dates'!H$4:H$29,$A1116:$Z1116)","v":""},{"$f":"ClashCount('Other league dates'!I$4:I$29,$A1116:$Z1116)","v":""}]
[]
["Fit:","12akaa",null,"12akaaz",null,"14amba"]
[]
["14amda"]
[]
["AL","BI","AH","BE","AD","BA","AK","BL","AG","BH","AC","BD","BM","AN","BN","AI","BJ","AE","BF","AM","AJ","BK","AF","BG","AB","BC"]
["CJ","DG","CF","DC","CB","DN","CI","DJ","CE","DF","DM","CN","DK","CL","DL","CG","DH","CM","CA","DB","CH","DI","CD","DE","CK","DA"]
["EH","FE","ED","FA","EK","FL","EG","FH","FM","EA","FB","EL","FI","EJ","FJ","EM","EC","FD","EN","FK","EF","FG","EB","FC","EI","FN"]
["GF","HC","GB","HN","GI","HJ","HM","GC","HD","GN","HK","GJ","HG","GH","GE","HF","GA","HB","GL","HI","GD","HE","GK","HA","GM","HL"]
["ID","JA","IK","JL","JM","IE","JF","IA","JB","IL","JI","IH","JE","IF","IC","JD","IN","JK","IJ","JG","IB","JC","IM","JN","JH","IG"]
["KB","LN","LM","KG","LH","KC","LD","KN","LK","KJ","LG","KF","LC","KD","KA","LB","KL","LI","KH","LE","KM","LA","LJ","KI","LF","KE"]
["NM","MK","NJ","MI","NF","MG","NB","ME","NI","MC","NE","MA","NA","MB","MH","NK","MF","NG","MD","NC","NL","MN","NH","ML","ND","MJ"]
[1,2,3,4,5,6,7,8,9,10,11,12,13,14,15,16,17,18,19,20,21,22,23,24,25,26]
["RFx",null,null,null,null,null,null,null,null,null,null,null,null,13,7,8,9,10,11,12,2,1,4,3,6,5]
["  o","  x","  o","  x","  o","  x","  o","  x","  o","  x","  o","  x--","--x","  o","  x","  o","  x","  o","  x","  o--","--o","  x","  o","  x","  o","  x","A",null,{"$f":"ClashCount('Other league dates'!G$4:G$29,$A1131:$Z1131)","v":""},{"$f":"ClashCount('Other league dates'!H$4:H$29,$A1131:$Z1131)","v":""},{"$f":"ClashCount('Other league dates'!I$4:I$29,$A1131:$Z1131)","v":""}]
["  x","  o","  x","  o","  x","  o","  x","  o","  x","  o","  x","  o--","--o","  x","  o","  x","  o","  x","  o","  x--","--x","  o","  x","  o","  x","  o","B",null,{"$f":"ClashCount('Other league dates'!G$4:G$29,$A1132:$Z1132)","v":""},{"$f":"ClashCount('Other league dates'!H$4:H$29,$A1132:$Z1132)","v":""},{"$f":"ClashCount('Other league dates'!I$4:I$29,$A1132:$Z1132)","v":""}]
["  o","  x","  o","  x","  o","  x","  o","  x","  o","  x--","--x","  o","  x","  o","  x","  o","  x","  o--","--o","  x","  o","  x","  o","  x","  o","  x","C",null,{"$f":"ClashCount('Other league dates'!G$4:G$29,$A1133:$Z1133)","v":""},{"$f":"ClashCount('Other league dates'!H$4:H$29,$A1133:$Z1133)","v":""},{"$f":"ClashCount('Other league dates'!I$4:I$29,$A1133:$Z1133)","v":""}]
["  x","  o","  x","  o","  x","  o","  x","  o","  x","  o--","--o","  x","  o","  x","  o","  x","  o","  x--","--x","  o","  x","  o","  x","  o","  x","  o","D",null,{"$f":"ClashCount('Other league dates'!G$4:G$29,$A1134:$Z1134)","v":""},{"$f":"ClashCount('Other league dates'!H$4:H$29,$A1134:$Z1134)","v":""},{"$f":"ClashCount('Other league dates'!I$4:I$29,$A1134:$Z1134)","v":""}]
["  o","  x","  o","  x","  o","  x","  o","  x--","--x","  o","  x","  o","  x","  o","  x","  o--","--o","  x","  o","  x","  o","  x","  o","  x","  o","  x","E",null,{"$f":"ClashCount('Other league dates'!G$4:G$29,$A1135:$Z1135)","v":""},{"$f":"ClashCount('Other league dates'!H$4:H$29,$A1135:$Z1135)","v":""},{"$f":"ClashCount('Other league dates'!I$4:I$29,$A1135:$Z1135)","v":""}]
["  x","  o","  x","  o","  x","  o","  x","  o--","--o","  x","  o","  x","  o","  x","  o","  x--","--x","  o","  x","  o","  x","  o","  x","  o","  x","  o","F",null,{"$f":"ClashCount('Other league dates'!G$4:G$29,$A1136:$Z1136)","v":""},{"$f":"ClashCount('Other league dates'!H$4:H$29,$A1136:$Z1136)","v":""},{"$f":"ClashCount('Other league dates'!I$4:I$29,$A1136:$Z1136)","v":""}]
["  o","  x","  o","  x","  o","  x--","--x","  o","  x","  o","  x","  o","  x","  o--","--o","  x","  o","  x","  o","  x","  o","  x","  o","  x","  o","  x","G",null,{"$f":"ClashCount('Other league dates'!G$4:G$29,$A1137:$Z1137)","v":""},{"$f":"ClashCount('Other league dates'!H$4:H$29,$A1137:$Z1137)","v":""},{"$f":"ClashCount('Other league dates'!I$4:I$29,$A1137:$Z1137)","v":""}]
["  x","  o","  x","  o","  x","  o--","--o","  x","  o","  x","  o","  x","  o","  x--","--x","  o","  x","  o","  x","  o","  x","  o","  x","  o","  x","  o","H",null,{"$f":"ClashCount('Other league dates'!G$4:G$29,$A1138:$Z1138)","v":""},{"$f":"ClashCount('Other league dates'!H$4:H$29,$A1138:$Z1138)","v":""},{"$f":"ClashCount('Other league dates'!I$4:I$29,$A1138:$Z1138)","v":""}]
["  o","  x","  o","  x--","--x","  o","  x","  o","  x","  o","  x","  o","  x","  o--","--o","  x","  o","  x","  o","  x","  o","  x","  o","  x--","--x","  o","I",null,{"$f":"ClashCount('Other league dates'!G$4:G$29,$A1139:$Z1139)","v":""},{"$f":"ClashCount('Other league dates'!H$4:H$29,$A1139:$Z1139)","v":""},{"$f":"ClashCount('Other league dates'!I$4:I$29,$A1139:$Z1139)","v":""}]
["  x","  o","  x","  o--","--o","  x","  o","  x","  o","  x","  o","  x","  o","  x--","--x","  o","  x","  o","  x","  o","  x","  o","  x","  o--","--o","  x","J",null,{"$f":"ClashCount('Other league dates'!G$4:G$29,$A1140:$Z1140)","v":""},{"$f":"ClashCount('Other league dates'!H$4:H$29,$A1140:$Z1140)","v":""},{"$f":"ClashCount('Other league dates'!I$4:I$29,$A1140:$Z1140)","v":""}]
["  o","  x--","--x","  o","  x","  o","  x","  o","  x","  o","  x","  o","  x","  o--","--o","  x","  o","  x","  o","  x","  o","  x--","--x","  o","  x","  o","K",null,{"$f":"ClashCount('Other league dates'!G$4:G$29,$A1141:$Z1141)","v":""},{"$f":"ClashCount('Other league dates'!H$4:H$29,$A1141:$Z1141)","v":""},{"$f":"ClashCount('Other league dates'!I$4:I$29,$A1141:$Z1141)","v":""}]
["  x","  o--","--o","  x","  o","  x","  o","  x","  o","  x","  o","  x","  o","  x--","--x","  o","  x","  o","  x","  o","  x","  o--","--o","  x","  o","  x","L",null,{"$f":"ClashCount('Other league dates'!G$4:G$29,$A1142:$Z1142)","v":""},{"$f":"ClashCount('Other league dates'!H$4:H$29,$A1142:$Z1142)","v":""},{"$f":"ClashCount('Other league dates'!I$4:I$29,$A1142:$Z1142)","v":""}]
["  x","  o","  x","  o","  x","  o","  x","  o","  x","  o","  x","  o","  x","  o--","--o","  x","  o","  x","  o","  x--","--x","  o","  x","  o","  x","  o","M",null,{"$f":"ClashCount('Other league dates'!G$4:G$29,$A1143:$Z1143)","v":""},{"$f":"ClashCount('Other league dates'!H$4:H$29,$A1143:$Z1143)","v":""},{"$f":"ClashCount('Other league dates'!I$4:I$29,$A1143:$Z1143)","v":""}]
["  o","  x","  o","  x","  o","  x","  o","  x","  o","  x","  o","  x","  o","  x--","--x","  o","  x","  o","  x","  o--","--o","  x","  o","  x","  o","  x","N",null,{"$f":"ClashCount('Other league dates'!G$4:G$29,$A1144:$Z1144)","v":""},{"$f":"ClashCount('Other league dates'!H$4:H$29,$A1144:$Z1144)","v":""},{"$f":"ClashCount('Other league dates'!I$4:I$29,$A1144:$Z1144)","v":""}]
[]
["Fit:","08agaa",null,"08agab"]
[]
["14anaa"]
[]
["AL","BI","AH","BE","AD","BA","AK","BL","AG","BH","AC","BD","BM","AN","AM","BF","AE","BJ","AI","BN","AB","BC","AF","BG","AJ","BK"]
["CJ","DG","CF","DC","CB","DN","CI","DJ","CE","DF","DM","CN","DK","CL","DB","CA","CM","DH","CG","DL","CK","DA","CD","DE","CH","DI"]
["EH","FE","ED","FA","EK","FL","EG","FH","FM","EA","FB","EL","FI","EJ","FK","EN","FD","EC","EM","FJ","EI","FN","EB","FC","EF","FG"]
["GF","HC","GB","HN","GI","HJ","HM","GC","HD","GN","HK","GJ","HG","GH","HI","GL","HB","GA","HF","GE","GM","HL","GK","HA","GD","HE"]
["ID","JA","IK","JL","JM","IE","JF","IA","JB","IL","JI","IH","JE","IF","JG","IJ","JK","IN","JD","IC","JH","IG","IM","JN","IB","JC"]
["KB","LN","LM","KG","LH","KC","LD","KN","LK","KJ","LG","KF","LC","KD","LE","KH","LI","KL","LB","KA","LF","KE","LJ","KI","KM","LA"]
["NM","MK","NJ","MI","NF","MG","NB","ME","NI","MC","NE","MA","NA","MB","NC","MD","NG","MF","NK","MH","ND","MJ","NH","ML","NL","MN"]
[1,2,3,4,5,6,7,8,9,10,11,12,13,14,15,16,17,18,19,20,21,22,23,24,25,26]
["RFx",null,null,null,null,null,null,null,null,null,null,null,null,13,12,11,10,9,8,7,6,5,4,3,2,1]
["  o","  x","  o","  x","  o","  x","  o","  x","  o","  x","  o","  x--","--x","  o--","--o","  x","  o","  x","  o","  x","  o","  x","  o","  x","  o","  x","A",null,{"$f":"ClashCount('Other league dates'!G$4:G$29,$A1159:$Z1159)","v":""},{"$f":"ClashCount('Other league dates'!H$4:H$29,$A1159:$Z1159)","v":""},{"$f":"ClashCount('Other league dates'!I$4:I$29,$A1159:$Z1159)","v":""}]
["  x","  o","  x","  o","  x","  o","  x","  o","  x","  o","  x","  o--","--o","  x--","--x","  o","  x","  o","  x","  o","  x","  o","  x","  o","  x","  o","B",null,{"$f":"ClashCount('Other league dates'!G$4:G$29,$A1160:$Z1160)","v":""},{"$f":"ClashCount('Other league dates'!H$4:H$29,$A1160:$Z1160)","v":""},{"$f":"ClashCount('Other league dates'!I$4:I$29,$A1160:$Z1160)","v":""}]
["  o","  x","  o","  x","  o","  x","  o","  x","  o","  x--","--x","  o","  x","  o","  x","  o--","--o","  x","  o","  x","  o","  x","  o","  x","  o","  x","C",null,{"$f":"ClashCount('Other league dates'!G$4:G$29,$A1161:$Z1161)","v":""},{"$f":"ClashCount('Other league dates'!H$4:H$29,$A1161:$Z1161)","v":""},{"$f":"ClashCount('Other league dates'!I$4:I$29,$A1161:$Z1161)","v":""}]
["  x","  o","  x","  o","  x","  o","  x","  o","  x","  o--","--o","  x","  o","  x","  o","  x--","--x","  o","  x","  o","  x","  o","  x","  o","  x","  o","D",null,{"$f":"ClashCount('Other league dates'!G$4:G$29,$A1162:$Z1162)","v":""},{"$f":"ClashCount('Other league dates'!H$4:H$29,$A1162:$Z1162)","v":""},{"$f":"ClashCount('Other league dates'!I$4:I$29,$A1162:$Z1162)","v":""}]
["  o","  x","  o","  x","  o","  x","  o","  x--","--x","  o","  x","  o","  x","  o","  x","  o","  x","  o--","--o","  x","  o","  x","  o","  x","  o","  x","E",null,{"$f":"ClashCount('Other league dates'!G$4:G$29,$A1163:$Z1163)","v":""},{"$f":"ClashCount('Other league dates'!H$4:H$29,$A1163:$Z1163)","v":""},{"$f":"ClashCount('Other league dates'!I$4:I$29,$A1163:$Z1163)","v":""}]
["  x","  o","  x","  o","  x","  o","  x","  o--","--o","  x","  o","  x","  o","  x","  o","  x","  o","  x--","--x","  o","  x","  o","  x","  o","  x","  o","F",null,{"$f":"ClashCount('Other league dates'!G$4:G$29,$A1164:$Z1164)","v":""},{"$f":"ClashCount('Other league dates'!H$4:H$29,$A1164:$Z1164)","v":""},{"$f":"ClashCount('Other league dates'!I$4:I$29,$A1164:$Z1164)","v":""}]
["  o","  x","  o","  x","  o","  x--","--x","  o","  x","  o","  x","  o","  x","  o","  x","  o","  x","  o","  x","  o--","--o","  x","  o","  x","  o","  x","G",null,{"$f":"ClashCount('Other league dates'!G$4:G$29,$A1165:$Z1165)","v":""},{"$f":"ClashCount('Other league dates'!H$4:H$29,$A1165:$Z1165)","v":""},{"$f":"ClashCount('Other league dates'!I$4:I$29,$A1165:$Z1165)","v":""}]
["  x","  o","  x","  o","  x","  o--","--o","  x","  o","  x","  o","  x","  o","  x","  o","  x","  o","  x","  o","  x--","--x","  o","  x","  o","  x","  o","H",null,{"$f":"ClashCount('Other league dates'!G$4:G$29,$A1166:$Z1166)","v":""},{"$f":"ClashCount('Other league dates'!H$4:H$29,$A1166:$Z1166)","v":""},{"$f":"ClashCount('Other league dates'!I$4:I$29,$A1166:$Z1166)","v":""}]
["  o","  x","  o","  x--","--x","  o","  x","  o","  x","  o","  x","  o","  x","  o","  x","  o","  x","  o","  x","  o","  x","  o--","--o","  x","  o","  x","I",null,{"$f":"ClashCount('Other league dates'!G$4:G$29,$A1167:$Z1167)","v":""},{"$f":"ClashCount('Other league dates'!H$4:H$29,$A1167:$Z1167)","v":""},{"$f":"ClashCount('Other league dates'!I$4:I$29,$A1167:$Z1167)","v":""}]
["  x","  o","  x","  o--","--o","  x","  o","  x","  o","  x","  o","  x","  o","  x","  o","  x","  o","  x","  o","  x","  o","  x--","--x","  o","  x","  o","J",null,{"$f":"ClashCount('Other league dates'!G$4:G$29,$A1168:$Z1168)","v":""},{"$f":"ClashCount('Other league dates'!H$4:H$29,$A1168:$Z1168)","v":""},{"$f":"ClashCount('Other league dates'!I$4:I$29,$A1168:$Z1168)","v":""}]
["  o","  x--","--x","  o","  x","  o","  x","  o","  x","  o","  x","  o","  x","  o","  x","  o","  x","  o","  x","  o","  x","  o","  x","  o--","--o","  x","K",null,{"$f":"ClashCount('Other league dates'!G$4:G$29,$A1169:$Z1169)","v":""},{"$f":"ClashCount('Other league dates'!H$4:H$29,$A1169:$Z1169)","v":""},{"$f":"ClashCount('Other league dates'!I$4:I$29,$A1169:$Z1169)","v":""}]
["  x","  o--","--o","  x","  o","  x","  o","  x","  o","  x","  o","  x","  o","  x","  o","  x","  o","  x","  o","  x","  o","  x","  o","  x--","--x","  o","L",null,{"$f":"ClashCount('Other league dates'!G$4:G$29,$A1170:$Z1170)","v":""},{"$f":"ClashCount('Other league dates'!H$4:H$29,$A1170:$Z1170)","v":""},{"$f":"ClashCount('Other league dates'!I$4:I$29,$A1170:$Z1170)","v":""}]
["  x","  o","  x","  o","  x","  o","  x","  o","  x","  o","  x","  o","  x","  o","  x","  o","  x","  o","  x","  o","  x","  o","  x","  o","  x","  o","M",null,{"$f":"ClashCount('Other league dates'!G$4:G$29,$A1171:$Z1171)","v":""},{"$f":"ClashCount('Other league dates'!H$4:H$29,$A1171:$Z1171)","v":""},{"$f":"ClashCount('Other league dates'!I$4:I$29,$A1171:$Z1171)","v":""}]
["  o","  x","  o","  x","  o","  x","  o","  x","  o","  x","  o","  x","  o","  x","  o","  x","  o","  x","  o","  x","  o","  x","  o","  x","  o","  x","N",null,{"$f":"ClashCount('Other league dates'!G$4:G$29,$A1172:$Z1172)","v":""},{"$f":"ClashCount('Other league dates'!H$4:H$29,$A1172:$Z1172)","v":""},{"$f":"ClashCount('Other league dates'!I$4:I$29,$A1172:$Z1172)","v":""}]
[]
["Fit:","08ataa",null,"08ataax",null,"10araa",null,"12apaa"]
[]
["14bbaa"]
[]
["AN","BI","AJ","BE","AF","BA","AM","BL","AI","BH","AE","BD","BM","AL","BG","AH","BC","AB","BN","AK","BJ","AG","BF","AC","AD","BK"]
["CL","DN","CH","DL","CB","DJ","CK","DH","CG","DF","CD","CA","DA","CJ","DK","CF","DI","CM","DG","CI","DE","CE","DC","DB","CN","DM"]
["EJ","FG","EF","FC","EM","FN","EI","FJ","ED","EC","FB","EN","FK","EH","FE","EB","FA","EK","FL","EG","FH","FD","EA","FM","EL","FI"]
["GH","HE","GB","HA","GK","HL","GD","GE","HF","GA","HM","GL","HI","GF","HC","GM","HN","GI","HJ","HD","GC","HB","GN","HK","GJ","HG"]
["IF","JC","IM","JN","ID","IG","JH","IC","JB","IN","JK","IJ","JG","IB","JA","IK","JL","JD","IE","JF","IA","JM","IL","JI","IH","JE"]
["KB","LA","KD","KI","LJ","KE","LF","KA","LM","KL","LI","KH","LE","KM","LN","LD","KG","LH","KC","LB","KN","LK","KJ","LG","KF","LC"]
["MD","MK","NL","MG","NH","MC","NB","MN","NK","MJ","NG","MF","NC","ND","MI","NJ","ME","NF","MA","NM","ML","NI","MH","NE","MB","NA"]
[1,2,3,4,5,6,7,8,9,10,11,12,13,14,15,16,17,18,19,20,21,22,23,24,25,26]
["RFx",null,null,null,null,null,null,null,null,null,null,null,null,2,3,4,5,6,7,8,9,10,11,12,13,1]
["  o","  x","  o","  x","  o","  x","  o","  x","  o","  x","  o","  x--","--x","  o","  x","  o","  x","  o","  x","  o","  x","  o","  x","  o--","--o","  x","A",null,{"$f":"ClashCount('Other league dates'!G$4:G$29,$A1187:$Z1187)","v":""},{"$f":"ClashCount('Other league dates'!H$4:H$29,$A1187:$Z1187)","v":""},{"$f":"ClashCount('Other league dates'!I$4:I$29,$A1187:$Z1187)","v":""}]
["  x","  o","  x","  o","  x","  o","  x","  o","  x","  o","  x","  o--","--o","  x","  o","  x","  o","  x","  o","  x","  o","  x","  o","  x--","--x","  o","B",null,{"$f":"ClashCount('Other league dates'!G$4:G$29,$A1188:$Z1188)","v":""},{"$f":"ClashCount('Other league dates'!H$4:H$29,$A1188:$Z1188)","v":""},{"$f":"ClashCount('Other league dates'!I$4:I$29,$A1188:$Z1188)","v":""}]
["  o","  x","  o","  x","  o","  x","  o","  x","  o","  x","  o--","--o","  x","  o","  x","  o","  x","  o","  x","  o","  x","  o","  x--","--x","  o","  x","C",null,{"$f":"ClashCount('Other league dates'!G$4:G$29,$A1189:$Z1189)","v":""},{"$f":"ClashCount('Other league dates'!H$4:H$29,$A1189:$Z1189)","v":""},{"$f":"ClashCount('Other league dates'!I$4:I$29,$A1189:$Z1189)","v":""}]
["  x","  o","  x","  o","  x","  o","  x","  o","  x","  o","  x--","--x","  o","  x","  o","  x","  o","  x","  o","  x","  o","  x","  o--","--o","  x","  o","D",null,{"$f":"ClashCount('Other league dates'!G$4:G$29,$A1190:$Z1190)","v":""},{"$f":"ClashCount('Other league dates'!H$4:H$29,$A1190:$Z1190)","v":""},{"$f":"ClashCount('Other league dates'!I$4:I$29,$A1190:$Z1190)","v":""}]
["  o","  x","  o","  x","  o","  x","  o","  x","  o--","--o","  x","  o","  x","  o","  x","  o","  x","  o","  x","  o","  x--","--x","  o","  x","  o","  x","E",null,{"$f":"ClashCount('Other league dates'!G$4:G$29,$A1191:$Z1191)","v":""},{"$f":"ClashCount('Other league dates'!H$4:H$29,$A1191:$Z1191)","v":""},{"$f":"ClashCount('Other league dates'!I$4:I$29,$A1191:$Z1191)","v":""}]
["  x","  o","  x","  o","  x","  o","  x","  o","  x--","--x","  o","  x","  o","  x","  o","  x","  o","  x","  o","  x","  o--","--o","  x","  o","  x","  o","F",null,{"$f":"ClashCount('Other league dates'!G$4:G$29,$A1192:$Z1192)","v":""},{"$f":"ClashCount('Other league dates'!H$4:H$29,$A1192:$Z1192)","v":""},{"$f":"ClashCount('Other league dates'!I$4:I$29,$A1192:$Z1192)","v":""}]
["  o","  x","  o","  x","  o","  x","  o--","--o","  x","  o","  x","  o","  x","  o","  x","  o","  x","  o","  x--","--x","  o","  x","  o","  x","  o","  x","G",null,{"$f":"ClashCount('Other league dates'!G$4:G$29,$A1193:$Z1193)","v":""},{"$f":"ClashCount('Other league dates'!H$4:H$29,$A1193:$Z1193)","v":""},{"$f":"ClashCount('Other league dates'!I$4:I$29,$A1193:$Z1193)","v":""}]
["  x","  o","  x","  o","  x","  o","  x--","--x","  o","  x","  o","  x","  o","  x","  o","  x","  o","  x","  o--","--o","  x","  o","  x","  o","  x","  o","H",null,{"$f":"ClashCount('Other league dates'!G$4:G$29,$A1194:$Z1194)","v":""},{"$f":"ClashCount('Other league dates'!H$4:H$29,$A1194:$Z1194)","v":""},{"$f":"ClashCount('Other league dates'!I$4:I$29,$A1194:$Z1194)","v":""}]
["  o","  x","  o","  x","  o--","--o","  x","  o","  x","  o","  x","  o","  x","  o","  x","  o","  x--","--x","  o","  x","  o","  x","  o","  x","  o","  x","I",null,{"$f":"ClashCount('Other league dates'!G$4:G$29,$A1195:$Z1195)","v":""},{"$f":"ClashCount('Other league dates'!H$4:H$29,$A1195:$Z1195)","v":""},{"$f":"ClashCount('Other league dates'!I$4:I$29,$A1195:$Z1195)","v":""}]
["  x","  o","  x","  o","  x--","--x","  o","  x","  o","  x","  o","  x","  o","  x","  o","  x","  o--","--o","  x","  o","  x","  o","  x","  o","  x","  o","J",null,{"$f":"ClashCount('Other league dates'!G$4:G$29,$A1196:$Z1196)","v":""},{"$f":"ClashCount('Other league dates'!H$4:H$29,$A1196:$Z1196)","v":""},{"$f":"ClashCount('Other league dates'!I$4:I$29,$A1196:$Z1196)","v":""}]
["  o","  x","  o--","--o","  x","  o","  x","  o","  x","  o","  x","  o","  x","  o","  x--","--x","  o","  x","  o","  x","  o","  x","  o","  x","  o","  x","K",null,{"$f":"ClashCount('Other league dates'!G$4:G$29,$A1197:$Z1197)","v":""},{"$f":"ClashCount('Other league dates'!H$4:H$29,$A1197:$Z1197)","v":""},{"$f":"ClashCount('Other league dates'!I$4:I$29,$A1197:$Z1197)","v":""}]
["  x","  o","  x--","--x","  o","  x","  o","  x","  o","  x","  o","  x","  o","  x","  o--","--o","  x","  o","  x","  o","  x","  o","  x","  o","  x","  o","L",null,{"$f":"ClashCount('Other league dates'!G$4:G$29,$A1198:$Z1198)","v":""},{"$f":"ClashCount('Other league dates'!H$4:H$29,$A1198:$Z1198)","v":""},{"$f":"ClashCount('Other league dates'!I$4:I$29,$A1198:$Z1198)","v":""}]
["  o--","--o","  x","  o","  x","  o","  x","  o","  x","  o","  x","  o","  x--","--x","  o","  x","  o","  x","  o","  x","  o","  x","  o","  x","  o","  x","M",null,{"$f":"ClashCount('Other league dates'!G$4:G$29,$A1199:$Z1199)","v":""},{"$f":"ClashCount('Other league dates'!H$4:H$29,$A1199:$Z1199)","v":""},{"$f":"ClashCount('Other league dates'!I$4:I$29,$A1199:$Z1199)","v":""}]
["  x--","--x","  o","  x","  o","  x","  o","  x","  o","  x","  o","  x","  o--","--o","  x","  o","  x","  o","  x","  o","  x","  o","  x","  o","  x","  o","N",null,{"$f":"ClashCount('Other league dates'!G$4:G$29,$A1200:$Z1200)","v":""},{"$f":"ClashCount('Other league dates'!H$4:H$29,$A1200:$Z1200)","v":""},{"$f":"ClashCount('Other league dates'!I$4:I$29,$A1200:$Z1200)","v":""}]
[]
[]
[]
["14bdaa"]
[]
["AN","BI","AJ","BE","AF","BA","AM","BL","AI","BH","AE","BD","BM","AH","BC","AB","BN","AK","BJ","AG","BF","AC","AD","BK","AL","BG"]
["CL","DN","CH","DL","CB","DJ","CK","DH","CG","DF","CD","CA","DA","CF","DI","CM","DG","CI","DE","CE","DC","DB","CN","DM","CJ","DK"]
["EJ","FG","EF","FC","EM","FN","EI","FJ","ED","EC","FB","EN","FK","EB","FA","EK","FL","EG","FH","FD","EA","FM","EL","FI","EH","FE"]
["GH","HE","GB","HA","GK","HL","GD","GE","HF","GA","HM","GL","HI","GM","HN","GI","HJ","HD","GC","HB","GN","HK","GJ","HG","GF","HC"]
["IF","JC","IM","JN","ID","IG","JH","IC","JB","IN","JK","IJ","JG","IK","JL","JD","IE","JF","IA","JM","IL","JI","IH","JE","IB","JA"]
["KB","LA","KD","KI","LJ","KE","LF","KA","LM","KL","LI","KH","LE","LD","KG","LH","KC","LB","KN","LK","KJ","LG","KF","LC","KM","LN"]
["MD","MK","NL","MG","NH","MC","NB","MN","NK","MJ","NG","MF","NC","NJ","ME","NF","MA","NM","ML","NI","MH","NE","MB","NA","ND","MI"]
[1,2,3,4,5,6,7,8,9,10,11,12,13,14,15,16,17,18,19,20,21,22,23,24,25,26]
["RFx",null,null,null,null,null,null,null,null,null,null,null,null,4,5,6,7,8,9,10,11,12,13,1,2,3]
["  o","  x","  o","  x","  o","  x","  o","  x","  o","  x","  o","  x--","--x","  o","  x","  o","  x","  o","  x","  o","  x","  o--","--o","  x","  o","  x","A",null,{"$f":"ClashCount('Other league dates'!G$4:G$29,$A1215:$Z1215)","v":""},{"$f":"ClashCount('Other league dates'!H$4:H$29,$A1215:$Z1215)","v":""},{"$f":"ClashCount('Other league dates'!I$4:I$29,$A1215:$Z1215)","v":""}]
["  x","  o","  x","  o","  x","  o","  x","  o","  x","  o","  x","  o--","--o","  x","  o","  x","  o","  x","  o","  x","  o","  x--","--x","  o","  x","  o","B",null,{"$f":"ClashCount('Other league dates'!G$4:G$29,$A1216:$Z1216)","v":""},{"$f":"ClashCount('Other league dates'!H$4:H$29,$A1216:$Z1216)","v":""},{"$f":"ClashCount('Other league dates'!I$4:I$29,$A1216:$Z1216)","v":""}]
["  o","  x","  o","  x","  o","  x","  o","  x","  o","  x","  o--","--o","  x","  o","  x","  o","  x","  o","  x","  o","  x--","--x","  o","  x","  o","  x","C",null,{"$f":"ClashCount('Other league dates'!G$4:G$29,$A1217:$Z1217)","v":""},{"$f":"ClashCount('Other league dates'!H$4:H$29,$A1217:$Z1217)","v":""},{"$f":"ClashCount('Other league dates'!I$4:I$29,$A1217:$Z1217)","v":""}]
["  x","  o","  x","  o","  x","  o","  x","  o","  x","  o","  x--","--x","  o","  x","  o","  x","  o","  x","  o","  x","  o--","--o","  x","  o","  x","  o","D",null,{"$f":"ClashCount('Other league dates'!G$4:G$29,$A1218:$Z1218)","v":""},{"$f":"ClashCount('Other league dates'!H$4:H$29,$A1218:$Z1218)","v":""},{"$f":"ClashCount('Other league dates'!I$4:I$29,$A1218:$Z1218)","v":""}]
["  o","  x","  o","  x","  o","  x","  o","  x","  o--","--o","  x","  o","  x","  o","  x","  o","  x","  o","  x--","--x","  o","  x","  o","  x","  o","  x","E",null,{"$f":"ClashCount('Other league dates'!G$4:G$29,$A1219:$Z1219)","v":""},{"$f":"ClashCount('Other league dates'!H$4:H$29,$A1219:$Z1219)","v":""},{"$f":"ClashCount('Other league dates'!I$4:I$29,$A1219:$Z1219)","v":""}]
["  x","  o","  x","  o","  x","  o","  x","  o","  x--","--x","  o","  x","  o","  x","  o","  x","  o","  x","  o--","--o","  x","  o","  x","  o","  x","  o","F",null,{"$f":"ClashCount('Other league dates'!G$4:G$29,$A1220:$Z1220)","v":""},{"$f":"ClashCount('Other league dates'!H$4:H$29,$A1220:$Z1220)","v":""},{"$f":"ClashCount('Other league dates'!I$4:I$29,$A1220:$Z1220)","v":""}]
["  o","  x","  o","  x","  o","  x","  o--","--o","  x","  o","  x","  o","  x","  o","  x","  o","  x--","--x","  o","  x","  o","  x","  o","  x","  o","  x","G",null,{"$f":"ClashCount('Other league dates'!G$4:G$29,$A1221:$Z1221)","v":""},{"$f":"ClashCount('Other league dates'!H$4:H$29,$A1221:$Z1221)","v":""},{"$f":"ClashCount('Other league dates'!I$4:I$29,$A1221:$Z1221)","v":""}]
["  x","  o","  x","  o","  x","  o","  x--","--x","  o","  x","  o","  x","  o","  x","  o","  x","  o--","--o","  x","  o","  x","  o","  x","  o","  x","  o","H",null,{"$f":"ClashCount('Other league dates'!G$4:G$29,$A1222:$Z1222)","v":""},{"$f":"ClashCount('Other league dates'!H$4:H$29,$A1222:$Z1222)","v":""},{"$f":"ClashCount('Other league dates'!I$4:I$29,$A1222:$Z1222)","v":""}]
["  o","  x","  o","  x","  o--","--o","  x","  o","  x","  o","  x","  o","  x","  o","  x--","--x","  o","  x","  o","  x","  o","  x","  o","  x","  o","  x","I",null,{"$f":"ClashCount('Other league dates'!G$4:G$29,$A1223:$Z1223)","v":""},{"$f":"ClashCount('Other league dates'!H$4:H$29,$A1223:$Z1223)","v":""},{"$f":"ClashCount('Other league dates'!I$4:I$29,$A1223:$Z1223)","v":""}]
["  x","  o","  x","  o","  x--","--x","  o","  x","  o","  x","  o","  x","  o","  x","  o--","--o","  x","  o","  x","  o","  x","  o","  x","  o","  x","  o","J",null,{"$f":"ClashCount('Other league dates'!G$4:G$29,$A1224:$Z1224)","v":""},{"$f":"ClashCount('Other league dates'!H$4:H$29,$A1224:$Z1224)","v":""},{"$f":"ClashCount('Other league dates'!I$4:I$29,$A1224:$Z1224)","v":""}]
["  o","  x","  o--","--o","  x","  o","  x","  o","  x","  o","  x","  o","  x--","--x","  o","  x","  o","  x","  o","  x","  o","  x","  o","  x","  o","  x","K",null,{"$f":"ClashCount('Other league dates'!G$4:G$29,$A1225:$Z1225)","v":""},{"$f":"ClashCount('Other league dates'!H$4:H$29,$A1225:$Z1225)","v":""},{"$f":"ClashCount('Other league dates'!I$4:I$29,$A1225:$Z1225)","v":""}]
["  x","  o","  x--","--x","  o","  x","  o","  x","  o","  x","  o","  x","  o--","--o","  x","  o","  x","  o","  x","  o","  x","  o","  x","  o","  x","  o","L",null,{"$f":"ClashCount('Other league dates'!G$4:G$29,$A1226:$Z1226)","v":""},{"$f":"ClashCount('Other league dates'!H$4:H$29,$A1226:$Z1226)","v":""},{"$f":"ClashCount('Other league dates'!I$4:I$29,$A1226:$Z1226)","v":""}]
["  o--","--o","  x","  o","  x","  o","  x","  o","  x","  o","  x","  o","  x--","--x","  o","  x","  o","  x","  o","  x","  o","  x","  o","  x--","--x","  o","M",null,{"$f":"ClashCount('Other league dates'!G$4:G$29,$A1227:$Z1227)","v":""},{"$f":"ClashCount('Other league dates'!H$4:H$29,$A1227:$Z1227)","v":""},{"$f":"ClashCount('Other league dates'!I$4:I$29,$A1227:$Z1227)","v":""}]
["  x--","--x","  o","  x","  o","  x","  o","  x","  o","  x","  o","  x","  o--","--o","  x","  o","  x","  o","  x","  o","  x","  o","  x","  o--","--o","  x","N",null,{"$f":"ClashCount('Other league dates'!G$4:G$29,$A1228:$Z1228)","v":""},{"$f":"ClashCount('Other league dates'!H$4:H$29,$A1228:$Z1228)","v":""},{"$f":"ClashCount('Other league dates'!I$4:I$29,$A1228:$Z1228)","v":""}]
[]
["Fit:","12bbaa"]
[]
["14cnaa"]
[]
["AJ","BI","AF","BE","AB","BN","AK","BJ","AG","BF","AC","AN","BM","AL","BC","BD","AE","BH","AI","BL","AM","BA","AD","BG","AH","BK"]
["CM","DG","CK","DA","CI","DL","CG","DH","CE","DC","DB","CB","DK","CN","DM","CA","CD","DF","CF","DJ","CH","DN","CJ","DE","CL","DI"]
["EH","FE","ED","FN","EM","FJ","EI","FC","FD","EA","FM","EL","FI","EJ","FK","EN","FB","EC","EG","FH","EK","FL","EB","FA","EF","FG"]
["GF","HA","GB","HL","GK","HC","HF","GE","HB","GN","HK","GJ","HG","GH","HI","GL","HM","GA","HD","GC","GI","HJ","GM","HN","GD","HE"]
["ID","JN","IM","JC","JH","IG","JD","IA","JM","IL","JI","IH","JE","IF","JG","IJ","JK","IN","JB","IE","JF","IC","IK","JL","IB","JA"]
["KB","LC","LJ","KI","LF","KE","LB","KN","LK","KJ","LG","KF","LA","KD","LE","KH","LI","KL","LM","KA","LD","KG","LH","KC","KM","LN"]
["NL","MK","NH","MG","ND","MA","NM","ML","NI","MH","NE","MD","NC","MB","NA","MF","NG","MJ","NK","MN","NB","ME","NF","MI","NJ","MC"]
[1,2,3,4,5,6,7,8,9,10,11,12,13,14,15,16,17,18,19,20,21,22,23,24,25,26]
["RFx",null,null,null,null,null,null,null,null,null,null,null,null,13,12,11,10,9,8,7,6,5,4,3,2,1]
["  o","  x","  o","  x","  o","  x","  o","  x","  o","  x","  o--","--o","  x","  o","  x--","--x","  o","  x","  o","  x","  o","  x","  o","  x","  o","  x","A",null,{"$f":"ClashCount('Other league dates'!G$4:G$29,$A1243:$Z1243)","v":""},{"$f":"ClashCount('Other league dates'!H$4:H$29,$A1243:$Z1243)","v":""},{"$f":"ClashCount('Other league dates'!I$4:I$29,$A1243:$Z1243)","v":""}]
["  x","  o","  x","  o","  x","  o","  x","  o","  x","  o","  x--","--x","  o","  x","  o--","--o","  x","  o","  x","  o","  x","  o","  x","  o","  x","  o","B",null,{"$f":"ClashCount('Other league dates'!G$4:G$29,$A1244:$Z1244)","v":""},{"$f":"ClashCount('Other league dates'!H$4:H$29,$A1244:$Z1244)","v":""},{"$f":"ClashCount('Other league dates'!I$4:I$29,$A1244:$Z1244)","v":""}]
["  o","  x","  o","  x","  o","  x","  o","  x","  o","  x--","--x","  o","  x","  o","  x","  o--","--o","  x","  o","  x","  o","  x","  o","  x","  o","  x","C",null,{"$f":"ClashCount('Other league dates'!G$4:G$29,$A1245:$Z1245)","v":""},{"$f":"ClashCount('Other league dates'!H$4:H$29,$A1245:$Z1245)","v":""},{"$f":"ClashCount('Other league dates'!I$4:I$29,$A1245:$Z1245)","v":""}]
["  x","  o","  x","  o","  x","  o","  x","  o","  x","  o--","--o","  x","  o","  x","  o","  x--","--x","  o","  x","  o","  x","  o","  x","  o","  x","  o","D",null,{"$f":"ClashCount('Other league dates'!G$4:G$29,$A1246:$Z1246)","v":""},{"$f":"ClashCount('Other league dates'!H$4:H$29,$A1246:$Z1246)","v":""},{"$f":"ClashCount('Other league dates'!I$4:I$29,$A1246:$Z1246)","v":""}]
["  o","  x","  o","  x","  o","  x","  o","  x--","--x","  o","  x","  o","  x","  o","  x","  o","  x","  o--","--o","  x","  o","  x","  o","  x","  o","  x","E",null,{"$f":"ClashCount('Other league dates'!G$4:G$29,$A1247:$Z1247)","v":""},{"$f":"ClashCount('Other league dates'!H$4:H$29,$A1247:$Z1247)","v":""},{"$f":"ClashCount('Other league dates'!I$4:I$29,$A1247:$Z1247)","v":""}]
["  x","  o","  x","  o","  x","  o","  x","  o--","--o","  x","  o","  x","  o","  x","  o","  x","  o","  x--","--x","  o","  x","  o","  x","  o","  x","  o","F",null,{"$f":"ClashCount('Other league dates'!G$4:G$29,$A1248:$Z1248)","v":""},{"$f":"ClashCount('Other league dates'!H$4:H$29,$A1248:$Z1248)","v":""},{"$f":"ClashCount('Other league dates'!I$4:I$29,$A1248:$Z1248)","v":""}]
["  o","  x","  o","  x","  o","  x--","--x","  o","  x","  o","  x","  o","  x","  o","  x","  o","  x","  o","  x","  o--","--o","  x","  o","  x","  o","  x","G",null,{"$f":"ClashCount('Other league dates'!G$4:G$29,$A1249:$Z1249)","v":""},{"$f":"ClashCount('Other league dates'!H$4:H$29,$A1249:$Z1249)","v":""},{"$f":"ClashCount('Other league dates'!I$4:I$29,$A1249:$Z1249)","v":""}]
["  x","  o","  x","  o","  x","  o--","--o","  x","  o","  x","  o","  x","  o","  x","  o","  x","  o","  x","  o","  x--","--x","  o","  x","  o","  x","  o","H",null,{"$f":"ClashCount('Other league dates'!G$4:G$29,$A1250:$Z1250)","v":""},{"$f":"ClashCount('Other league dates'!H$4:H$29,$A1250:$Z1250)","v":""},{"$f":"ClashCount('Other league dates'!I$4:I$29,$A1250:$Z1250)","v":""}]
["  o","  x","  o","  x--","--x","  o","  x","  o","  x","  o","  x","  o","  x","  o","  x","  o","  x","  o","  x","  o","  x","  o--","--o","  x","  o","  x","I",null,{"$f":"ClashCount('Other league dates'!G$4:G$29,$A1251:$Z1251)","v":""},{"$f":"ClashCount('Other league dates'!H$4:H$29,$A1251:$Z1251)","v":""},{"$f":"ClashCount('Other league dates'!I$4:I$29,$A1251:$Z1251)","v":""}]
["  x","  o","  x","  o--","--o","  x","  o","  x","  o","  x","  o","  x","  o","  x","  o","  x","  o","  x","  o","  x","  o","  x--","--x","  o","  x","  o","J",null,{"$f":"ClashCount('Other league dates'!G$4:G$29,$A1252:$Z1252)","v":""},{"$f":"ClashCount('Other league dates'!H$4:H$29,$A1252:$Z1252)","v":""},{"$f":"ClashCount('Other league dates'!I$4:I$29,$A1252:$Z1252)","v":""}]
["  o","  x--","--x","  o","  x","  o","  x","  o","  x","  o","  x","  o","  x","  o","  x","  o","  x","  o","  x","  o","  x","  o","  x","  o--","--o","  x","K",null,{"$f":"ClashCount('Other league dates'!G$4:G$29,$A1253:$Z1253)","v":""},{"$f":"ClashCount('Other league dates'!H$4:H$29,$A1253:$Z1253)","v":""},{"$f":"ClashCount('Other league dates'!I$4:I$29,$A1253:$Z1253)","v":""}]
["  x","  o--","--o","  x","  o","  x","  o","  x","  o","  x","  o","  x","  o","  x","  o","  x","  o","  x","  o","  x","  o","  x","  o","  x--","--x","  o","L",null,{"$f":"ClashCount('Other league dates'!G$4:G$29,$A1254:$Z1254)","v":""},{"$f":"ClashCount('Other league dates'!H$4:H$29,$A1254:$Z1254)","v":""},{"$f":"ClashCount('Other league dates'!I$4:I$29,$A1254:$Z1254)","v":""}]
["  x","  o","  x","  o","  x","  o","  x","  o","  x","  o","  x","  o","  x","  o","  x","  o","  x","  o","  x","  o","  x","  o","  x","  o","  x","  o","M",null,{"$f":"ClashCount('Other league dates'!G$4:G$29,$A1255:$Z1255)","v":""},{"$f":"ClashCount('Other league dates'!H$4:H$29,$A1255:$Z1255)","v":""},{"$f":"ClashCount('Other league dates'!I$4:I$29,$A1255:$Z1255)","v":""}]
["  o","  x","  o","  x","  o","  x","  o","  x","  o","  x","  o","  x","  o","  x","  o","  x","  o","  x","  o","  x","  o","  x","  o","  x","  o","  x","N",null,{"$f":"ClashCount('Other league dates'!G$4:G$29,$A1256:$Z1256)","v":""},{"$f":"ClashCount('Other league dates'!H$4:H$29,$A1256:$Z1256)","v":""},{"$f":"ClashCount('Other league dates'!I$4:I$29,$A1256:$Z1256)","v":""}]
[]
[]
[]
["14donx",null,null,"Use J for Open date, to avoid successive away matches for other teams"]
[]
["NJ","KN","KJ","JI","KF","GJ","KB","EJ","KL","CJ","KG","AJ","KC","LI","KH","IG","KD","GE","KM","EC","KI","CA","KE","AN","KA","NK"]
["AK","MI","NH","LG","ND","IE","NM","GC","NI","EA","NE","CN","NA","MG","NF","LE","NB","IC","NL","GA","NG","EN","NC","CK","ML","AH"]
["CH","BG","AF","ME","AB","LC","AL","IA","AG","GN","AC","EK","BL","BE","AD","MC","AM","LA","AI","IN","AE","GK","BM","EH","BI","CF"]
["EF","DE","CD","BC","CM","MA","CI","LN","CE","IK","DM","GH","DI","DC","CB","BA","CL","MN","CG","LK","DB","IH","DL","GF","DG","ED"]
["GD","FC","EB","DA","EL","BN","EG","MK","FB","LH","FL","IF","FG","FA","EM","DN","EI","BK","FD","MH","FM","LF","FI","ID","FE","GB"]
["IB","HA","GM","FN","GI","DK","HD","BH","HM","MF","HI","LD","HE","HN","GL","FK","HF","DH","HB","BF","HL","MD","HG","LB","HC","IM"]
["LM","JL","IL","HK","JH","FH","JF","DF","JD","BD","JB","MB","JM","JK","IJ","HJ","JG","FJ","JE","DJ","JC","BJ","JA","MJ","JN","LJ"]
[1,2,3,4,5,6,7,8,9,10,11,12,13,14,15,16,17,18,19,20,21,22,23,24,25,26]
["RFx",null,null,null,null,null,null,null,null,null,null,null,null,3,4,5,6,7,8,9,10,11,12,13,1,2]
["  o","  x","  o","  x","  o","  x","  o","  x","  o","  x","  o--","--o","  x--","--x","  o","  x","  o","  x","  o","  x","  o","  x--","--x","  o","  x","  o","A",null,{"$f":"ClashCount('Other league dates'!G$4:G$29,$A1271:$Z1271)","v":""},{"$f":"ClashCount('Other league dates'!H$4:H$29,$A1271:$Z1271)","v":""},{"$f":"ClashCount('Other league dates'!I$4:I$29,$A1271:$Z1271)","v":""}]
["  x","  o","  x","  o","  x","  o","  x","  o","  x","  o","  x--","--x","  o--","--o","  x","  o","  x","  o","  x","  o","  x","  o--","--o","  x","  o","  x","B",null,{"$f":"ClashCount('Other league dates'!G$4:G$29,$A1272:$Z1272)","v":""},{"$f":"ClashCount('Other league dates'!H$4:H$29,$A1272:$Z1272)","v":""},{"$f":"ClashCount('Other league dates'!I$4:I$29,$A1272:$Z1272)","v":""}]
["  o","  x","  o","  x","  o","  x","  o","  x","  o--","--o","  x","  o","  x--","--x","  o","  x","  o","  x","  o","  x--","--x","  o","  x","  o","  x","  o","C",null,{"$f":"ClashCount('Other league dates'!G$4:G$29,$A1273:$Z1273)","v":""},{"$f":"ClashCount('Other league dates'!H$4:H$29,$A1273:$Z1273)","v":""},{"$f":"ClashCount('Other league dates'!I$4:I$29,$A1273:$Z1273)","v":""}]
["  x","  o","  x","  o","  x","  o","  x","  o","  x--","--x","  o","  x","  o--","--o","  x","  o","  x","  o","  x","  o--","--o","  x","  o","  x","  o","  x","D",null,{"$f":"ClashCount('Other league dates'!G$4:G$29,$A1274:$Z1274)","v":""},{"$f":"ClashCount('Other league dates'!H$4:H$29,$A1274:$Z1274)","v":""},{"$f":"ClashCount('Other league dates'!I$4:I$29,$A1274:$Z1274)","v":""}]
["  o","  x","  o","  x","  o","  x","  o--","--o","  x","  o","  x","  o","  x--","--x","  o","  x","  o","  x--","--x","  o","  x","  o","  x","  o","  x","  o","E",null,{"$f":"ClashCount('Other league dates'!G$4:G$29,$A1275:$Z1275)","v":""},{"$f":"ClashCount('Other league dates'!H$4:H$29,$A1275:$Z1275)","v":""},{"$f":"ClashCount('Other league dates'!I$4:I$29,$A1275:$Z1275)","v":""}]
["  x","  o","  x","  o","  x","  o","  x--","--x","  o","  x","  o","  x","  o--","--o","  x","  o","  x","  o--","--o","  x","  o","  x","  o","  x","  o","  x","F",null,{"$f":"ClashCount('Other league dates'!G$4:G$29,$A1276:$Z1276)","v":""},{"$f":"ClashCount('Other league dates'!H$4:H$29,$A1276:$Z1276)","v":""},{"$f":"ClashCount('Other league dates'!I$4:I$29,$A1276:$Z1276)","v":""}]
["  o","  x","  o","  x","  o--","--o","  x","  o","  x","  o","  x","  o","  x--","--x","  o","  x--","--x","  o","  x","  o","  x","  o","  x","  o","  x","  o","G",null,{"$f":"ClashCount('Other league dates'!G$4:G$29,$A1277:$Z1277)","v":""},{"$f":"ClashCount('Other league dates'!H$4:H$29,$A1277:$Z1277)","v":""},{"$f":"ClashCount('Other league dates'!I$4:I$29,$A1277:$Z1277)","v":""}]
["  x","  o","  x","  o","  x--","--x","  o","  x","  o","  x","  o","  x","  o--","--o","  x","  o--","--o","  x","  o","  x","  o","  x","  o","  x","  o","  x","H",null,{"$f":"ClashCount('Other league dates'!G$4:G$29,$A1278:$Z1278)","v":""},{"$f":"ClashCount('Other league dates'!H$4:H$29,$A1278:$Z1278)","v":""},{"$f":"ClashCount('Other league dates'!I$4:I$29,$A1278:$Z1278)","v":""}]
["  o","  x","  o","  x--","--x","  o","  x","  o","  x","  o","  x","  o","  x--","--x","  o--","--o","  x","  o","  x","  o","  x","  o","  x","  o","  x","  o","I",null,{"$f":"ClashCount('Other league dates'!G$4:G$29,$A1279:$Z1279)","v":""},{"$f":"ClashCount('Other league dates'!H$4:H$29,$A1279:$Z1279)","v":""},{"$f":"ClashCount('Other league dates'!I$4:I$29,$A1279:$Z1279)","v":""}]
["  x","  o","  x","  o--","--o","  x","  o","  x","  o","  x","  o","  x","  o--","--o","  x--","--x","  o","  x","  o","  x","  o","  x","  o","  x","  o","  x","J",null,{"$f":"ClashCount('Other league dates'!G$4:G$29,$A1280:$Z1280)","v":""},{"$f":"ClashCount('Other league dates'!H$4:H$29,$A1280:$Z1280)","v":""},{"$f":"ClashCount('Other league dates'!I$4:I$29,$A1280:$Z1280)","v":""}]
["  x","  o--","--o","  x","  o","  x","  o","  x","  o","  x","  o","  x","  o","  x","  o","  x","  o","  x","  o","  x","  o","  x","  o","  x","  o","  x","K",null,{"$f":"ClashCount('Other league dates'!G$4:G$29,$A1281:$Z1281)","v":""},{"$f":"ClashCount('Other league dates'!H$4:H$29,$A1281:$Z1281)","v":""},{"$f":"ClashCount('Other league dates'!I$4:I$29,$A1281:$Z1281)","v":""}]
["  o","  x--","--x","  o","  x","  o","  x","  o","  x","  o","  x","  o","  x","  o","  x","  o","  x","  o","  x","  o","  x","  o","  x","  o","  x","  o","L",null,{"$f":"ClashCount('Other league dates'!G$4:G$29,$A1282:$Z1282)","v":""},{"$f":"ClashCount('Other league dates'!H$4:H$29,$A1282:$Z1282)","v":""},{"$f":"ClashCount('Other league dates'!I$4:I$29,$A1282:$Z1282)","v":""}]
["  x","  o","  x","  o","  x","  o","  x","  o","  x","  o","  x","  o","  x","  o","  x","  o","  x","  o","  x","  o","  x","  o","  x","  o--","--o","  x","M",null,{"$f":"ClashCount('Other league dates'!G$4:G$29,$A1283:$Z1283)","v":""},{"$f":"ClashCount('Other league dates'!H$4:H$29,$A1283:$Z1283)","v":""},{"$f":"ClashCount('Other league dates'!I$4:I$29,$A1283:$Z1283)","v":""}]
["  o","  x","  o","  x","  o","  x","  o","  x","  o","  x","  o","  x","  o","  x","  o","  x","  o","  x","  o","  x","  o","  x","  o","  x--","--x","  o","N",null,{"$f":"ClashCount('Other league dates'!G$4:G$29,$A1284:$Z1284)","v":""},{"$f":"ClashCount('Other league dates'!H$4:H$29,$A1284:$Z1284)","v":""},{"$f":"ClashCount('Other league dates'!I$4:I$29,$A1284:$Z1284)","v":""}]
[]
["Fit:","10donx",null,"12donx"]
[]
["14primx"]
[]
["AN","MN","AJ","KN","AF","IN","AB","GN","AK","EN","AG","CN","AC","AL","MK","AH","KI","AD","IG","AM","GE","AI","EC","AE","CA","BM"]
["CL","BK","CH","MI","CD","KG","CM","IE","CI","GC","CE","EA","DM","CJ","BI","CF","MG","CB","KE","CK","IC","CG","GA","DB","EL","DK"]
["EJ","DI","EF","BG","EB","ME","EK","KC","EG","IA","FB","GL","FK","EH","DG","ED","BE","EM","MC","EI","KA","FD","IL","FM","GJ","FI"]
["GH","FG","GD","DE","GM","BC","GI","MA","HD","KL","HM","IJ","HI","GF","FE","GB","DC","GK","BA","HF","ML","HB","KJ","HK","IH","HG"]
["IF","HE","IB","FC","IK","DA","JF","BL","JB","MJ","JK","KH","JG","ID","HC","IM","FA","JH","DL","JD","BJ","JM","MH","JI","KF","JE"]
["KD","JC","KM","HA","LH","FL","LD","DJ","LM","BH","LI","MF","LE","KB","JA","LJ","HL","LF","FJ","LB","DH","LK","BF","LG","MD","LC"]
["MB","LA","NL","JL","NJ","HJ","NH","FH","NF","DF","ND","BD","NB","NM","LN","NK","JN","NI","HN","NG","FN","NE","DN","NC","BN","NA"]
[1,2,3,4,5,6,7,8,9,10,11,12,13,14,15,16,17,18,19,20,21,22,23,24,25,26]
["RFx",null,null,null,null,null,null,null,null,null,null,null,null,2,3,4,5,6,7,8,9,10,11,12,13,1]
["  o","  x","  o","  x","  o","  x","  o","  x","  o","  x","  o","  x","  o--","--o","  x","  o","  x","  o","  x","  o","  x","  o","  x","  o","  x--","--x","A",null,{"$f":"ClashCount('Other league dates'!G$4:G$29,$A1299:$Z1299)","v":""},{"$f":"ClashCount('Other league dates'!H$4:H$29,$A1299:$Z1299)","v":""},{"$f":"ClashCount('Other league dates'!I$4:I$29,$A1299:$Z1299)","v":""}]
["  x","  o","  x","  o","  x","  o","  x","  o","  x","  o","  x","  o","  x--","--x","  o","  x","  o","  x","  o","  x","  o","  x","  o","  x","  o--","--o","B",null,{"$f":"ClashCount('Other league dates'!G$4:G$29,$A1300:$Z1300)","v":""},{"$f":"ClashCount('Other league dates'!H$4:H$29,$A1300:$Z1300)","v":""},{"$f":"ClashCount('Other league dates'!I$4:I$29,$A1300:$Z1300)","v":""}]
["  o","  x","  o","  x","  o","  x","  o","  x","  o","  x","  o--","--o","  x","  o","  x","  o","  x","  o","  x","  o","  x","  o","  x--","--x","  o","  x","C",null,{"$f":"ClashCount('Other league dates'!G$4:G$29,$A1301:$Z1301)","v":""},{"$f":"ClashCount('Other league dates'!H$4:H$29,$A1301:$Z1301)","v":""},{"$f":"ClashCount('Other league dates'!I$4:I$29,$A1301:$Z1301)","v":""}]
["  x","  o","  x","  o","  x","  o","  x","  o","  x","  o","  x--","--x","  o","  x","  o","  x","  o","  x","  o","  x","  o","  x","  o--","--o","  x","  o","D",null,{"$f":"ClashCount('Other league dates'!G$4:G$29,$A1302:$Z1302)","v":""},{"$f":"ClashCount('Other league dates'!H$4:H$29,$A1302:$Z1302)","v":""},{"$f":"ClashCount('Other league dates'!I$4:I$29,$A1302:$Z1302)","v":""}]
["  o","  x","  o","  x","  o","  x","  o","  x","  o--","--o","  x","  o","  x","  o","  x","  o","  x","  o","  x","  o","  x--","--x","  o","  x","  o","  x","E",null,{"$f":"ClashCount('Other league dates'!G$4:G$29,$A1303:$Z1303)","v":""},{"$f":"ClashCount('Other league dates'!H$4:H$29,$A1303:$Z1303)","v":""},{"$f":"ClashCount('Other league dates'!I$4:I$29,$A1303:$Z1303)","v":""}]
["  x","  o","  x","  o","  x","  o","  x","  o","  x--","--x","  o","  x","  o","  x","  o","  x","  o","  x","  o","  x","  o--","--o","  x","  o","  x","  o","F",null,{"$f":"ClashCount('Other league dates'!G$4:G$29,$A1304:$Z1304)","v":""},{"$f":"ClashCount('Other league dates'!H$4:H$29,$A1304:$Z1304)","v":""},{"$f":"ClashCount('Other league dates'!I$4:I$29,$A1304:$Z1304)","v":""}]
["  o","  x","  o","  x","  o","  x","  o--","--o","  x","  o","  x","  o","  x","  o","  x","  o","  x","  o","  x--","--x","  o","  x","  o","  x","  o","  x","G",null,{"$f":"ClashCount('Other league dates'!G$4:G$29,$A1305:$Z1305)","v":""},{"$f":"ClashCount('Other league dates'!H$4:H$29,$A1305:$Z1305)","v":""},{"$f":"ClashCount('Other league dates'!I$4:I$29,$A1305:$Z1305)","v":""}]
["  x","  o","  x","  o","  x","  o","  x--","--x","  o","  x","  o","  x","  o","  x","  o","  x","  o","  x","  o--","--o","  x","  o","  x","  o","  x","  o","H",null,{"$f":"ClashCount('Other league dates'!G$4:G$29,$A1306:$Z1306)","v":""},{"$f":"ClashCount('Other league dates'!H$4:H$29,$A1306:$Z1306)","v":""},{"$f":"ClashCount('Other league dates'!I$4:I$29,$A1306:$Z1306)","v":""}]
["  o","  x","  o","  x","  o--","--o","  x","  o","  x","  o","  x","  o","  x","  o","  x","  o","  x--","--x","  o","  x","  o","  x","  o","  x","  o","  x","I",null,{"$f":"ClashCount('Other league dates'!G$4:G$29,$A1307:$Z1307)","v":""},{"$f":"ClashCount('Other league dates'!H$4:H$29,$A1307:$Z1307)","v":""},{"$f":"ClashCount('Other league dates'!I$4:I$29,$A1307:$Z1307)","v":""}]
["  x","  o","  x","  o","  x--","--x","  o","  x","  o","  x","  o","  x","  o","  x","  o","  x","  o--","--o","  x","  o","  x","  o","  x","  o","  x","  o","J",null,{"$f":"ClashCount('Other league dates'!G$4:G$29,$A1308:$Z1308)","v":""},{"$f":"ClashCount('Other league dates'!H$4:H$29,$A1308:$Z1308)","v":""},{"$f":"ClashCount('Other league dates'!I$4:I$29,$A1308:$Z1308)","v":""}]
["  o","  x","  o--","--o","  x","  o","  x","  o","  x","  o","  x","  o","  x","  o","  x--","--x","  o","  x","  o","  x","  o","  x","  o","  x","  o","  x","K",null,{"$f":"ClashCount('Other league dates'!G$4:G$29,$A1309:$Z1309)","v":""},{"$f":"ClashCount('Other league dates'!H$4:H$29,$A1309:$Z1309)","v":""},{"$f":"ClashCount('Other league dates'!I$4:I$29,$A1309:$Z1309)","v":""}]
["  x","  o","  x--","--x","  o","  x","  o","  x","  o","  x","  o","  x","  o","  x","  o--","--o","  x","  o","  x","  o","  x","  o","  x","  o","  x","  o","L",null,{"$f":"ClashCount('Other league dates'!G$4:G$29,$A1310:$Z1310)","v":""},{"$f":"ClashCount('Other league dates'!H$4:H$29,$A1310:$Z1310)","v":""},{"$f":"ClashCount('Other league dates'!I$4:I$29,$A1310:$Z1310)","v":""}]
["  o--","--o","  x","  o","  x","  o","  x","  o","  x","  o","  x","  o","  x--","--x","  o","  x","  o","  x","  o","  x","  o","  x","  o","  x","  o","  x","M",null,{"$f":"ClashCount('Other league dates'!G$4:G$29,$A1311:$Z1311)","v":""},{"$f":"ClashCount('Other league dates'!H$4:H$29,$A1311:$Z1311)","v":""},{"$f":"ClashCount('Other league dates'!I$4:I$29,$A1311:$Z1311)","v":""}]
["  x--","--x","  o","  x","  o","  x","  o","  x","  o","  x","  o","  x","  o--","--o","  x","  o","  x","  o","  x","  o","  x","  o","  x","  o","  x","  o","N",null,{"$f":"ClashCount('Other league dates'!G$4:G$29,$A1312:$Z1312)","v":""},{"$f":"ClashCount('Other league dates'!H$4:H$29,$A1312:$Z1312)","v":""},{"$f":"ClashCount('Other league dates'!I$4:I$29,$A1312:$Z1312)","v":""}]
[]
[]
[]
["14rraa"]
[]
["AL","BK","AJ","BI","AH","BG","AF","BE","AD","BC","AB","BA","AK","BN","AI","BL","AG","BJ","AE","BH","AC","BF","AM","BD","BM","AN"]
["CJ","DI","CH","DG","CF","DE","CD","DC","CB","DA","CK","DN","CI","DL","CG","DJ","CE","DH","CM","DF","DM","CA","DB","CN","DK","CL"]
["EH","FG","EF","FE","ED","FC","EB","FA","EK","FN","EI","FL","EG","FJ","EM","FH","FM","EC","FD","EA","FB","EN","FK","EL","FI","EJ"]
["GF","HE","GD","HC","GB","HA","GK","HN","GI","HL","GM","HJ","HM","GE","HF","GC","HD","GA","HB","GN","HK","GL","HI","GJ","HG","GH"]
["ID","JC","IB","JA","IK","JN","IM","JL","JM","IG","JH","IE","JF","IC","JD","IA","JB","IN","JK","IL","JI","IJ","JG","IH","JE","IF"]
["KB","LA","KM","LN","LM","KI","LJ","KG","LH","KE","LF","KC","LD","KA","LB","KN","LK","KL","LI","KJ","LG","KH","LE","KF","LC","KD"]
["NM","MN","NL","MK","NJ","ML","NH","MI","NF","MJ","ND","MG","NB","MH","NK","ME","NI","MF","NG","MC","NE","MD","NC","MA","NA","MB"]
[1,2,3,4,5,6,7,8,9,10,11,12,13,14,15,16,17,18,19,20,21,22,23,24,25,26]
["RFx",1,null,3,null,5,null,7,null,9,null,11,null,13,null,15,null,17,null,19,null,21,null,23,null,25]
["  o","  x","  o","  x","  o","  x","  o","  x","  o","  x","  o","  x","  o","  x","  o","  x","  o","  x","  o","  x","  o","  x","  o","  x--","--x","  o","A",null,{"$f":"ClashCount('Other league dates'!G$4:G$29,$A1327:$Z1327)","v":""},{"$f":"ClashCount('Other league dates'!H$4:H$29,$A1327:$Z1327)","v":""},{"$f":"ClashCount('Other league dates'!I$4:I$29,$A1327:$Z1327)","v":""}]
["  x","  o","  x","  o","  x","  o","  x","  o","  x","  o","  x","  o","  x","  o","  x","  o","  x","  o","  x","  o","  x","  o","  x","  o--","--o","  x","B",null,{"$f":"ClashCount('Other league dates'!G$4:G$29,$A1328:$Z1328)","v":""},{"$f":"ClashCount('Other league dates'!H$4:H$29,$A1328:$Z1328)","v":""},{"$f":"ClashCount('Other league dates'!I$4:I$29,$A1328:$Z1328)","v":""}]
["  o","  x","  o","  x","  o","  x","  o","  x","  o","  x","  o","  x","  o","  x","  o","  x","  o","  x","  o","  x--","--x","  o","  x","  o","  x","  o","C",null,{"$f":"ClashCount('Other league dates'!G$4:G$29,$A1329:$Z1329)","v":""},{"$f":"ClashCount('Other league dates'!H$4:H$29,$A1329:$Z1329)","v":""},{"$f":"ClashCount('Other league dates'!I$4:I$29,$A1329:$Z1329)","v":""}]
["  x","  o","  x","  o","  x","  o","  x","  o","  x","  o","  x","  o","  x","  o","  x","  o","  x","  o","  x","  o--","--o","  x","  o","  x","  o","  x","D",null,{"$f":"ClashCount('Other league dates'!G$4:G$29,$A1330:$Z1330)","v":""},{"$f":"ClashCount('Other league dates'!H$4:H$29,$A1330:$Z1330)","v":""},{"$f":"ClashCount('Other league dates'!I$4:I$29,$A1330:$Z1330)","v":""}]
["  o","  x","  o","  x","  o","  x","  o","  x","  o","  x","  o","  x","  o","  x","  o","  x--","--x","  o","  x","  o","  x","  o","  x","  o","  x","  o","E",null,{"$f":"ClashCount('Other league dates'!G$4:G$29,$A1331:$Z1331)","v":""},{"$f":"ClashCount('Other league dates'!H$4:H$29,$A1331:$Z1331)","v":""},{"$f":"ClashCount('Other league dates'!I$4:I$29,$A1331:$Z1331)","v":""}]
["  x","  o","  x","  o","  x","  o","  x","  o","  x","  o","  x","  o","  x","  o","  x","  o--","--o","  x","  o","  x","  o","  x","  o","  x","  o","  x","F",null,{"$f":"ClashCount('Other league dates'!G$4:G$29,$A1332:$Z1332)","v":""},{"$f":"ClashCount('Other league dates'!H$4:H$29,$A1332:$Z1332)","v":""},{"$f":"ClashCount('Other league dates'!I$4:I$29,$A1332:$Z1332)","v":""}]
["  o","  x","  o","  x","  o","  x","  o","  x","  o","  x","  o","  x--","--x","  o","  x","  o","  x","  o","  x","  o","  x","  o","  x","  o","  x","  o","G",null,{"$f":"ClashCount('Other league dates'!G$4:G$29,$A1333:$Z1333)","v":""},{"$f":"ClashCount('Other league dates'!H$4:H$29,$A1333:$Z1333)","v":""},{"$f":"ClashCount('Other league dates'!I$4:I$29,$A1333:$Z1333)","v":""}]
["  x","  o","  x","  o","  x","  o","  x","  o","  x","  o","  x","  o--","--o","  x","  o","  x","  o","  x","  o","  x","  o","  x","  o","  x","  o","  x","H",null,{"$f":"ClashCount('Other league dates'!G$4:G$29,$A1334:$Z1334)","v":""},{"$f":"ClashCount('Other league dates'!H$4:H$29,$A1334:$Z1334)","v":""},{"$f":"ClashCount('Other league dates'!I$4:I$29,$A1334:$Z1334)","v":""}]
["  o","  x","  o","  x","  o","  x","  o","  x--","--x","  o","  x","  o","  x","  o","  x","  o","  x","  o","  x","  o","  x","  o","  x","  o","  x","  o","I",null,{"$f":"ClashCount('Other league dates'!G$4:G$29,$A1335:$Z1335)","v":""},{"$f":"ClashCount('Other league dates'!H$4:H$29,$A1335:$Z1335)","v":""},{"$f":"ClashCount('Other league dates'!I$4:I$29,$A1335:$Z1335)","v":""}]
["  x","  o","  x","  o","  x","  o","  x","  o--","--o","  x","  o","  x","  o","  x","  o","  x","  o","  x","  o","  x","  o","  x","  o","  x","  o","  x","J",null,{"$f":"ClashCount('Other league dates'!G$4:G$29,$A1336:$Z1336)","v":""},{"$f":"ClashCount('Other league dates'!H$4:H$29,$A1336:$Z1336)","v":""},{"$f":"ClashCount('Other league dates'!I$4:I$29,$A1336:$Z1336)","v":""}]
["  o","  x","  o","  x--","--x","  o","  x","  o","  x","  o","  x","  o","  x","  o","  x","  o","  x","  o","  x","  o","  x","  o","  x","  o","  x","  o","K",null,{"$f":"ClashCount('Other league dates'!G$4:G$29,$A1337:$Z1337)","v":""},{"$f":"ClashCount('Other league dates'!H$4:H$29,$A1337:$Z1337)","v":""},{"$f":"ClashCount('Other league dates'!I$4:I$29,$A1337:$Z1337)","v":""}]
["  x","  o","  x","  o--","--o","  x","  o","  x","  o","  x","  o","  x","  o","  x","  o","  x","  o","  x","  o","  x","  o","  x","  o","  x","  o","  x","L",null,{"$f":"ClashCount('Other league dates'!G$4:G$29,$A1338:$Z1338)","v":""},{"$f":"ClashCount('Other league dates'!H$4:H$29,$A1338:$Z1338)","v":""},{"$f":"ClashCount('Other league dates'!I$4:I$29,$A1338:$Z1338)","v":""}]
["  x","  o","  x","  o","  x","  o","  x","  o","  x","  o","  x","  o","  x","  o","  x","  o","  x","  o","  x","  o","  x","  o","  x","  o","  x","  o","M",null,{"$f":"ClashCount('Other league dates'!G$4:G$29,$A1339:$Z1339)","v":""},{"$f":"ClashCount('Other league dates'!H$4:H$29,$A1339:$Z1339)","v":""},{"$f":"ClashCount('Other league dates'!I$4:I$29,$A1339:$Z1339)","v":""}]
["  o","  x","  o","  x","  o","  x","  o","  x","  o","  x","  o","  x","  o","  x","  o","  x","  o","  x","  o","  x","  o","  x","  o","  x","  o","  x","N",null,{"$f":"ClashCount('Other league dates'!G$4:G$29,$A1340:$Z1340)","v":""},{"$f":"ClashCount('Other league dates'!H$4:H$29,$A1340:$Z1340)","v":""},{"$f":"ClashCount('Other league dates'!I$4:I$29,$A1340:$Z1340)","v":""}]
[]
[]
[]
["14Berger"]
[]
["MB","BN","KB","BL","IB","BJ","GB","BH","EB","BF","CB","BD","AB","BA","DB","BC","FB","BE","HB","BG","JB","BI","LB","BK","NB","BM"]
["KD","LA","IM","JN","GK","HL","EI","FJ","CG","DH","AE","MF","NC","CN","FM","EA","HD","GC","JF","IE","LH","KG","NJ","MI","AL","DK"]
["IF","JC","GD","HA","EM","FN","CK","DL","AI","MJ","NG","KH","LE","EL","HK","GN","JM","IA","LD","KC","NF","ME","AH","DG","CJ","FI"]
["GH","HE","EF","FC","CD","DA","AM","MN","NK","KL","LI","IJ","JG","GJ","JI","IL","LK","KN","NM","MA","AD","DC","CF","FE","EH","HG"]
["EJ","FG","CH","DE","AF","MC","ND","KA","LM","IN","JK","GL","HI","IH","LG","KJ","NI","ML","AK","DN","CM","FA","ED","HC","GF","JE"]
["CL","DI","AJ","MG","NH","KE","LF","IC","JD","GA","HM","EN","FK","KF","NE","MH","AG","DJ","CI","FL","EK","HN","GM","JA","ID","LC"]
["AN","MK","NL","KI","LJ","IG","JH","GE","HF","EC","FD","CA","DM","MD","AC","DF","CE","FH","EG","HJ","GI","JL","IK","LN","KM","NA"]
[1,2,3,4,5,6,7,8,9,10,11,12,13,14,15,16,17,18,19,20,21,22,23,24,25,26]
["RFx",null,null,null,null,null,null,null,null,null,null,null,null,13,12,11,10,9,8,7,6,5,4,3,2,1]
["  o","  x","  o","  x","  o","  x","  o","  x","  o","  x","  o","  x","  o","  x","  o","  x","  o","  x","  o","  x","  o","  x","  o","  x","  o","  x","A",null,{"$f":"ClashCount('Other league dates'!G$4:G$29,$A1355:$Z1355)","v":""},{"$f":"ClashCount('Other league dates'!H$4:H$29,$A1355:$Z1355)","v":""},{"$f":"ClashCount('Other league dates'!I$4:I$29,$A1355:$Z1355)","v":""}]
["  x","  o","  x","  o","  x","  o","  x","  o","  x","  o","  x","  o","  x","  o","  x","  o","  x","  o","  x","  o","  x","  o","  x","  o","  x","  o","B",null,{"$f":"ClashCount('Other league dates'!G$4:G$29,$A1356:$Z1356)","v":""},{"$f":"ClashCount('Other league dates'!H$4:H$29,$A1356:$Z1356)","v":""},{"$f":"ClashCount('Other league dates'!I$4:I$29,$A1356:$Z1356)","v":""}]
["  o","  x","  o","  x","  o","  x","  o","  x","  o","  x","  o--","--o","  x","  o","  x--","--x","  o","  x","  o","  x","  o","  x","  o","  x","  o","  x","C",null,{"$f":"ClashCount('Other league dates'!G$4:G$29,$A1357:$Z1357)","v":""},{"$f":"ClashCount('Other league dates'!H$4:H$29,$A1357:$Z1357)","v":""},{"$f":"ClashCount('Other league dates'!I$4:I$29,$A1357:$Z1357)","v":""}]
["  x","  o","  x","  o","  x","  o","  x","  o","  x","  o","  x--","--x","  o","  x","  o--","--o","  x","  o","  x","  o","  x","  o","  x","  o","  x","  o","D",null,{"$f":"ClashCount('Other league dates'!G$4:G$29,$A1358:$Z1358)","v":""},{"$f":"ClashCount('Other league dates'!H$4:H$29,$A1358:$Z1358)","v":""},{"$f":"ClashCount('Other league dates'!I$4:I$29,$A1358:$Z1358)","v":""}]
["  o","  x","  o","  x","  o","  x","  o","  x","  o--","--o","  x","  o","  x","  o","  x","  o","  x--","--x","  o","  x","  o","  x","  o","  x","  o","  x","E",null,{"$f":"ClashCount('Other league dates'!G$4:G$29,$A1359:$Z1359)","v":""},{"$f":"ClashCount('Other league dates'!H$4:H$29,$A1359:$Z1359)","v":""},{"$f":"ClashCount('Other league dates'!I$4:I$29,$A1359:$Z1359)","v":""}]
["  x","  o","  x","  o","  x","  o","  x","  o","  x--","--x","  o","  x","  o","  x","  o","  x","  o--","--o","  x","  o","  x","  o","  x","  o","  x","  o","F",null,{"$f":"ClashCount('Other league dates'!G$4:G$29,$A1360:$Z1360)","v":""},{"$f":"ClashCount('Other league dates'!H$4:H$29,$A1360:$Z1360)","v":""},{"$f":"ClashCount('Other league dates'!I$4:I$29,$A1360:$Z1360)","v":""}]
["  o","  x","  o","  x","  o","  x","  o--","--o","  x","  o","  x","  o","  x","  o","  x","  o","  x","  o","  x--","--x","  o","  x","  o","  x","  o","  x","G",null,{"$f":"ClashCount('Other league dates'!G$4:G$29,$A1361:$Z1361)","v":""},{"$f":"ClashCount('Other league dates'!H$4:H$29,$A1361:$Z1361)","v":""},{"$f":"ClashCount('Other league dates'!I$4:I$29,$A1361:$Z1361)","v":""}]
["  x","  o","  x","  o","  x","  o","  x--","--x","  o","  x","  o","  x","  o","  x","  o","  x","  o","  x","  o--","--o","  x","  o","  x","  o","  x","  o","H",null,{"$f":"ClashCount('Other league dates'!G$4:G$29,$A1362:$Z1362)","v":""},{"$f":"ClashCount('Other league dates'!H$4:H$29,$A1362:$Z1362)","v":""},{"$f":"ClashCount('Other league dates'!I$4:I$29,$A1362:$Z1362)","v":""}]
["  o","  x","  o","  x","  o--","--o","  x","  o","  x","  o","  x","  o","  x","  o","  x","  o","  x","  o","  x","  o","  x--","--x","  o","  x","  o","  x","I",null,{"$f":"ClashCount('Other league dates'!G$4:G$29,$A1363:$Z1363)","v":""},{"$f":"ClashCount('Other league dates'!H$4:H$29,$A1363:$Z1363)","v":""},{"$f":"ClashCount('Other league dates'!I$4:I$29,$A1363:$Z1363)","v":""}]
["  x","  o","  x","  o","  x--","--x","  o","  x","  o","  x","  o","  x","  o","  x","  o","  x","  o","  x","  o","  x","  o--","--o","  x","  o","  x","  o","J",null,{"$f":"ClashCount('Other league dates'!G$4:G$29,$A1364:$Z1364)","v":""},{"$f":"ClashCount('Other league dates'!H$4:H$29,$A1364:$Z1364)","v":""},{"$f":"ClashCount('Other league dates'!I$4:I$29,$A1364:$Z1364)","v":""}]
["  o","  x","  o--","--o","  x","  o","  x","  o","  x","  o","  x","  o","  x","  o","  x","  o","  x","  o","  x","  o","  x","  o","  x--","--x","  o","  x","K",null,{"$f":"ClashCount('Other league dates'!G$4:G$29,$A1365:$Z1365)","v":""},{"$f":"ClashCount('Other league dates'!H$4:H$29,$A1365:$Z1365)","v":""},{"$f":"ClashCount('Other league dates'!I$4:I$29,$A1365:$Z1365)","v":""}]
["  x","  o","  x--","--x","  o","  x","  o","  x","  o","  x","  o","  x","  o","  x","  o","  x","  o","  x","  o","  x","  o","  x","  o--","--o","  x","  o","L",null,{"$f":"ClashCount('Other league dates'!G$4:G$29,$A1366:$Z1366)","v":""},{"$f":"ClashCount('Other league dates'!H$4:H$29,$A1366:$Z1366)","v":""},{"$f":"ClashCount('Other league dates'!I$4:I$29,$A1366:$Z1366)","v":""}]
["  o--","--o","  x","  o","  x","  o","  x","  o","  x","  o","  x","  o","  x","  o","  x","  o","  x","  o","  x","  o","  x","  o","  x","  o","  x--","--x","M",null,{"$f":"ClashCount('Other league dates'!G$4:G$29,$A1367:$Z1367)","v":""},{"$f":"ClashCount('Other league dates'!H$4:H$29,$A1367:$Z1367)","v":""},{"$f":"ClashCount('Other league dates'!I$4:I$29,$A1367:$Z1367)","v":""}]
["  x--","--x","  o","  x","  o","  x","  o","  x","  o","  x","  o","  x","  o","  x","  o","  x","  o","  x","  o","  x","  o","  x","  o","  x","  o--","--o","N",null,{"$f":"ClashCount('Other league dates'!G$4:G$29,$A1368:$Z1368)","v":""},{"$f":"ClashCount('Other league dates'!H$4:H$29,$A1368:$Z1368)","v":""},{"$f":"ClashCount('Other league dates'!I$4:I$29,$A1368:$Z1368)","v":""}]
[]
["Fit:","08Berger",null,"10Berger",null,"12Berger",null,"16Berger"]
[]
["16AltLV"]
[]
["AP","PC","EP","PG","IP","PK","MP","PO","BP","PD","FP","PH","JP","PL","NP","PN","PA","CP","PE","GP","PI","KP","PM","OP","PB","DP","PF","HP","PJ","LP"]
["CL","NA","CA","AE","GA","AI","KA","AM","OA","AB","DA","AF","HA","AJ","LA","AL","LC","AN","AC","EA","AG","IA","AK","MA","AO","BA","AD","FA","AH","JA"]
["EJ","LE","GL","NC","EC","CG","IC","CK","MC","CO","BC","CD","FC","CH","JC","CJ","JE","EL","LG","CN","CE","GC","CI","KC","CM","OC","CB","DC","CF","HC"]
["GH","JG","IJ","LI","KL","NE","GE","EI","KE","EM","OE","EB","DE","EF","HE","EH","HG","GJ","JI","IL","LK","EN","EG","IE","EK","ME","EO","BE","ED","FE"]
["IF","HI","KH","JK","MJ","LM","OL","NG","IG","GK","MG","GO","BG","GD","FG","GF","FI","IH","HK","KJ","JM","ML","LO","GN","GI","KG","GM","OG","GB","DG"]
["KD","FK","MF","HM","OH","JO","BJ","LB","DL","NI","KI","IM","OI","IB","DI","ID","DK","KF","FM","MH","HO","OJ","JB","BL","LD","IN","IK","MI","IO","BI"]
["MB","DM","OD","FO","BF","HB","DH","JD","FJ","LF","HL","NK","MK","KO","BK","KB","BM","MD","DO","OF","FB","BH","HD","DJ","JF","FL","LH","KN","KM","OK"]
["ON","BO","BN","DB","DN","FD","FN","HF","HN","JH","JN","LJ","LN","NM","OM","MO","NO","OB","NB","BD","ND","DF","NF","FH","NH","HJ","NJ","JL","NL","MN"]
[1,2,3,4,5,6,7,8,9,10,11,12,13,14,15,16,17,18,19,20,21,22,23,24,25,26,27,28,29,30]
["RFx",null,null,null,null,null,null,null,null,null,null,null,null,null,null,15,1,2,3,4,5,6,7,8,9,10,11,12,13,14]
["  o","  x--","--x","  o","  x","  o","  x","  o","  x","  o","  x","  o","  x","  o","  x","  o","  x","  o--","--o","  x","  o","  x","  o","  x","  o","  x","  o","  x","  o","  x","A",null,{"$f":"ClashCount('Other league dates'!G$2:G$31,$A1384:$AD1384)","v":""},{"$f":"ClashCount('Other league dates'!H$2:H$31,$A1384:$AD1384)","v":""},{"$f":"ClashCount('Other league dates'!I$2:I$31,$A1384:$AD1384)","v":""}]
["  x","  o--","--o","  x","  o","  x","  o","  x","  o","  x","  o","  x","  o","  x","  o","  x","  o","  x--","--x","  o","  x","  o","  x","  o","  x","  o","  x","  o","  x","  o","B",null,{"$f":"ClashCount('Other league dates'!G$2:G$31,$A1385:$AD1385)","v":""},{"$f":"ClashCount('Other league dates'!H$2:H$31,$A1385:$AD1385)","v":""},{"$f":"ClashCount('Other league dates'!I$2:I$31,$A1385:$AD1385)","v":""}]
["  o","  x","  o","  x--","--x","  o","  x","  o","  x","  o","  x","  o","  x","  o","  x","  o","  x","  o","  x","  o--","--o","  x","  o","  x","  o","  x","  o","  x","  o","  x","C",null,{"$f":"ClashCount('Other league dates'!G$2:G$31,$A1386:$AD1386)","v":""},{"$f":"ClashCount('Other league dates'!H$2:H$31,$A1386:$AD1386)","v":""},{"$f":"ClashCount('Other league dates'!I$2:I$31,$A1386:$AD1386)","v":""}]
["  x","  o","  x","  o--","--o","  x","  o","  x","  o","  x","  o","  x","  o","  x","  o","  x","  o","  x","  o","  x--","--x","  o","  x","  o","  x","  o","  x","  o","  x","  o","D",null,{"$f":"ClashCount('Other league dates'!G$2:G$31,$A1387:$AD1387)","v":""},{"$f":"ClashCount('Other league dates'!H$2:H$31,$A1387:$AD1387)","v":""},{"$f":"ClashCount('Other league dates'!I$2:I$31,$A1387:$AD1387)","v":""}]
["  o","  x","  o","  x","  o","  x--","--x","  o","  x","  o","  x","  o","  x","  o","  x","  o","  x","  o","  x","  o","  x","  o--","--o","  x","  o","  x","  o","  x","  o","  x","E",null,{"$f":"ClashCount('Other league dates'!G$2:G$31,$A1388:$AD1388)","v":""},{"$f":"ClashCount('Other league dates'!H$2:H$31,$A1388:$AD1388)","v":""},{"$f":"ClashCount('Other league dates'!I$2:I$31,$A1388:$AD1388)","v":""}]
["  x","  o","  x","  o","  x","  o--","--o","  x","  o","  x","  o","  x","  o","  x","  o","  x","  o","  x","  o","  x","  o","  x--","--x","  o","  x","  o","  x","  o","  x","  o","F",null,{"$f":"ClashCount('Other league dates'!G$2:G$31,$A1389:$AD1389)","v":""},{"$f":"ClashCount('Other league dates'!H$2:H$31,$A1389:$AD1389)","v":""},{"$f":"ClashCount('Other league dates'!I$2:I$31,$A1389:$AD1389)","v":""}]
["  o","  x","  o","  x","  o","  x","  o","  x--","--x","  o","  x","  o","  x","  o","  x","  o","  x","  o","  x","  o","  x","  o","  x","  o--","--o","  x","  o","  x","  o","  x","G",null,{"$f":"ClashCount('Other league dates'!G$2:G$31,$A1390:$AD1390)","v":""},{"$f":"ClashCount('Other league dates'!H$2:H$31,$A1390:$AD1390)","v":""},{"$f":"ClashCount('Other league dates'!I$2:I$31,$A1390:$AD1390)","v":""}]
["  x","  o","  x","  o","  x","  o","  x","  o--","--o","  x","  o","  x","  o","  x","  o","  x","  o","  x","  o","  x","  o","  x","  o","  x--","--x","  o","  x","  o","  x","  o","H",null,{"$f":"ClashCount('Other league dates'!G$2:G$31,$A1391:$AD1391)","v":""},{"$f":"ClashCount('Other league dates'!H$2:H$31,$A1391:$AD1391)","v":""},{"$f":"ClashCount('Other league dates'!I$2:I$31,$A1391:$AD1391)","v":""}]
["  o","  x","  o","  x","  o","  x","  o","  x","  o","  x--","--x","  o","  x","  o","  x","  o","  x","  o","  x","  o","  x","  o","  x","  o","  x","  o--","--o","  x","  o","  x","I",null,{"$f":"ClashCount('Other league dates'!G$2:G$31,$A1392:$AD1392)","v":""},{"$f":"ClashCount('Other league dates'!H$2:H$31,$A1392:$AD1392)","v":""},{"$f":"ClashCount('Other league dates'!I$2:I$31,$A1392:$AD1392)","v":""}]
["  x","  o","  x","  o","  x","  o","  x","  o","  x","  o--","--o","  x","  o","  x","  o","  x","  o","  x","  o","  x","  o","  x","  o","  x","  o","  x--","--x","  o","  x","  o","J",null,{"$f":"ClashCount('Other league dates'!G$2:G$31,$A1393:$AD1393)","v":""},{"$f":"ClashCount('Other league dates'!H$2:H$31,$A1393:$AD1393)","v":""},{"$f":"ClashCount('Other league dates'!I$2:I$31,$A1393:$AD1393)","v":""}]
["  o","  x","  o","  x","  o","  x","  o","  x","  o","  x","  o","  x--","--x","  o","  x","  o","  x","  o","  x","  o","  x","  o","  x","  o","  x","  o","  x","  o--","--o","  x","K",null,{"$f":"ClashCount('Other league dates'!G$2:G$31,$A1394:$AD1394)","v":""},{"$f":"ClashCount('Other league dates'!H$2:H$31,$A1394:$AD1394)","v":""},{"$f":"ClashCount('Other league dates'!I$2:I$31,$A1394:$AD1394)","v":""}]
["  x","  o","  x","  o","  x","  o","  x","  o","  x","  o","  x","  o--","--o","  x","  o","  x","  o","  x","  o","  x","  o","  x","  o","  x","  o","  x","  o","  x--","--x","  o","L",null,{"$f":"ClashCount('Other league dates'!G$2:G$31,$A1395:$AD1395)","v":""},{"$f":"ClashCount('Other league dates'!H$2:H$31,$A1395:$AD1395)","v":""},{"$f":"ClashCount('Other league dates'!I$2:I$31,$A1395:$AD1395)","v":""}]
["  o","  x","  o","  x","  o","  x","  o","  x","  o","  x","  o","  x","  o","  x--","--x","  o","  x","  o","  x","  o","  x","  o","  x","  o","  x","  o","  x","  o","  x","  o","M",null,{"$f":"ClashCount('Other league dates'!G$2:G$31,$A1396:$AD1396)","v":""},{"$f":"ClashCount('Other league dates'!H$2:H$31,$A1396:$AD1396)","v":""},{"$f":"ClashCount('Other league dates'!I$2:I$31,$A1396:$AD1396)","v":""}]
["  x","  o","  x","  o","  x","  o","  x","  o","  x","  o","  x","  o","  x","  o--","--o","  x","  o","  x","  o","  x","  o","  x","  o","  x","  o","  x","  o","  x","  o","  x","N",null,{"$f":"ClashCount('Other league dates'!G$2:G$31,$A1397:$AD1397)","v":""},{"$f":"ClashCount('Other league dates'!H$2:H$31,$A1397:$AD1397)","v":""},{"$f":"ClashCount('Other league dates'!I$2:I$31,$A1397:$AD1397)","v":""}]
["  o","  x","  o","  x","  o","  x","  o","  x","  o","  x","  o","  x","  o","  x","  o","  x--","--x","  o","  x","  o","  x","  o","  x","  o","  x","  o","  x","  o","  x","  o","O",null,{"$f":"ClashCount('Other league dates'!G$2:G$31,$A1398:$AD1398)","v":""},{"$f":"ClashCount('Other league dates'!H$2:H$31,$A1398:$AD1398)","v":""},{"$f":"ClashCount('Other league dates'!I$2:I$31,$A1398:$AD1398)","v":""}]
["  x","  o","  x","  o","  x","  o","  x","  o","  x","  o","  x","  o","  x","  o","  x","  o--","--o","  x","  o","  x","  o","  x","  o","  x","  o","  x","  o","  x","  o","  x","P",null,{"$f":"ClashCount('Other league dates'!G$2:G$31,$A1399:$AD1399)","v":""},{"$f":"ClashCount('Other league dates'!H$2:H$31,$A1399:$AD1399)","v":""},{"$f":"ClashCount('Other league dates'!I$2:I$31,$A1399:$AD1399)","v":""}]
[]
["Fit:"]
[]
["16Berger"]
[]
["OB","BP","MB","BN","KB","BL","IB","BJ","GB","BH","EB","BF","CB","BD","AB","BA","DB","BC","FB","BE","HB","BG","JB","BI","LB","BK","NB","BM","PB","BO"]
["MD","NA","KO","LP","IM","JN","GK","HL","EI","FJ","CG","DH","AE","OF","PC","CP","FO","EA","HD","GC","JF","IE","LH","KG","NJ","MI","PL","OK","AN","DM"]
["KF","LC","ID","JA","GO","HP","EM","FN","CK","DL","AI","OJ","PG","MH","NE","EN","HM","GP","JO","IA","LD","KC","NF","ME","PH","OG","AJ","DI","CL","FK"]
["IH","JE","GF","HC","ED","FA","CO","DP","AM","ON","PK","ML","NI","KJ","LG","GL","JK","IN","LM","KP","NO","MA","PD","OC","AF","DE","CH","FG","EJ","HI"]
["GJ","HG","EH","FE","CF","DC","AD","OA","PO","MP","NM","KN","LK","IL","JI","IJ","LI","KL","NK","MN","PM","OP","AO","DA","CD","FC","EF","HE","GH","JG"]
["EL","FI","CJ","DG","AH","OE","PF","MC","ND","KA","LO","IP","JM","GN","HK","KH","NG","MJ","PI","OL","AK","DN","CM","FP","EO","HA","GD","JC","IF","LE"]
["CN","DK","AL","OI","PJ","MG","NH","KE","LF","IC","JD","GA","HO","EP","FM","MF","PE","OH","AG","DJ","CI","FL","EK","HN","GM","JP","IO","LA","KD","NC"]
["AP","OM","PN","MK","NL","KI","LJ","IG","JH","GE","HF","EC","FD","CA","DO","OD","AC","DF","CE","FH","EG","HJ","GI","JL","IK","LN","KM","NP","MO","PA"]
[1,2,3,4,5,6,7,8,9,10,11,12,13,14,15,16,17,18,19,20,21,22,23,24,25,26,27,28,29,30]
["RFx",null,null,null,null,null,null,null,null,null,null,null,null,null,null,15,14,13,12,11,10,9,8,7,6,5,4,3,2,1]
["  o","  x","  o","  x","  o","  x","  o","  x","  o","  x","  o","  x","  o","  x","  o","  x","  o","  x","  o","  x","  o","  x","  o","  x","  o","  x","  o","  x","  o","  x","A",null,{"$f":"ClashCount('Other league dates'!G$2:G$31,$A1415:$AD1415)","v":""},{"$f":"ClashCount('Other league dates'!H$2:H$31,$A1415:$AD1415)","v":""},{"$f":"ClashCount('Other league dates'!I$2:I$31,$A1415:$AD1415)","v":""}]
["  x","  o","  x","  o","  x","  o","  x","  o","  x","  o","  x","  o","  x","  o","  x","  o","  x","  o","  x","  o","  x","  o","  x","  o","  x","  o","  x","  o","  x","  o","B",null,{"$f":"ClashCount('Other league dates'!G$2:G$31,$A1416:$AD1416)","v":""},{"$f":"ClashCount('Other league dates'!H$2:H$31,$A1416:$AD1416)","v":""},{"$f":"ClashCount('Other league dates'!I$2:I$31,$A1416:$AD1416)","v":""}]
["  o","  x","  o","  x","  o","  x","  o","  x","  o","  x","  o","  x","  o--","--o","  x","  o","  x--","--x","  o","  x","  o","  x","  o","  x","  o","  x","  o","  x","  o","  x","C",null,{"$f":"ClashCount('Other league dates'!G$2:G$31,$A1417:$AD1417)","v":""},{"$f":"ClashCount('Other league dates'!H$2:H$31,$A1417:$AD1417)","v":""},{"$f":"ClashCount('Other league dates'!I$2:I$31,$A1417:$AD1417)","v":""}]
["  x","  o","  x","  o","  x","  o","  x","  o","  x","  o","  x","  o","  x--","--x","  o","  x","  o--","--o","  x","  o","  x","  o","  x","  o","  x","  o","  x","  o","  x","  o","D",null,{"$f":"ClashCount('Other league dates'!G$2:G$31,$A1418:$AD1418)","v":""},{"$f":"ClashCount('Other league dates'!H$2:H$31,$A1418:$AD1418)","v":""},{"$f":"ClashCount('Other league dates'!I$2:I$31,$A1418:$AD1418)","v":""}]
["  o","  x","  o","  x","  o","  x","  o","  x","  o","  x","  o--","--o","  x","  o","  x","  o","  x","  o","  x--","--x","  o","  x","  o","  x","  o","  x","  o","  x","  o","  x","E",null,{"$f":"ClashCount('Other league dates'!G$2:G$31,$A1419:$AD1419)","v":""},{"$f":"ClashCount('Other league dates'!H$2:H$31,$A1419:$AD1419)","v":""},{"$f":"ClashCount('Other league dates'!I$2:I$31,$A1419:$AD1419)","v":""}]
["  x","  o","  x","  o","  x","  o","  x","  o","  x","  o","  x--","--x","  o","  x","  o","  x","  o","  x","  o--","--o","  x","  o","  x","  o","  x","  o","  x","  o","  x","  o","F",null,{"$f":"ClashCount('Other league dates'!G$2:G$31,$A1420:$AD1420)","v":""},{"$f":"ClashCount('Other league dates'!H$2:H$31,$A1420:$AD1420)","v":""},{"$f":"ClashCount('Other league dates'!I$2:I$31,$A1420:$AD1420)","v":""}]
["  o","  x","  o","  x","  o","  x","  o","  x","  o--","--o","  x","  o","  x","  o","  x","  o","  x","  o","  x","  o","  x--","--x","  o","  x","  o","  x","  o","  x","  o","  x","G",null,{"$f":"ClashCount('Other league dates'!G$2:G$31,$A1421:$AD1421)","v":""},{"$f":"ClashCount('Other league dates'!H$2:H$31,$A1421:$AD1421)","v":""},{"$f":"ClashCount('Other league dates'!I$2:I$31,$A1421:$AD1421)","v":""}]
["  x","  o","  x","  o","  x","  o","  x","  o","  x--","--x","  o","  x","  o","  x","  o","  x","  o","  x","  o","  x","  o--","--o","  x","  o","  x","  o","  x","  o","  x","  o","H",null,{"$f":"ClashCount('Other league dates'!G$2:G$31,$A1422:$AD1422)","v":""},{"$f":"ClashCount('Other league dates'!H$2:H$31,$A1422:$AD1422)","v":""},{"$f":"ClashCount('Other league dates'!I$2:I$31,$A1422:$AD1422)","v":""}]
["  o","  x","  o","  x","  o","  x","  o--","--o","  x","  o","  x","  o","  x","  o","  x","  o","  x","  o","  x","  o","  x","  o","  x--","--x","  o","  x","  o","  x","  o","  x","I",null,{"$f":"ClashCount('Other league dates'!G$2:G$31,$A1423:$AD1423)","v":""},{"$f":"ClashCount('Other league dates'!H$2:H$31,$A1423:$AD1423)","v":""},{"$f":"ClashCount('Other league dates'!I$2:I$31,$A1423:$AD1423)","v":""}]
["  x","  o","  x","  o","  x","  o","  x--","--x","  o","  x","  o","  x","  o","  x","  o","  x","  o","  x","  o","  x","  o","  x","  o--","--o","  x","  o","  x","  o","  x","  o","J",null,{"$f":"ClashCount('Other league dates'!G$2:G$31,$A1424:$AD1424)","v":""},{"$f":"ClashCount('Other league dates'!H$2:H$31,$A1424:$AD1424)","v":""},{"$f":"ClashCount('Other league dates'!I$2:I$31,$A1424:$AD1424)","v":""}]
["  o","  x","  o","  x","  o--","--o","  x","  o","  x","  o","  x","  o","  x","  o","  x","  o","  x","  o","  x","  o","  x","  o","  x","  o","  x--","--x","  o","  x","  o","  x","K",null,{"$f":"ClashCount('Other league dates'!G$2:G$31,$A1425:$AD1425)","v":""},{"$f":"ClashCount('Other league dates'!H$2:H$31,$A1425:$AD1425)","v":""},{"$f":"ClashCount('Other league dates'!I$2:I$31,$A1425:$AD1425)","v":""}]
["  x","  o","  x","  o","  x--","--x","  o","  x","  o","  x","  o","  x","  o","  x","  o","  x","  o","  x","  o","  x","  o","  x","  o","  x","  o--","--o","  x","  o","  x","  o","L",null,{"$f":"ClashCount('Other league dates'!G$2:G$31,$A1426:$AD1426)","v":""},{"$f":"ClashCount('Other league dates'!H$2:H$31,$A1426:$AD1426)","v":""},{"$f":"ClashCount('Other league dates'!I$2:I$31,$A1426:$AD1426)","v":""}]
["  o","  x","  o--","--o","  x","  o","  x","  o","  x","  o","  x","  o","  x","  o","  x","  o","  x","  o","  x","  o","  x","  o","  x","  o","  x","  o","  x--","--x","  o","  x","M",null,{"$f":"ClashCount('Other league dates'!G$2:G$31,$A1427:$AD1427)","v":""},{"$f":"ClashCount('Other league dates'!H$2:H$31,$A1427:$AD1427)","v":""},{"$f":"ClashCount('Other league dates'!I$2:I$31,$A1427:$AD1427)","v":""}]
["  x","  o","  x--","--x","  o","  x","  o","  x","  o","  x","  o","  x","  o","  x","  o","  x","  o","  x","  o","  x","  o","  x","  o","  x","  o","  x","  o--","--o","  x","  o","N",null,{"$f":"ClashCount('Other league dates'!G$2:G$31,$A1428:$AD1428)","v":""},{"$f":"ClashCount('Other league dates'!H$2:H$31,$A1428:$AD1428)","v":""},{"$f":"ClashCount('Other league dates'!I$2:I$31,$A1428:$AD1428)","v":""}]
["  o--","--o","  x","  o","  x","  o","  x","  o","  x","  o","  x","  o","  x","  o","  x","  o","  x","  o","  x","  o","  x","  o","  x","  o","  x","  o","  x","  o","  x--","--x","O",null,{"$f":"ClashCount('Other league dates'!G$2:G$31,$A1429:$AD1429)","v":""},{"$f":"ClashCount('Other league dates'!H$2:H$31,$A1429:$AD1429)","v":""},{"$f":"ClashCount('Other league dates'!I$2:I$31,$A1429:$AD1429)","v":""}]
["  x--","--x","  o","  x","  o","  x","  o","  x","  o","  x","  o","  x","  o","  x","  o","  x","  o","  x","  o","  x","  o","  x","  o","  x","  o","  x","  o","  x","  o--","--o","P",null,{"$f":"ClashCount('Other league dates'!G$2:G$31,$A1430:$AD1430)","v":""},{"$f":"ClashCount('Other league dates'!H$2:H$31,$A1430:$AD1430)","v":""},{"$f":"ClashCount('Other league dates'!I$2:I$31,$A1430:$AD1430)","v":""}]
[]
["Fit:","08Berger",null,"10Berger",null,"12Berger",null,"14Berger"]

{"sheet":"Special Patterns","index":3,"n_rows":124,"n_cols":35,"rows_kept":124,"cut":false,"hidden":false,"merged":[]}
["08Special"]
[]
["GB","BH","EB","BF","CB","BD","AB","BA","DB","BC","FB","BE","HB","BG"]
["ED","FA","CG","DH","AE","GF","HC","CH","FG","EA","HD","GC","AF","DE"]
["CF","DC","AD","GA","HG","EH","FE","EF","HE","GH","AG","DA","CD","FC"]
["AH","GE","HF","EC","FD","CA","DG","GD","AC","DF","CE","FH","EG","HA"]
[1,2,3,4,5,6,7,8,9,10,11,12,13,14]
["RFx",null,null,null,null,null,null,7,6,5,4,3,2,1]
["  o","  x","  o","  x","  o","  x","  o","  x","  o","  x","  o","  x","  o","  x","A",null,{"$f":"ClashCount('Other league dates'!G$10:G$23,$A9:$N9)","v":""},{"$f":"ClashCount('Other league dates'!H$10:H$23,$A9:$N9)","v":""},{"$f":"ClashCount('Other league dates'!I$10:I$23,$A9:$N9)","v":""}]
["  x","  o","  x","  o","  x","  o","  x","  o","  x","  o","  x","  o","  x","  o","B",null,{"$f":"ClashCount('Other league dates'!G$10:G$23,$A10:$N10)","v":""},{"$f":"ClashCount('Other league dates'!H$10:H$23,$A10:$N10)","v":""},{"$f":"ClashCount('Other league dates'!I$10:I$23,$A10:$N10)","v":""}]
["  o","  x","  o","  x","  o--","--o","  x","  o","  x--","--x","  o","  x","  o","  x","C",null,{"$f":"ClashCount('Other league dates'!G$10:G$23,$A11:$N11)","v":""},{"$f":"ClashCount('Other league dates'!H$10:H$23,$A11:$N11)","v":""},{"$f":"ClashCount('Other league dates'!I$10:I$23,$A11:$N11)","v":""}]
["  x","  o","  x","  o","  x--","--x","  o","  x","  o--","--o","  x","  o","  x","  o","D",null,{"$f":"ClashCount('Other league dates'!G$10:G$23,$A12:$N12)","v":""},{"$f":"ClashCount('Other league dates'!H$10:H$23,$A12:$N12)","v":""},{"$f":"ClashCount('Other league dates'!I$10:I$23,$A12:$N12)","v":""}]
["  o","  x","  o--","--o","  x","  o","  x","  o","  x","  o","  x--","--x","  o","  x","E",null,{"$f":"ClashCount('Other league dates'!G$10:G$23,$A13:$N13)","v":""},{"$f":"ClashCount('Other league dates'!H$10:H$23,$A13:$N13)","v":""},{"$f":"ClashCount('Other league dates'!I$10:I$23,$A13:$N13)","v":""}]
["  x","  o","  x--","--x","  o","  x","  o","  x","  o","  x","  o--","--o","  x","  o","F",null,{"$f":"ClashCount('Other league dates'!G$10:G$23,$A14:$N14)","v":""},{"$f":"ClashCount('Other league dates'!H$10:H$23,$A14:$N14)","v":""},{"$f":"ClashCount('Other league dates'!I$10:I$23,$A14:$N14)","v":""}]
["  o--","--o","  x","  o","  x","  o","  x","  o","  x","  o","  x","  o","  x--","--x","G",null,{"$f":"ClashCount('Other league dates'!G$10:G$23,$A15:$N15)","v":""},{"$f":"ClashCount('Other league dates'!H$10:H$23,$A15:$N15)","v":""},{"$f":"ClashCount('Other league dates'!I$10:I$23,$A15:$N15)","v":""}]
["  x--","--x","  o","  x","  o","  x","  o","  x","  o","  x","  o","  x","  o--","--o","H",null,{"$f":"ClashCount('Other league dates'!G$10:G$23,$A16:$N16)","v":""},{"$f":"ClashCount('Other league dates'!H$10:H$23,$A16:$N16)","v":""},{"$f":"ClashCount('Other league dates'!I$10:I$23,$A16:$N16)","v":""}]
[]
["Fit:","08Berger",null,"10Berger",null,"12Berger",null,"14Berger",null,"16Berger"]
[]
["10Special"]
[]
["AB","JI","AD","JC","AG","DE","AF","JE","AJ","JA","AE","EA","AI","EC","CA","AC","CG","AH"]
["CD","DC","CJ","GI","CB","JH","CH","DI","CF","DG","CI","GF","CE","GJ","GE","EG","IE","EI"]
["EF","FE","EB","DA","ED","GA","EJ","FA","EH","FC","JD","DJ","JG","DH","IH","JF","FD","JB"]
["HG","BA","IG","FH","IF","FI","GB","BG","GD","BI","FG","IC","FB","IA","FJ","DB","BJ","GC"]
["IJ","GH","HF","BE","HJ","BC","ID","HC","IB","HE","HB","BH","HD","BF","BD","HI","HA","DF"]
[1,2,3,4,5,6,7,8,9,10,11,12,13,14,15,16,17,18]
["RFx",1,null,3,null,5,null,7,null,9,null,11,null,13,null,15,null,17]
["  o","  x","  o","  x","  o","  x","  o","  x","  o","  x","  o","  x","  o","  x--","--x","  o","  x","  o","A",null,{"$f":"ClashCount('Other league dates'!G$8:G$25,$A29:$R29)","v":""},{"$f":"ClashCount('Other league dates'!H$8:H$25,$A29:$R29)","v":""},{"$f":"ClashCount('Other league dates'!I$8:I$25,$A29:$R29)","v":""}]
["  x","  o","  x","  o","  x","  o","  x","  o","  x","  o","  x","  o","  x","  o--","--o","  x","  o","  x","B",null,{"$f":"ClashCount('Other league dates'!G$8:G$25,$A30:$R30)","v":""},{"$f":"ClashCount('Other league dates'!H$8:H$25,$A30:$R30)","v":""},{"$f":"ClashCount('Other league dates'!I$8:I$25,$A30:$R30)","v":""}]
["  o","  x","  o","  x","  o","  x","  o","  x","  o","  x","  o","  x","  o","  x","  o","  x","  o","  x","C",null,{"$f":"ClashCount('Other league dates'!G$8:G$25,$A31:$R31)","v":""},{"$f":"ClashCount('Other league dates'!H$8:H$25,$A31:$R31)","v":""},{"$f":"ClashCount('Other league dates'!I$8:I$25,$A31:$R31)","v":""}]
["  x","  o","  x","  o","  x","  o","  x","  o","  x","  o","  x","  o","  x","  o","  x","  o","  x","  o","D",null,{"$f":"ClashCount('Other league dates'!G$8:G$25,$A32:$R32)","v":""},{"$f":"ClashCount('Other league dates'!H$8:H$25,$A32:$R32)","v":""},{"$f":"ClashCount('Other league dates'!I$8:I$25,$A32:$R32)","v":""}]
["  o","  x","  o","  x","  o","  x","  o","  x","  o","  x--","--x","  o","  x","  o","  x","  o","  x","  o","E",null,{"$f":"ClashCount('Other league dates'!G$8:G$25,$A33:$R33)","v":""},{"$f":"ClashCount('Other league dates'!H$8:H$25,$A33:$R33)","v":""},{"$f":"ClashCount('Other league dates'!I$8:I$25,$A33:$R33)","v":""}]
["  x","  o","  x","  o","  x","  o","  x","  o","  x","  o--","--o","  x","  o","  x","  o","  x","  o","  x","F",null,{"$f":"ClashCount('Other league dates'!G$8:G$25,$A34:$R34)","v":""},{"$f":"ClashCount('Other league dates'!H$8:H$25,$A34:$R34)","v":""},{"$f":"ClashCount('Other league dates'!I$8:I$25,$A34:$R34)","v":""}]
["  x","  o","  x","  o","  x","  o--","--o","  x","  o","  x--","--x","  o","  x","  o--","--o","  x--","--x","  o","G",null,{"$f":"ClashCount('Other league dates'!G$8:G$25,$A35:$R35)","v":""},{"$f":"ClashCount('Other league dates'!H$8:H$25,$A35:$R35)","v":""},{"$f":"ClashCount('Other league dates'!I$8:I$25,$A35:$R35)","v":""}]
["  o","  x","  o","  x","  o","  x--","--x","  o","  x","  o--","--o","  x","  o","  x--","--x","  o--","--o","  x","H",null,{"$f":"ClashCount('Other league dates'!G$8:G$25,$A36:$R36)","v":""},{"$f":"ClashCount('Other league dates'!H$8:H$25,$A36:$R36)","v":""},{"$f":"ClashCount('Other league dates'!I$8:I$25,$A36:$R36)","v":""}]
["  o","  x","  o","  x","  o","  x","  o","  x","  o","  x--","--x","  o","  x","  o--","--o","  x","  o","  x","I",null,{"$f":"ClashCount('Other league dates'!G$8:G$25,$A37:$R37)","v":""},{"$f":"ClashCount('Other league dates'!H$8:H$25,$A37:$R37)","v":""},{"$f":"ClashCount('Other league dates'!I$8:I$25,$A37:$R37)","v":""}]
["  x","  o","  x","  o","  x","  o","  x","  o","  x","  o--","--o","  x","  o","  x--","--x","  o","  x","  o","J",null,{"$f":"ClashCount('Other league dates'!G$8:G$25,$A38:$R38)","v":""},{"$f":"ClashCount('Other league dates'!H$8:H$25,$A38:$R38)","v":""},{"$f":"ClashCount('Other league dates'!I$8:I$25,$A38:$R38)","v":""}]
[]
["Fit:"]
[]
["12Special"]
[]
["CD","DC","FA","AF","LD","DL","FG","GF","BD","DB","FC","CF","JD","DJ","FB","BF","HD","DH","FH","HF","FD","DF"]
["EL","LE","HI","IH","CB","BC","HE","EH","LJ","JL","HL","LH","BH","HB","HJ","JH","JF","FJ","GC","CG","HK","KH"]
["GB","BG","JG","GJ","EJ","JE","JC","CJ","CH","HC","JB","BJ","LF","FL","IE","EI","BK","KB","IL","LI","JA","AJ"]
["IJ","JI","BE","EB","GH","HG","BL","LB","EF","FE","AG","GA","CK","KC","AC","CA","LA","AL","AB","BA","BI","IB"]
["AH","HA","LC","CL","IF","FI","KI","IK","GK","KG","KE","EK","EA","AE","KL","LK","CI","IC","KJ","JK","LG","GL"]
["KF","FK","DK","KD","AK","KA","DA","AD","IA","AI","DI","ID","GI","IG","DG","GD","EG","GE","DE","ED","CE","EC"]
[1,2,3,4,5,6,7,8,9,10,11,12,13,14,15,16,17,18,19,20,21,22]
["RFx",1,null,3,null,5,null,7,null,9,null,11,null,13,null,15,null,17,null,19,null,21]
["  o","  x--","--x","  o--","--o","  x--","--x","  o","  x","  o--","--o","  x--","--x","  o--","--o","  x--","--x","  o--","--o","  x--","--x","  o","A",null,{"$f":"ClashCount('Other league dates'!G$6:G$27,$A52:$V52)","v":""},{"$f":"ClashCount('Other league dates'!H$6:H$27,$A52:$V52)","v":""},{"$f":"ClashCount('Other league dates'!I$6:I$27,$A52:$V52)","v":""}]
["  x","  o--","--o","  x--","--x","  o--","--o","  x","  o","  x--","--x","  o--","--o","  x--","--x","  o--","--o","  x--","--x","  o--","--o","  x","B",null,{"$f":"ClashCount('Other league dates'!G$6:G$27,$A53:$V53)","v":""},{"$f":"ClashCount('Other league dates'!H$6:H$27,$A53:$V53)","v":""},{"$f":"ClashCount('Other league dates'!I$6:I$27,$A53:$V53)","v":""}]
["  o","  x--","--x","  o--","--o","  x--","--x","  o--","--o","  x--","--x","  o--","--o","  x--","--x","  o--","--o","  x--","--x","  o--","--o","  x","C",null,{"$f":"ClashCount('Other league dates'!G$6:G$27,$A54:$V54)","v":""},{"$f":"ClashCount('Other league dates'!H$6:H$27,$A54:$V54)","v":""},{"$f":"ClashCount('Other league dates'!I$6:I$27,$A54:$V54)","v":""}]
["  x","  o--","--o","  x--","--x","  o--","--o","  x--","--x","  o--","--o","  x--","--x","  o--","--o","  x--","--x","  o--","--o","  x--","--x","  o","D",null,{"$f":"ClashCount('Other league dates'!G$6:G$27,$A55:$V55)","v":""},{"$f":"ClashCount('Other league dates'!H$6:H$27,$A55:$V55)","v":""},{"$f":"ClashCount('Other league dates'!I$6:I$27,$A55:$V55)","v":""}]
["  o","  x--","--x","  o--","--o","  x--","--x","  o--","--o","  x--","--x","  o--","--o","  x--","--x","  o--","--o","  x--","--x","  o","  x","  o","E",null,{"$f":"ClashCount('Other league dates'!G$6:G$27,$A56:$V56)","v":""},{"$f":"ClashCount('Other league dates'!H$6:H$27,$A56:$V56)","v":""},{"$f":"ClashCount('Other league dates'!I$6:I$27,$A56:$V56)","v":""}]
["  x","  o--","--o","  x--","--x","  o--","--o","  x--","--x","  o--","--o","  x--","--x","  o--","--o","  x--","--x","  o--","--o","  x","  o","  x","F",null,{"$f":"ClashCount('Other league dates'!G$6:G$27,$A57:$V57)","v":""},{"$f":"ClashCount('Other league dates'!H$6:H$27,$A57:$V57)","v":""},{"$f":"ClashCount('Other league dates'!I$6:I$27,$A57:$V57)","v":""}]
["  o","  x--","--x","  o--","--o","  x--","--x","  o--","--o","  x--","--x","  o--","--o","  x--","--x","  o","  x","  o--","--o","  x--","--x","  o","G",null,{"$f":"ClashCount('Other league dates'!G$6:G$27,$A58:$V58)","v":""},{"$f":"ClashCount('Other league dates'!H$6:H$27,$A58:$V58)","v":""},{"$f":"ClashCount('Other league dates'!I$6:I$27,$A58:$V58)","v":""}]
["  x","  o--","--o","  x--","--x","  o--","--o","  x--","--x","  o--","--o","  x--","--x","  o--","--o","  x","  o","  x--","--x","  o--","--o","  x","H",null,{"$f":"ClashCount('Other league dates'!G$6:G$27,$A59:$V59)","v":""},{"$f":"ClashCount('Other league dates'!H$6:H$27,$A59:$V59)","v":""},{"$f":"ClashCount('Other league dates'!I$6:I$27,$A59:$V59)","v":""}]
["  o","  x--","--x","  o--","--o","  x--","--x","  o--","--o","  x--","--x","  o","  x","  o--","--o","  x--","--x","  o--","--o","  x--","--x","  o","I",null,{"$f":"ClashCount('Other league dates'!G$6:G$27,$A60:$V60)","v":""},{"$f":"ClashCount('Other league dates'!H$6:H$27,$A60:$V60)","v":""},{"$f":"ClashCount('Other league dates'!I$6:I$27,$A60:$V60)","v":""}]
["  x","  o--","--o","  x--","--x","  o--","--o","  x--","--x","  o--","--o","  x","  o","  x--","--x","  o--","--o","  x--","--x","  o--","--o","  x","J",null,{"$f":"ClashCount('Other league dates'!G$6:G$27,$A61:$V61)","v":""},{"$f":"ClashCount('Other league dates'!H$6:H$27,$A61:$V61)","v":""},{"$f":"ClashCount('Other league dates'!I$6:I$27,$A61:$V61)","v":""}]
["  o","  x--","--x","  o","  x","  o--","--o","  x--","--x","  o--","--o","  x--","--x","  o--","--o","  x--","--x","  o--","--o","  x--","--x","  o","K",null,{"$f":"ClashCount('Other league dates'!G$6:G$27,$A62:$V62)","v":""},{"$f":"ClashCount('Other league dates'!H$6:H$27,$A62:$V62)","v":""},{"$f":"ClashCount('Other league dates'!I$6:I$27,$A62:$V62)","v":""}]
["  x","  o--","--o","  x","  o","  x--","--x","  o--","--o","  x--","--x","  o--","--o","  x--","--x","  o--","--o","  x--","--x","  o--","--o","  x","L",null,{"$f":"ClashCount('Other league dates'!G$6:G$27,$A63:$V63)","v":""},{"$f":"ClashCount('Other league dates'!H$6:H$27,$A63:$V63)","v":""},{"$f":"ClashCount('Other league dates'!I$6:I$27,$A63:$V63)","v":""}]
[]
["Fit:","14Special"]
[]
["14Special"]
[]
["AJ","JA","AF","FA","FI","CB","AK","FG","FE","AD","NH","FC","FN","NF","NM","AE","FB","CA","NA","AN","FH","CG","FD","DF","FK","KF"]
["CD","DC","ND","DN","DK","NL","NB","DL","DA","CH","CF","AI","AG","CM","CK","DJ","AC","NK","CI","DH","AL","NI","NG","AB","NC","CN"]
["EN","NE","CL","LC","HG","AM","CJ","KA","HC","NJ","EM","DB","DI","GA","BH","FL","DG","BF","EG","FJ","DE","HF","CE","GN","DM","MD"]
["GL","LG","EB","BE","JE","IF","EH","BN","JN","EF","GK","HN","HL","ID","GI","MN","HJ","GD","HD","IC","GC","LA","LI","EC","HA","AH"]
["IB","BI","GJ","JG","BC","KD","IM","JC","BL","LB","IA","ME","JB","LH","EA","KC","IE","JH","JF","GE","IN","ED","HM","IL","JI","IJ"]
["KH","HK","IH","HI","LN","GH","GF","HE","KI","IK","BD","KG","KE","BJ","JD","HB","KN","EI","BM","MB","KB","BK","JK","MH","BG","GB"]
["MF","FM","KM","MK","MA","EJ","LD","MI","MG","GM","LJ","JL","MC","EK","LF","IG","ML","LM","LK","KL","MJ","JM","BA","KJ","LE","EL"]
[1,2,3,4,5,6,7,8,9,10,11,12,13,14,15,16,17,18,19,20,21,22,23,24,25,26]
["RFx",1,null,3,null,5,null,7,null,9,null,11,null,13,null,15,null,17,null,19,null,21,null,23,null,25]
["  o","  x","  o","  x--","--x","  o--","--o","  x--","--x","  o","  x","  o--","--o","  x--","--x","  o--","--o","  x--","--x","  o--","--o","  x--","--x","  o","  x","  o","A",null,{"$f":"ClashCount('Other league dates'!G$4:G$29,$A78:$Z78)","v":""},{"$f":"ClashCount('Other league dates'!H$4:H$29,$A78:$Z78)","v":""},{"$f":"ClashCount('Other league dates'!I$4:I$29,$A78:$Z78)","v":""}]
["  x","  o","  x","  o--","--o","  x--","--x","  o--","--o","  x","  o","  x--","--x","  o--","--o","  x--","--x","  o--","--o","  x--","--x","  o--","--o","  x","  o","  x","B",null,{"$f":"ClashCount('Other league dates'!G$4:G$29,$A79:$Z79)","v":""},{"$f":"ClashCount('Other league dates'!H$4:H$29,$A79:$Z79)","v":""},{"$f":"ClashCount('Other league dates'!I$4:I$29,$A79:$Z79)","v":""}]
["  o","  x","  o","  x--","--x","  o--","--o","  x--","--x","  o--","--o","  x--","--x","  o--","--o","  x--","--x","  o--","--o","  x--","--x","  o--","--o","  x--","--x","  o","C",null,{"$f":"ClashCount('Other league dates'!G$4:G$29,$A80:$Z80)","v":""},{"$f":"ClashCount('Other league dates'!H$4:H$29,$A80:$Z80)","v":""},{"$f":"ClashCount('Other league dates'!I$4:I$29,$A80:$Z80)","v":""}]
["  x","  o","  x","  o--","--o","  x--","--x","  o--","--o","  x--","--x","  o--","--o","  x--","--x","  o--","--o","  x--","--x","  o--","--o","  x--","--x","  o--","--o","  x","D",null,{"$f":"ClashCount('Other league dates'!G$4:G$29,$A81:$Z81)","v":""},{"$f":"ClashCount('Other league dates'!H$4:H$29,$A81:$Z81)","v":""},{"$f":"ClashCount('Other league dates'!I$4:I$29,$A81:$Z81)","v":""}]
["  o","  x","  o","  x--","--x","  o--","--o","  x--","--x","  o--","--o","  x--","--x","  o--","--o","  x--","--x","  o--","--o","  x--","--x","  o","  x","  o","  x","  o","E",null,{"$f":"ClashCount('Other league dates'!G$4:G$29,$A82:$Z82)","v":""},{"$f":"ClashCount('Other league dates'!H$4:H$29,$A82:$Z82)","v":""},{"$f":"ClashCount('Other league dates'!I$4:I$29,$A82:$Z82)","v":""}]
["  x","  o","  x","  o--","--o","  x--","--x","  o--","--o","  x--","--x","  o--","--o","  x--","--x","  o--","--o","  x--","--x","  o--","--o","  x","  o","  x","  o","  x","F",null,{"$f":"ClashCount('Other league dates'!G$4:G$29,$A83:$Z83)","v":""},{"$f":"ClashCount('Other league dates'!H$4:H$29,$A83:$Z83)","v":""},{"$f":"ClashCount('Other league dates'!I$4:I$29,$A83:$Z83)","v":""}]
["  o","  x","  o","  x--","--x","  o--","--o","  x--","--x","  o--","--o","  x--","--x","  o--","--o","  x--","--x","  o","  x","  o--","--o","  x--","--x","  o","  x","  o","G",null,{"$f":"ClashCount('Other league dates'!G$4:G$29,$A84:$Z84)","v":""},{"$f":"ClashCount('Other league dates'!H$4:H$29,$A84:$Z84)","v":""},{"$f":"ClashCount('Other league dates'!I$4:I$29,$A84:$Z84)","v":""}]
["  x","  o","  x","  o--","--o","  x--","--x","  o--","--o","  x--","--x","  o--","--o","  x--","--x","  o--","--o","  x","  o","  x--","--x","  o--","--o","  x","  o","  x","H",null,{"$f":"ClashCount('Other league dates'!G$4:G$29,$A85:$Z85)","v":""},{"$f":"ClashCount('Other league dates'!H$4:H$29,$A85:$Z85)","v":""},{"$f":"ClashCount('Other league dates'!I$4:I$29,$A85:$Z85)","v":""}]
["  o","  x","  o","  x--","--x","  o--","--o","  x--","--x","  o--","--o","  x--","--x","  o","  x","  o--","--o","  x--","--x","  o--","--o","  x--","--x","  o","  x","  o","I",null,{"$f":"ClashCount('Other league dates'!G$4:G$29,$A86:$Z86)","v":""},{"$f":"ClashCount('Other league dates'!H$4:H$29,$A86:$Z86)","v":""},{"$f":"ClashCount('Other league dates'!I$4:I$29,$A86:$Z86)","v":""}]
["  x","  o","  x","  o--","--o","  x--","--x","  o--","--o","  x--","--x","  o--","--o","  x","  o","  x--","--x","  o--","--o","  x--","--x","  o--","--o","  x","  o","  x","J",null,{"$f":"ClashCount('Other league dates'!G$4:G$29,$A87:$Z87)","v":""},{"$f":"ClashCount('Other league dates'!H$4:H$29,$A87:$Z87)","v":""},{"$f":"ClashCount('Other league dates'!I$4:I$29,$A87:$Z87)","v":""}]
["  o","  x","  o","  x--","--x","  o","  x","  o--","--o","  x--","--x","  o--","--o","  x--","--x","  o--","--o","  x--","--x","  o--","--o","  x--","--x","  o","  x","  o","K",null,{"$f":"ClashCount('Other league dates'!G$4:G$29,$A88:$Z88)","v":""},{"$f":"ClashCount('Other league dates'!H$4:H$29,$A88:$Z88)","v":""},{"$f":"ClashCount('Other league dates'!I$4:I$29,$A88:$Z88)","v":""}]
["  x","  o","  x","  o--","--o","  x","  o","  x--","--x","  o--","--o","  x--","--x","  o--","--o","  x--","--x","  o--","--o","  x--","--x","  o--","--o","  x","  o","  x","L",null,{"$f":"ClashCount('Other league dates'!G$4:G$29,$A89:$Z89)","v":""},{"$f":"ClashCount('Other league dates'!H$4:H$29,$A89:$Z89)","v":""},{"$f":"ClashCount('Other league dates'!I$4:I$29,$A89:$Z89)","v":""}]
["  o","  x--","--x","  o--","--o","  x--","--x","  o--","--o","  x--","--x","  o--","--o","  x--","--x","  o--","--o","  x--","--x","  o--","--o","  x--","--x","  o","  x","  o","M",null,{"$f":"ClashCount('Other league dates'!G$4:G$29,$A90:$Z90)","v":""},{"$f":"ClashCount('Other league dates'!H$4:H$29,$A90:$Z90)","v":""},{"$f":"ClashCount('Other league dates'!I$4:I$29,$A90:$Z90)","v":""}]
["  x","  o--","--o","  x--","--x","  o--","--o","  x--","--x","  o--","--o","  x--","--x","  o--","--o","  x--","--x","  o--","--o","  x--","--x","  o--","--o","  x","  o","  x","N",null,{"$f":"ClashCount('Other league dates'!G$4:G$29,$A91:$Z91)","v":""},{"$f":"ClashCount('Other league dates'!H$4:H$29,$A91:$Z91)","v":""},{"$f":"ClashCount('Other league dates'!I$4:I$29,$A91:$Z91)","v":""}]
[]
["Fit:","12Special"]
[]
["16Special"]
[]
["OB","BM","KB","BI","GB","BE","CB","BA","PB","BN","LB","BJ","HB","BF","DB","BD","BO","EB","BC","AB","BP","NB","BL","JB","BH","FB","MB","BK","IB","BG"]
["MF","DO","MO","OK","IO","OG","EO","OC","AO","OP","NO","OL","JO","OH","FO","OF","FM","GO","OE","CO","OA","PO","ON","LO","OJ","HO","OD","OM","KO","OI"]
["KH","FK","IF","DM","KM","MI","GM","ME","CM","MA","PM","MN","LM","MJ","HM","MH","HK","IM","MG","EM","MC","AM","MP","NM","ML","JM","KF","FI","MD","MK"]
["IJ","HI","GH","FG","EF","DK","IK","KG","EK","KC","AK","KP","NK","KL","JK","KJ","JI","KD","KI","GK","KE","CK","KA","PK","KN","LK","IH","HG","GF","FE"]
["GL","JG","EJ","HE","CH","FC","AF","DI","GI","IE","CI","IA","PI","IN","LI","IL","LG","CF","FA","ID","IG","EI","IC","AI","IP","NI","GJ","JE","EH","HC"]
["EN","LE","CL","JC","AJ","HA","PH","FP","NF","DG","EG","GC","AG","GP","NG","GN","NE","AH","HP","PF","FN","GD","GE","CG","GA","PG","EL","LC","CJ","JA"]
["CP","NC","AN","LA","PL","JP","NJ","HN","LH","FL","JF","DE","CE","EA","PE","EP","PC","PJ","JN","NH","HL","LF","FJ","ED","EC","AE","CN","NA","AL","LP"]
["AD","PA","PD","NP","ND","LN","LD","JL","JD","HJ","HD","FH","FD","DC","AC","CA","DA","NL","DL","LJ","DJ","JH","DH","HF","DF","CD","AP","DP","PN","DN"]
[1,2,3,4,5,6,7,8,9,10,11,12,13,14,15,16,17,18,19,20,21,22,23,24,25,26,27,28,29,30]
["RFx",null,null,null,null,null,null,null,null,null,null,null,null,null,null,15,1,6,7,8,9,10,11,12,13,14,2,3,4,5]
["  o","  x","  o","  x","  o","  x","  o","  x","  o","  x","  o","  x","  o","  x","  o","  x--","--x","  o","  x","  o","  x","  o","  x","  o","  x","  o--","--o","  x","  o","  x","A",null,{"$f":"ClashCount('Other league dates'!G$2:G$31,$A107:$AD107)","v":""},{"$f":"ClashCount('Other league dates'!H$2:H$31,$A107:$AD107)","v":""},{"$f":"ClashCount('Other league dates'!I$2:I$31,$A107:$AD107)","v":""}]
["  x","  o","  x","  o","  x","  o","  x","  o","  x","  o","  x","  o","  x","  o","  x","  o--","--o","  x","  o","  x","  o","  x","  o","  x","  o","  x--","--x","  o","  x","  o","B",null,{"$f":"ClashCount('Other league dates'!G$2:G$31,$A108:$AD108)","v":""},{"$f":"ClashCount('Other league dates'!H$2:H$31,$A108:$AD108)","v":""},{"$f":"ClashCount('Other league dates'!I$2:I$31,$A108:$AD108)","v":""}]
["  o","  x","  o","  x","  o","  x","  o","  x","  o","  x","  o","  x","  o","  x--","--x","  o","  x","  o","  x","  o","  x","  o","  x","  o","  x","  o--","--o","  x","  o","  x","C",null,{"$f":"ClashCount('Other league dates'!G$2:G$31,$A109:$AD109)","v":""},{"$f":"ClashCount('Other league dates'!H$2:H$31,$A109:$AD109)","v":""},{"$f":"ClashCount('Other league dates'!I$2:I$31,$A109:$AD109)","v":""}]
["  x","  o","  x","  o","  x","  o","  x","  o","  x","  o","  x","  o","  x","  o--","--o","  x","  o","  x","  o","  x","  o","  x","  o","  x","  o","  x--","--x","  o","  x","  o","D",null,{"$f":"ClashCount('Other league dates'!G$2:G$31,$A110:$AD110)","v":""},{"$f":"ClashCount('Other league dates'!H$2:H$31,$A110:$AD110)","v":""},{"$f":"ClashCount('Other league dates'!I$2:I$31,$A110:$AD110)","v":""}]
["  o","  x","  o","  x","  o","  x","  o","  x","  o","  x","  o","  x--","--x","  o","  x","  o","  x","  o","  x","  o","  x","  o","  x","  o--","--o","  x","  o","  x","  o","  x","E",null,{"$f":"ClashCount('Other league dates'!G$2:G$31,$A111:$AD111)","v":""},{"$f":"ClashCount('Other league dates'!H$2:H$31,$A111:$AD111)","v":""},{"$f":"ClashCount('Other league dates'!I$2:I$31,$A111:$AD111)","v":""}]
["  x","  o","  x","  o","  x","  o","  x","  o","  x","  o","  x","  o--","--o","  x","  o","  x","  o","  x","  o","  x","  o","  x","  o","  x--","--x","  o","  x","  o","  x","  o","F",null,{"$f":"ClashCount('Other league dates'!G$2:G$31,$A112:$AD112)","v":""},{"$f":"ClashCount('Other league dates'!H$2:H$31,$A112:$AD112)","v":""},{"$f":"ClashCount('Other league dates'!I$2:I$31,$A112:$AD112)","v":""}]
["  o","  x","  o","  x","  o","  x","  o","  x","  o","  x--","--x","  o","  x","  o","  x","  o","  x","  o","  x","  o","  x","  o--","--o","  x","  o","  x","  o","  x","  o","  x","G",null,{"$f":"ClashCount('Other league dates'!G$2:G$31,$A113:$AD113)","v":""},{"$f":"ClashCount('Other league dates'!H$2:H$31,$A113:$AD113)","v":""},{"$f":"ClashCount('Other league dates'!I$2:I$31,$A113:$AD113)","v":""}]
["  x","  o","  x","  o","  x","  o","  x","  o","  x","  o--","--o","  x","  o","  x","  o","  x","  o","  x","  o","  x","  o","  x--","--x","  o","  x","  o","  x","  o","  x","  o","H",null,{"$f":"ClashCount('Other league dates'!G$2:G$31,$A114:$AD114)","v":""},{"$f":"ClashCount('Other league dates'!H$2:H$31,$A114:$AD114)","v":""},{"$f":"ClashCount('Other league dates'!I$2:I$31,$A114:$AD114)","v":""}]
["  o","  x","  o","  x","  o","  x","  o","  x--","--x","  o","  x","  o","  x","  o","  x","  o","  x","  o","  x","  o--","--o","  x","  o","  x","  o","  x","  o","  x","  o","  x","I",null,{"$f":"ClashCount('Other league dates'!G$2:G$31,$A115:$AD115)","v":""},{"$f":"ClashCount('Other league dates'!H$2:H$31,$A115:$AD115)","v":""},{"$f":"ClashCount('Other league dates'!I$2:I$31,$A115:$AD115)","v":""}]
["  x","  o","  x","  o","  x","  o","  x","  o--","--o","  x","  o","  x","  o","  x","  o","  x","  o","  x","  o","  x--","--x","  o","  x","  o","  x","  o","  x","  o","  x","  o","J",null,{"$f":"ClashCount('Other league dates'!G$2:G$31,$A116:$AD116)","v":""},{"$f":"ClashCount('Other league dates'!H$2:H$31,$A116:$AD116)","v":""},{"$f":"ClashCount('Other league dates'!I$2:I$31,$A116:$AD116)","v":""}]
["  o","  x","  o","  x","  o","  x--","--x","  o","  x","  o","  x","  o","  x","  o","  x","  o","  x","  o--","--o","  x","  o","  x","  o","  x","  o","  x","  o","  x","  o","  x","K",null,{"$f":"ClashCount('Other league dates'!G$2:G$31,$A117:$AD117)","v":""},{"$f":"ClashCount('Other league dates'!H$2:H$31,$A117:$AD117)","v":""},{"$f":"ClashCount('Other league dates'!I$2:I$31,$A117:$AD117)","v":""}]
["  x","  o","  x","  o","  x","  o--","--o","  x","  o","  x","  o","  x","  o","  x","  o","  x","  o","  x--","--x","  o","  x","  o","  x","  o","  x","  o","  x","  o","  x","  o","L",null,{"$f":"ClashCount('Other league dates'!G$2:G$31,$A118:$AD118)","v":""},{"$f":"ClashCount('Other league dates'!H$2:H$31,$A118:$AD118)","v":""},{"$f":"ClashCount('Other league dates'!I$2:I$31,$A118:$AD118)","v":""}]
["  o","  x","  o","  x--","--x","  o","  x","  o","  x","  o","  x","  o","  x","  o","  x","  o","  x--","--x","  o","  x","  o","  x","  o","  x","  o","  x","  o","  x","  o--","--o","M",null,{"$f":"ClashCount('Other league dates'!G$2:G$31,$A119:$AD119)","v":""},{"$f":"ClashCount('Other league dates'!H$2:H$31,$A119:$AD119)","v":""},{"$f":"ClashCount('Other league dates'!I$2:I$31,$A119:$AD119)","v":""}]
["  x","  o","  x","  o--","--o","  x","  o","  x","  o","  x","  o","  x","  o","  x","  o","  x","  o--","--o","  x","  o","  x","  o","  x","  o","  x","  o","  x","  o","  x--","--x","N",null,{"$f":"ClashCount('Other league dates'!G$2:G$31,$A120:$AD120)","v":""},{"$f":"ClashCount('Other league dates'!H$2:H$31,$A120:$AD120)","v":""},{"$f":"ClashCount('Other league dates'!I$2:I$31,$A120:$AD120)","v":""}]
["  o","  x--","--x","  o","  x","  o","  x","  o","  x","  o","  x","  o","  x","  o","  x","  o","  x--","--x","  o","  x","  o","  x","  o","  x","  o","  x","  o--","--o","  x","  o","O",null,{"$f":"ClashCount('Other league dates'!G$2:G$31,$A121:$AD121)","v":""},{"$f":"ClashCount('Other league dates'!H$2:H$31,$A121:$AD121)","v":""},{"$f":"ClashCount('Other league dates'!I$2:I$31,$A121:$AD121)","v":""}]
["  x","  o--","--o","  x","  o","  x","  o","  x","  o","  x","  o","  x","  o","  x","  o","  x","  o--","--o","  x","  o","  x","  o","  x","  o","  x","  o","  x--","--x","  o","  x","P",null,{"$f":"ClashCount('Other league dates'!G$2:G$31,$A122:$AD122)","v":""},{"$f":"ClashCount('Other league dates'!H$2:H$31,$A122:$AD122)","v":""},{"$f":"ClashCount('Other league dates'!I$2:I$31,$A122:$AD122)","v":""}]
[]
["Fit:"]

{"sheet":"Other league dates","index":4,"n_rows":31,"n_cols":9,"rows_kept":31,"cut":false,"hidden":false,"merged":[]}
[8,10,12,14,16,"Week no","Team 1","Team 2","Team 3"]
[null,null,null,null,{"$f":"INDEX(Dates16,ROW()-1,1)","v":"1900-01-01"},1]
[null,null,null,null,"1900-01-01",2]
[null,null,null,{"$f":"INDEX(Dates14,ROW()-3,1)","v":"1900-01-01"},"1900-01-01",3]
[null,null,null,"1900-01-01","1900-01-01",4]
[null,null,{"$f":"INDEX(Dates12,ROW()-5,1)","v":"1900-01-01"},"1900-01-01","1900-01-01",5]
[null,null,"1900-01-01","1900-01-01","1900-01-01",6]
[null,{"$f":"INDEX(Dates10,ROW()-7,1)","v":"1900-01-01"},"1900-01-01","1900-01-01","1900-01-01",7]
[null,"1900-01-01","1900-01-01","1900-01-01","1900-01-01",8]
[{"$f":"INDEX(Dates08,ROW()-9,1)","v":"1900-01-01"},"1900-01-01","1900-01-01","1900-01-01","1900-01-01",9]
["1900-01-01","1900-01-01","1900-01-01","1900-01-01","1900-01-01",10]
["1900-01-01","1900-01-01","1900-01-01","1900-01-01","1900-01-01",11]
["1900-01-01","1900-01-01","1900-01-01","1900-01-01","1900-01-01",12]
["1900-01-01","1900-01-01","1900-01-01","1900-01-01","1900-01-01",13]
["1900-01-01","1900-01-01","1900-01-01","1900-01-01","1900-01-01",14]
["1900-01-01","1900-01-01","1900-01-01","1900-01-01","1900-01-01",15]
["1900-01-01","1900-01-01","1900-01-01","1900-01-01","1900-01-01",16]
["1900-01-01","1900-01-01","1900-01-01","1900-01-01","1900-01-01",17]
["1900-01-01","1900-01-01","1900-01-01","1900-01-01","1900-01-01",18]
["1900-01-01","1900-01-01","1900-01-01","1900-01-01","1900-01-01",19]
["1900-01-01","1900-01-01","1900-01-01","1900-01-01","1900-01-01",20]
["1900-01-01","1900-01-01","1900-01-01","1900-01-01","1900-01-01",21]
["1900-01-01","1900-01-01","1900-01-01","1900-01-01","1900-01-01",22]
[null,"1900-01-01","1900-01-01","1900-01-01","1900-01-01",23]
[null,"1900-01-01","1900-01-01","1900-01-01","1900-01-01",24]
[null,null,"1900-01-01","1900-01-01","1900-01-01",25]
[null,null,"1900-01-01","1900-01-01","1900-01-01",26]
[null,null,null,"1900-01-01","1900-01-01",27]
[null,null,null,"1900-01-01","1900-01-01",28]
[null,null,null,null,"1900-01-01",29]
[null,null,null,null,"1900-01-01",30]

{"sheet":"Notes","index":5,"n_rows":6,"n_cols":2,"rows_kept":6,"cut":false,"hidden":false,"merged":[]}
[]
[null,"General notes. These will be stored in the settings file."]
[]
[]
[]
[null,"Use Alt-Enter to type a line-feed"]