{"text_format":"1","workbook":"xlsx","n_sheets":6,"sheets":["Composition","Dates-Patterns","Patterns","Special Patterns","Other league dates","Notes"],"not_rendered":{"charts":0,"images":0,"macros":1,"external_links":0,"defined_names":21,"comments":2,"pivot_tables":0},"unopened":[],"bounds":{"document_bytes":16777216,"sheet_cells":100000,"rows_first":2000,"rows_last":500,"rows_between":2000,"halvings":0,"cell_chars":16384,"cell_head_chars":4096},"cells_cut":0,"cells_raw":0,"read":"whole","date_system":"1900"}

{"sheet":"Composition","index":0,"n_rows":47,"n_cols":9,"rows_kept":47,"cut":false,"hidden":false,"merged":[]}
[null,0,1,2,3,4,5,6,7]
["Teams","A"]
[null,"B"]
[null,"C"]
[null,"D"]
[null,"E"]
[null,"F"]
[null,"G"]
[null,"H"]
[null,"I"]
[null,"J"]
[null,"K"]
[null,"L"]
[null,"M"]
[null,"N"]
[null,"O"]
[null,"P"]
[null,"Q"]
[null,"R"]
[]
[null,0,0,0,0,0,0,0,0]
[null,0,0,0,0,0,0,0,0]
[null,0,0,0,0,0,0,0,0]
[null,0,0,0,0,0,0,0,0]
[null,0,0,0,0,0,0,0,0]
[null,0,0,0,0,0,0,0,0]
[null,0,0,0,0,0,0,0,0]
[null,0,0,0,0,0,0,0,0]
[null,0,0,0,0,0,0,0,0]
[null,0,0,0,0,0,0,0,0]
[null,0,0,0,0,0,0,0,0]
[null,0,0,0,0,0,0,0,0]
[null,0,0,0,0,0,0,0,0]
[null,0,0,0,0,0,0,0,0]
[null,0,0,0,0,0,0,0,0]
[null,0,0,0,0,0,0,0,0]
[null,0,0,0,0,0,0,0,0]
[null,0,0,0,0,0,0,0,0]
[]
["Division","Pattern"]
["titles","Division A","A"]
[null,"Division B","B"]
[null,"Division C","C"]
[null,"Division D","D"]
[null,"Division E","E"]
[null,"Division F","F"]
[null,"Division G","G"]

{"sheet":"Dates-Patterns","index":1,"n_rows":38,"n_cols":24,"rows_kept":38,"cut":false,"hidden":false,"merged":[[0,18,0,20],[0,15,0,17],[0,12,0,14],[0,9,0,11],[0,6,0,8]]}
[null,"4 teams",null,null,"6 teams",null,"8 teams",null,null,"10 teams",null,null,"12 teams",null,null,"14 teams",null,null,"16 teams",null,null,null,"18 teams"]
["Pattern:",null,null,"Pattern:",null,null,"Pattern:",null,null,"Pattern:",null,null,"Pattern:",null,null,"Pattern:",null,null,"Pattern:",null,null,"Pattern:"]
[]
[null,null,null,null,null,null,null,null,null,null,null,null,null,null,null,null,null,null,null,null,null,"Week","Date","Offset"]
[null,null,null,null,null,null,null,null,null,null,null,null,null,null,null,null,null,null,null,null,null,1,"1900-01-01",1]
[null,null,null,null,null,null,null,null,null,null,null,null,null,null,null,null,null,null,"Week","Date","Offset",2,"1900-01-01",1]
[null,null,null,null,null,null,null,null,null,null,null,null,null,null,null,null,null,null,1,"1900-01-01",1,3,"1900-01-01",1]
[null,null,null,null,null,null,null,null,null,null,null,null,null,null,null,"Week","Date","Offset?",2,"1900-01-01",1,4,"1900-01-01",1]
[null,null,null,null,null,null,null,null,null,null,null,null,null,null,null,1,"1900-01-01",1,3,"1900-01-01",1,5,"1900-01-01",1]
[null,null,null,null,null,null,null,null,null,null,null,null,"Week","Date","Offset?",2,"1900-01-01",1,4,"1900-01-01",1,6,"1900-01-01",1]
[null,null,null,null,null,null,null,null,null,null,null,null,1,"1900-01-01",1,3,"1900-01-01",1,5,"1900-01-01",1,7,"1900-01-01",1]
[null,null,null,null,null,null,null,null,null,"Week","Date","Offset?",2,"1900-01-01",1,4,"1900-01-01",1,6,"1900-01-01",1,8,"1900-01-01",1]
[null,null,null,null,null,null,null,null,null,1,"1900-01-01",1,3,"1900-01-01",1,5,"1900-01-01",1,7,"1900-01-01",1,9,"1900-01-01",1]
[null,null,null,null,null,null,"Week","Date","Offset?",2,"1900-01-01",1,4,"1900-01-01",1,6,"1900-01-01",1,8,"1900-01-01",1,10,"1900-01-01",1]
[null,null,null,null,null,null,1,"1900-01-01",1,3,"1900-01-01",1,5,"1900-01-01",1,7,"1900-01-01",1,9,"1900-01-01",1,11,"1900-01-01",1]
[null,null,null,"Week","Date","Offset?",2,"1900-01-01",1,4,"1900-01-01",1,6,"1900-01-01",1,8,"1900-01-01",1,10,"1900-01-01",1,12,"1900-01-01",1]
[null,null,null,1,"1900-01-01",1,3,"1900-01-01",1,5,"1900-01-01",1,7,"1900-01-01",1,9,"1900-01-01",1,11,"1900-01-01",1,13,"1900-01-01",1]
["Week","Date","Offset?",2,"1900-01-01",1,4,"1900-01-01",1,6,"1900-01-01",1,8,"1900-01-01",1,10,"1900-01-01",1,12,"1900-01-01",1,14,"1900-01-01",1]
[1,"1900-01-01",1,3,"1900-01-01",1,5,"1900-01-01",1,7,"1900-01-01",1,9,"1900-01-01",1,11,"1900-01-01",1,13,"1900-01-01",1,15,"1900-01-01",1]
[2,"1900-01-01",1,4,"1900-01-01",1,6,"1900-01-01",1,8,"1900-01-01",1,10,"1900-01-01",1,12,"1900-01-01",1,14,"1900-01-01",1,16,"1900-01-01",1]
[3,"1900-01-01",1,5,"1900-01-01",1,7,"1900-01-01",1,9,"1900-01-01",1,11,"1900-01-01",1,13,"1900-01-01",1,15,"1900-01-01",1,17,"1900-01-01",1]
[4,"1900-01-01",1,6,"1900-01-01",1,8,"1900-01-01",1,10,"1900-01-01",1,12,"1900-01-01",1,14,"1900-01-01",1,16,"1900-01-01",1,18,"1900-01-01",1]
[5,"1900-01-01",1,7,"1900-01-01",1,9,"1900-01-01",1,11,"1900-01-01",1,13,"1900-01-01",1,15,"1900-01-01",1,17,"1900-01-01",1,19,"1900-01-01",1]
[6,"1900-01-01",1,8,"1900-01-01",1,10,"1900-01-01",1,12,"1900-01-01",1,14,"1900-01-01",1,16,"1900-01-01",1,18,"1900-01-01",1,20,"1900-01-01",1]
[null,null,null,9,"1900-01-01",1,11,"1900-01-01",1,13,"1900-01-01",1,15,"1900-01-01",1,17,"1900-01-01",1,19,"1900-01-01",1,21,"1900-01-01",1]
[null,null,null,10,"1900-01-01",1,12,"1900-01-01",1,14,"1900-01-01",1,16,"1900-01-01",1,18,"1900-01-01",1,20,"1900-01-01",1,22,"1900-01-01",1]
[null,null,null,null,null,null,13,"1900-01-01",1,15,"1900-01-01",1,17,"1900-01-01",1,19,"1900-01-01",1,21,"1900-01-01",1,23,"1900-01-01",1]
[null,null,null,null,null,null,14,"1900-01-01",1,16,"1900-01-01",1,18,"1900-01-01",1,20,"1900-01-01",1,22,"1900-01-01",1,24,"1900-01-01",1]
[null,null,null,null,null,null,null,null,null,17,"1900-01-01",1,19,"1900-01-01",1,21,"1900-01-01",1,23,"1900-01-01",1,25,"1900-01-01",1]
[null,null,null,null,null,null,null,null,null,18,"1900-01-01",1,20,"1900-01-01",1,22,"1900-01-01",1,24,"1900-01-01",1,26,"1900-01-01",1]
[null,null,null,null,null,null,null,null,null,null,null,null,21,"1900-01-01",1,23,"1900-01-01",1,25,"1900-01-01",1,27,"1900-01-01",1]
[null,null,null,null,null,null,null,null,null,null,null,null,22,"1900-01-01",1,24,"1900-01-01",1,26,"1900-01-01",1,28,"1900-01-01",1]
[null,null,null,null,null,null,null,null,null,null,null,null,null,null,null,25,"1900-01-01",1,27,"1900-01-01",1,29,"1900-01-01",1]
[null,null,null,null,null,null,null,null,null,null,null,null,null,null,null,26,"1900-01-01",1,28,"1900-01-01",1,30,"1900-01-01",1]
[null,null,null,null,null,null,null,null,null,null,null,null,null,null,null,null,null,null,29,"1900-01-01",1,31,"1900-01-01",1]
[null,null,null,null,null,null,null,null,null,null,null,null,null,null,null,null,null,null,30,"1900-01-01",1,32,"1900-01-01",1]
[null,null,null,null,null,null,null,null,null,null,null,null,null,null,null,null,null,null,null,null,null,33,"1900-01-01",1]
[null,null,null,null,null,null,null,null,null,null,null,null,null,null,null,null,null,null,null,null,null,34,"1900-01-01",1]

{"sheet":"Patterns","index":2,"n_rows":1564,"n_cols":40,"rows_kept":1564,"cut":false,"hidden":false,"merged":[]}
["04Berger"]
[]
["AD","BD","AB","BA","DB","DA"]
["CB","CA","DC","CD","AC","BC"]
[1,2,3,4,5,6]
["RFx",null,null,3,2,1]
["  o","  x","  o","  x","  o","  x","A",null,{"$f":"ClashCount('Other league dates'!J$16:J$21,$A7:$F7)","v":""},{"$f":"ClashCount('Other league dates'!K$16:K$21,$A7:$F7)","v":""},{"$f":"ClashCount('Other league dates'!L$16:L$21,$A7:$F7)","v":""}]
["  x","  o","  x","  o","  x","  o","B",null,{"$f":"ClashCount('Other league dates'!J$16:J$21,$A8:$F8)","v":""},{"$f":"ClashCount('Other league dates'!K$16:K$21,$A8:$F8)","v":""},{"$f":"ClashCount('Other league dates'!L$16:L$21,$A8:$F8)","v":""}]
["  o--","--o","  x","  o","  x--","--x","C",null,{"$f":"ClashCount('Other league dates'!J$16:J$21,$A9:$F9)","v":""},{"$f":"ClashCount('Other league dates'!K$16:K$21,$A9:$F9)","v":""},{"$f":"ClashCount('Other league dates'!L$16:L$21,$A9:$F9)","v":""}]
["  x--","--x","  o","  x","  o--","--o","D",null,{"$f":"ClashCount('Other league dates'!J$16:J$21,$A10:$F10)","v":""},{"$f":"ClashCount('Other league dates'!K$16:K$21,$A10:$F10)","v":""},{"$f":"ClashCount('Other league dates'!L$16:L$21,$A10:$F10)","v":""}]
[]
["Fit:","06Berger",null,"08Berger",null,"10Berger",null,"12Berger",null,"14Berger",null,"16Berger",null,"18Berger"]
[]
["06ataa"]
[]
["AE","BF","AC","BA","BE","EB","AB","CA","FB","EA"]
["CB","DA","DB","CF","DC","CD","FC","BD","AD","BC"]
["FD","EC","FE","ED","FA","AF","DE","EF","CE","DF"]
[1,2,3,4,5,6,7,8,9,10]
["RFx",null,null,null,null,5,4,3,2,1]
["  o","  x","  o","  x--","--x","  o--","--o","  x","  o","  x","A",null,{"$f":"ClashCount('Other league dates'!J$14:J$23,$A21:$J21)","v":""}]
["  x","  o","  x","  o--","--o","  x--","--x","  o","  x","  o","B",null,{"$f":"ClashCount('Other league dates'!J$14:J$23,$A22:$J22)","v":""}]
["  o","  x--","--x","  o","  x","  o","  x","  o--","--o","  x","C",null,{"$f":"ClashCount('Other league dates'!J$14:J$23,$A23:$J23)","v":""}]
["  x","  o--","--o","  x","  o","  x","  o","  x--","--x","  o","D",null,{"$f":"ClashCount('Other league dates'!J$14:J$23,$A24:$J24)","v":""}]
["  x","  o","  x","  o","  x","  o","  x","  o","  x","  o","E",null,{"$f":"ClashCount('Other league dates'!J$14:J$23,$A25:$J25)","v":""}]
["  o","  x","  o","  x","  o","  x","  o","  x","  o","  x","F",null,{"$f":"ClashCount('Other league dates'!J$14:J$23,$A26:$J26)","v":""}]
[]
["Fit:","08ataa",null,"08ataax",null,"10araa",null,"12apaa",null,"14anaa"]
[]
["06Berger"]
[]
["AF","BF","AE","BD","AB","BA","AC","BC","AD","BE"]
["CD","DA","CB","CA","DE","CF","DB","DF","CE","DC"]
["EB","EC","FD","EF","FC","ED","FE","EA","FB","FA"]
[1,2,3,4,5,6,7,8,9,10]
["RFx",null,null,null,null,5,4,3,2,1]
["  o","  x","  o","  x","  o","  x","  o","  x","  o","  x","A",null,{"$f":"ClashCount('Other league dates'!J$14:J$23,$A37:$J37)","v":""},{"$f":"ClashCount('Other league dates'!K$14:K$23,$A37:$J37)","v":""},{"$f":"ClashCount('Other league dates'!L$14:L$23,$A37:$J37)","v":""}]
["  x","  o","  x","  o","  x","  o","  x","  o","  x","  o","B",null,{"$f":"ClashCount('Other league dates'!J$14:J$23,$A38:$J38)","v":""},{"$f":"ClashCount('Other league dates'!K$14:K$23,$A38:$J38)","v":""},{"$f":"ClashCount('Other league dates'!L$14:L$23,$A38:$J38)","v":""}]
["  o","  x","  o--","--o","  x","  o","  x--","--x","  o","  x","C",null,{"$f":"ClashCount('Other league dates'!J$14:J$23,$A39:$J39)","v":""},{"$f":"ClashCount('Other league dates'!K$14:K$23,$A39:$J39)","v":""},{"$f":"ClashCount('Other league dates'!L$14:L$23,$A39:$J39)","v":""}]
["  x","  o","  x--","--x","  o","  x","  o--","--o","  x","  o","D",null,{"$f":"ClashCount('Other league dates'!J$14:J$23,$A40:$J40)","v":""},{"$f":"ClashCount('Other league dates'!K$14:K$23,$A40:$J40)","v":""},{"$f":"ClashCount('Other league dates'!L$14:L$23,$A40:$J40)","v":""}]
["  o--","--o","  x","  o","  x","  o","  x","  o","  x--","--x","E",null,{"$f":"ClashCount('Other league dates'!J$14:J$23,$A41:$J41)","v":""},{"$f":"ClashCount('Other league dates'!K$14:K$23,$A41:$J41)","v":""},{"$f":"ClashCount('Other league dates'!L$14:L$23,$A41:$J41)","v":""}]
["  x--","--x","  o","  x","  o","  x","  o","  x","  o--","--o","F",null,{"$f":"ClashCount('Other league dates'!J$14:J$23,$A42:$J42)","v":""},{"$f":"ClashCount('Other league dates'!K$14:K$23,$A42:$J42)","v":""},{"$f":"ClashCount('Other league dates'!L$14:L$23,$A42:$J42)","v":""}]
[]
["Fit:","04Berger",null,"08Berger",null,"10Berger",null,"12Berger",null,"14Berger",null,"16Berger",null,"18Berger"]
[]
["08aaaa"]
[]
["AD","BC","AG","BA","AE","BD","BG","DA","CB","GA","AB","EA","DB","GB"]
["CG","DH","CE","DC","DG","CA","DE","GC","HD","EC","CD","GD","AC","ED"]
["EB","FA","FD","EF","FB","EH","FC","BE","AF","DF","FE","BF","HE","CF"]
["HF","GE","HB","GH","HC","GF","HA","FH","EG","BH","HG","CH","FG","AH"]
[1,2,3,4,5,6,7,8,9,10,11,12,13,14]
["RFx",null,null,null,null,null,null,1,2,3,4,5,6,7]
["  o","  x","  o","  x","  o","  x--","--x--","--x","  o","  x","  o","  x","  o--","--o","A",null,{"$f":"ClashCount('Other league dates'!J$12:J$25,$A54:$N54)","v":""},{"$f":"ClashCount('Other league dates'!K$12:K$25,$A54:$N54)","v":""},{"$f":"ClashCount('Other league dates'!L$12:L$25,$A54:$N54)","v":""}]
["  x","  o","  x","  o","  x","  o--","--o--","--o","  x","  o","  x","  o","  x--","--x","B",null,{"$f":"ClashCount('Other league dates'!J$12:J$25,$A55:$N55)","v":""},{"$f":"ClashCount('Other league dates'!K$12:K$25,$A55:$N55)","v":""},{"$f":"ClashCount('Other league dates'!L$12:L$25,$A55:$N55)","v":""}]
["  o","  x","  o","  x--","--x","  o","  x--","--x","  o","  x","  o--","--o","  x","  o","C",null,{"$f":"ClashCount('Other league dates'!J$12:J$25,$A56:$N56)","v":""},{"$f":"ClashCount('Other league dates'!K$12:K$25,$A56:$N56)","v":""},{"$f":"ClashCount('Other league dates'!L$12:L$25,$A56:$N56)","v":""}]
["  x","  o","  x","  o--","--o","  x","  o--","--o","  x","  o","  x--","--x","  o","  x","D",null,{"$f":"ClashCount('Other league dates'!J$12:J$25,$A57:$N57)","v":""},{"$f":"ClashCount('Other league dates'!K$12:K$25,$A57:$N57)","v":""},{"$f":"ClashCount('Other league dates'!L$12:L$25,$A57:$N57)","v":""}]
["  o","  x--","--x","  o","  x","  o","  x--","--x","  o--","--o","  x","  o","  x","  o","E",null,{"$f":"ClashCount('Other league dates'!J$12:J$25,$A58:$N58)","v":""},{"$f":"ClashCount('Other league dates'!K$12:K$25,$A58:$N58)","v":""},{"$f":"ClashCount('Other league dates'!L$12:L$25,$A58:$N58)","v":""}]
["  x","  o--","--o","  x","  o","  x","  o--","--o","  x--","--x","  o","  x","  o","  x","F",null,{"$f":"ClashCount('Other league dates'!J$12:J$25,$A59:$N59)","v":""},{"$f":"ClashCount('Other league dates'!K$12:K$25,$A59:$N59)","v":""},{"$f":"ClashCount('Other league dates'!L$12:L$25,$A59:$N59)","v":""}]
["  x","  o","  x","  o","  x","  o","  x","  o","  x","  o","  x","  o","  x","  o","G",null,{"$f":"ClashCount('Other league dates'!J$12:J$25,$A60:$N60)","v":""},{"$f":"ClashCount('Other league dates'!K$12:K$25,$A60:$N60)","v":""},{"$f":"ClashCount('Other league dates'!L$12:L$25,$A60:$N60)","v":""}]
["  o","  x","  o","  x","  o","  x","  o","  x","  o","  x","  o","  x","  o","  x","H",null,{"$f":"ClashCount('Other league dates'!J$12:J$25,$A61:$N61)","v":""},{"$f":"ClashCount('Other league dates'!K$12:K$25,$A61:$N61)","v":""},{"$f":"ClashCount('Other league dates'!L$12:L$25,$A61:$N61)","v":""}]
[]
["Fit:","10acaa",null,null,null,null,null,null,null,null,null,null,null,null,null,null,null,null,null,null,null,null,null,null,null,null,null,null,"","","","","","","","","","","",""]
[]
["08agaa"]
[]
["AD","BC","AG","BA","AE","BD","BG","GB","DA","CB","GA","AB","EA","DB"]
["CG","DH","CE","DC","DG","CA","DE","ED","GC","HD","EC","CD","GD","AC"]
["EB","FA","FD","EF","FB","EH","FC","CF","BE","AF","DF","FE","BF","HE"]
["HF","GE","HB","GH","HC","GF","HA","AH","FH","EG","BH","HG","CH","FG"]
[1,2,3,4,5,6,7,8,9,10,11,12,13,14]
["RFx",null,null,null,null,null,null,7,1,2,3,4,5,6]
["  o","  x","  o","  x","  o","  x--","--x","  o","  x","  o","  x","  o","  x","  o","A",null,{"$f":"ClashCount('Other league dates'!J$12:J$25,$A73:$N73)","v":""},{"$f":"ClashCount('Other league dates'!K$12:K$25,$A73:$N73)","v":""},{"$f":"ClashCount('Other league dates'!L$12:L$25,$A73:$N73)","v":""}]
["  x","  o","  x","  o","  x","  o--","--o","  x","  o","  x","  o","  x","  o","  x","B",null,{"$f":"ClashCount('Other league dates'!J$12:J$25,$A74:$N74)","v":""},{"$f":"ClashCount('Other league dates'!K$12:K$25,$A74:$N74)","v":""},{"$f":"ClashCount('Other league dates'!L$12:L$25,$A74:$N74)","v":""}]
["  o","  x","  o","  x--","--x","  o","  x","  o","  x","  o","  x","  o--","--o","  x","C",null,{"$f":"ClashCount('Other league dates'!J$12:J$25,$A75:$N75)","v":""},{"$f":"ClashCount('Other league dates'!K$12:K$25,$A75:$N75)","v":""},{"$f":"ClashCount('Other league dates'!L$12:L$25,$A75:$N75)","v":""}]
["  x","  o","  x","  o--","--o","  x","  o","  x","  o","  x","  o","  x--","--x","  o","D",null,{"$f":"ClashCount('Other league dates'!J$12:J$25,$A76:$N76)","v":""},{"$f":"ClashCount('Other league dates'!K$12:K$25,$A76:$N76)","v":""},{"$f":"ClashCount('Other league dates'!L$12:L$25,$A76:$N76)","v":""}]
["  o","  x--","--x","  o","  x","  o","  x","  o","  x","  o--","--o","  x","  o","  x","E",null,{"$f":"ClashCount('Other league dates'!J$12:J$25,$A77:$N77)","v":""},{"$f":"ClashCount('Other league dates'!K$12:K$25,$A77:$N77)","v":""},{"$f":"ClashCount('Other league dates'!L$12:L$25,$A77:$N77)","v":""}]
["  x","  o--","--o","  x","  o","  x","  o","  x","  o","  x--","--x","  o","  x","  o","F",null,{"$f":"ClashCount('Other league dates'!J$12:J$25,$A78:$N78)","v":""},{"$f":"ClashCount('Other league dates'!K$12:K$25,$A78:$N78)","v":""},{"$f":"ClashCount('Other league dates'!L$12:L$25,$A78:$N78)","v":""}]
["  x","  o","  x","  o","  x","  o","  x","  o--","--o","  x","  o","  x","  o","  x","G",null,{"$f":"ClashCount('Other league dates'!J$12:J$25,$A79:$N79)","v":""},{"$f":"ClashCount('Other league dates'!K$12:K$25,$A79:$N79)","v":""},{"$f":"ClashCount('Other league dates'!L$12:L$25,$A79:$N79)","v":""}]
["  o","  x","  o","  x","  o","  x","  o","  x--","--x","  o","  x","  o","  x","  o","H",null,{"$f":"ClashCount('Other league dates'!J$12:J$25,$A80:$N80)","v":""},{"$f":"ClashCount('Other league dates'!K$12:K$25,$A80:$N80)","v":""},{"$f":"ClashCount('Other league dates'!L$12:L$25,$A80:$N80)","v":""}]
[]
["Fit:","08agab",null,"10aiba",null,"10bbaa",null,"12akca",null,"12akda",null,"14amda",null,"14amea"]
[]
["08agab",null,null,"ERK addition, based on 08agaa"]
[]
["AD","BC","AB","BA","AE","BD","BG","GB","DA","CB","GA","AG","EA","DB"]
["CG","DH","CD","DC","DG","CA","DE","ED","GC","HD","EC","CE","GD","AC"]
["EB","FA","FE","EF","FB","EH","FC","CF","BE","AF","DF","FD","BF","HE"]
["HF","GE","HG","GH","HC","GF","HA","AH","FH","EG","BH","HB","CH","FG"]
[1,2,3,4,5,6,7,8,9,10,11,12,13,14]
["RFx",null,4,3,null,null,null,7,1,2,12,11,5,6]
["  o","  x","  o","  x","  o","  x--","--x","  o","  x","  o","  x","  o","  x","  o","A",null,{"$f":"ClashCount('Other league dates'!J$12:J$25,$A92:$N92)","v":""},{"$f":"ClashCount('Other league dates'!K$12:K$25,$A92:$N92)","v":""},{"$f":"ClashCount('Other league dates'!L$12:L$25,$A92:$N92)","v":""}]
["  x","  o","  x","  o","  x","  o--","--o","  x","  o","  x","  o","  x","  o","  x","B",null,{"$f":"ClashCount('Other league dates'!J$12:J$25,$A93:$N93)","v":""},{"$f":"ClashCount('Other league dates'!K$12:K$25,$A93:$N93)","v":""},{"$f":"ClashCount('Other league dates'!L$12:L$25,$A93:$N93)","v":""}]
["  o","  x","  o","  x--","--x","  o","  x","  o","  x","  o","  x","  o--","--o","  x","C",null,{"$f":"ClashCount('Other league dates'!J$12:J$25,$A94:$N94)","v":""},{"$f":"ClashCount('Other league dates'!K$12:K$25,$A94:$N94)","v":""},{"$f":"ClashCount('Other league dates'!L$12:L$25,$A94:$N94)","v":""}]
["  x","  o","  x","  o--","--o","  x","  o","  x","  o","  x","  o","  x--","--x","  o","D",null,{"$f":"ClashCount('Other league dates'!J$12:J$25,$A95:$N95)","v":""},{"$f":"ClashCount('Other league dates'!K$12:K$25,$A95:$N95)","v":""},{"$f":"ClashCount('Other league dates'!L$12:L$25,$A95:$N95)","v":""}]
["  o","  x--","--x","  o","  x","  o","  x","  o","  x","  o--","--o","  x","  o","  x","E",null,{"$f":"ClashCount('Other league dates'!J$12:J$25,$A96:$N96)","v":""},{"$f":"ClashCount('Other league dates'!K$12:K$25,$A96:$N96)","v":""},{"$f":"ClashCount('Other league dates'!L$12:L$25,$A96:$N96)","v":""}]
["  x","  o--","--o","  x","  o","  x","  o","  x","  o","  x--","--x","  o","  x","  o","F",null,{"$f":"ClashCount('Other league dates'!J$12:J$25,$A97:$N97)","v":""},{"$f":"ClashCount('Other league dates'!K$12:K$25,$A97:$N97)","v":""},{"$f":"ClashCount('Other league dates'!L$12:L$25,$A97:$N97)","v":""}]
["  x","  o","  x","  o","  x","  o","  x","  o--","--o","  x","  o","  x","  o","  x","G",null,{"$f":"ClashCount('Other league dates'!J$12:J$25,$A98:$N98)","v":""},{"$f":"ClashCount('Other league dates'!K$12:K$25,$A98:$N98)","v":""},{"$f":"ClashCount('Other league dates'!L$12:L$25,$A98:$N98)","v":""}]
["  o","  x","  o","  x","  o","  x","  o","  x--","--x","  o","  x","  o","  x","  o","H",null,{"$f":"ClashCount('Other league dates'!J$12:J$25,$A99:$N99)","v":""},{"$f":"ClashCount('Other league dates'!K$12:K$25,$A99:$N99)","v":""},{"$f":"ClashCount('Other league dates'!L$12:L$25,$A99:$N99)","v":""}]
[]
["Fit:","08agaa",null,"10aiba",null,"10bbaa",null,"12akca",null,"12akda",null,"14amda",null,"14amea"]
[]
["08ataa"]
[]
["AD","BC","AG","BA","AE","BD","BG","GB","DB","EA","AB","GA","CB","DA"]
["CG","DH","CE","DC","DG","CA","DE","ED","AC","GD","CD","EC","HD","GC"]
["EB","FA","FD","EF","FB","EH","FC","CF","HE","BF","FE","DF","AF","BE"]
["HF","GE","HB","GH","HC","GF","HA","AH","FG","CH","HG","BH","EG","FH"]
[1,2,3,4,5,6,7,8,9,10,11,12,13,14]
["RFx",null,null,null,null,null,null,null,6,null,4,null,2]
["  o","  x","  o","  x","  o","  x--","--x","  o--","--o","  x","  o","  x","  o","  x","A",null,{"$f":"ClashCount('Other league dates'!J$12:J$25,$A111:$N111)","v":""},{"$f":"ClashCount('Other league dates'!K$12:K$25,$A111:$N111)","v":""},{"$f":"ClashCount('Other league dates'!L$12:L$25,$A111:$N111)","v":""}]
["  x","  o","  x","  o","  x","  o--","--o","  x--","--x","  o","  x","  o","  x","  o","B",null,{"$f":"ClashCount('Other league dates'!J$12:J$25,$A112:$N112)","v":""},{"$f":"ClashCount('Other league dates'!K$12:K$25,$A112:$N112)","v":""},{"$f":"ClashCount('Other league dates'!L$12:L$25,$A112:$N112)","v":""}]
["  o","  x","  o","  x--","--x","  o","  x","  o","  x","  o--","--o","  x","  o","  x","C",null,{"$f":"ClashCount('Other league dates'!J$12:J$25,$A113:$N113)","v":""},{"$f":"ClashCount('Other league dates'!K$12:K$25,$A113:$N113)","v":""},{"$f":"ClashCount('Other league dates'!L$12:L$25,$A113:$N113)","v":""}]
["  x","  o","  x","  o--","--o","  x","  o","  x","  o","  x--","--x","  o","  x","  o","D",null,{"$f":"ClashCount('Other league dates'!J$12:J$25,$A114:$N114)","v":""},{"$f":"ClashCount('Other league dates'!K$12:K$25,$A114:$N114)","v":""},{"$f":"ClashCount('Other league dates'!L$12:L$25,$A114:$N114)","v":""}]
["  o","  x--","--x","  o","  x","  o","  x","  o","  x","  o","  x","  o--","--o","  x","E",null,{"$f":"ClashCount('Other league dates'!J$12:J$25,$A115:$N115)","v":""},{"$f":"ClashCount('Other league dates'!K$12:K$25,$A115:$N115)","v":""},{"$f":"ClashCount('Other league dates'!L$12:L$25,$A115:$N115)","v":""}]
["  x","  o--","--o","  x","  o","  x","  o","  x","  o","  x","  o","  x--","--x","  o","F",null,{"$f":"ClashCount('Other league dates'!J$12:J$25,$A116:$N116)","v":""},{"$f":"ClashCount('Other league dates'!K$12:K$25,$A116:$N116)","v":""},{"$f":"ClashCount('Other league dates'!L$12:L$25,$A116:$N116)","v":""}]
["  x","  o","  x","  o","  x","  o","  x","  o","  x","  o","  x","  o","  x","  o","G",null,{"$f":"ClashCount('Other league dates'!J$12:J$25,$A117:$N117)","v":""},{"$f":"ClashCount('Other league dates'!K$12:K$25,$A117:$N117)","v":""},{"$f":"ClashCount('Other league dates'!L$12:L$25,$A117:$N117)","v":""}]
["  o","  x","  o","  x","  o","  x","  o","  x","  o","  x","  o","  x","  o","  x","H",null,{"$f":"ClashCount('Other league dates'!J$12:J$25,$A118:$N118)","v":""},{"$f":"ClashCount('Other league dates'!K$12:K$25,$A118:$N118)","v":""},{"$f":"ClashCount('Other league dates'!L$12:L$25,$A118:$N118)","v":""}]
[]
["Fit:","06ataa",null,"08ataax",null,"10araa",null,"12apaa",null,"14anaa"]
[]
["08ataax",null,null,"ERK variant",null,null,null,"Weeks 3 and 11 swopped to play off same-club matches"]
[]
["AD","BC","AB","BA","AE","BD","BG","GB","DB","EA","AG","GA","CB","DA"]
["CG","DH","CD","DC","DG","CA","DE","ED","AC","GD","CE","EC","HD","GC"]
["EB","FA","FE","EF","FB","EH","FC","CF","HE","BF","FD","DF","AF","BE"]
["HF","GE","HG","GH","HC","GF","HA","AH","FG","CH","HB","BH","EG","FH"]
[1,2,3,4,5,6,7,8,9,10,11,12,13,14]
["RFx",null,null,3,null,null,null,7,6,5,null,11,2,1]
["  o","  x","  o","  x","  o","  x--","--x","  o--","--o","  x","  o","  x","  o","  x","A",null,{"$f":"ClashCount('Other league dates'!J$12:J$25,$A130:$N130)","v":""},{"$f":"ClashCount('Other league dates'!K$12:K$25,$A130:$N130)","v":""},{"$f":"ClashCount('Other league dates'!L$12:L$25,$A130:$N130)","v":""}]
["  x","  o","  x","  o","  x","  o--","--o","  x--","--x","  o","  x","  o","  x","  o","B",null,{"$f":"ClashCount('Other league dates'!J$12:J$25,$A131:$N131)","v":""},{"$f":"ClashCount('Other league dates'!K$12:K$25,$A131:$N131)","v":""},{"$f":"ClashCount('Other league dates'!L$12:L$25,$A131:$N131)","v":""}]
["  o","  x","  o","  x--","--x","  o","  x","  o","  x","  o--","--o","  x","  o","  x","C",null,{"$f":"ClashCount('Other league dates'!J$12:J$25,$A132:$N132)","v":""},{"$f":"ClashCount('Other league dates'!K$12:K$25,$A132:$N132)","v":""},{"$f":"ClashCount('Other league dates'!L$12:L$25,$A132:$N132)","v":""}]
["  x","  o","  x","  o--","--o","  x","  o","  x","  o","  x--","--x","  o","  x","  o","D",null,{"$f":"ClashCount('Other league dates'!J$12:J$25,$A133:$N133)","v":""},{"$f":"ClashCount('Other league dates'!K$12:K$25,$A133:$N133)","v":""},{"$f":"ClashCount('Other league dates'!L$12:L$25,$A133:$N133)","v":""}]
["  o","  x--","--x","  o","  x","  o","  x","  o","  x","  o","  x","  o--","--o","  x","E",null,{"$f":"ClashCount('Other league dates'!J$12:J$25,$A134:$N134)","v":""},{"$f":"ClashCount('Other league dates'!K$12:K$25,$A134:$N134)","v":""},{"$f":"ClashCount('Other league dates'!L$12:L$25,$A134:$N134)","v":""}]
["  x","  o--","--o","  x","  o","  x","  o","  x","  o","  x","  o","  x--","--x","  o","F",null,{"$f":"ClashCount('Other league dates'!J$12:J$25,$A135:$N135)","v":""},{"$f":"ClashCount('Other league dates'!K$12:K$25,$A135:$N135)","v":""},{"$f":"ClashCount('Other league dates'!L$12:L$25,$A135:$N135)","v":""}]
["  x","  o","  x","  o","  x","  o","  x","  o","  x","  o","  x","  o","  x","  o","G",null,{"$f":"ClashCount('Other league dates'!J$12:J$25,$A136:$N136)","v":""},{"$f":"ClashCount('Other league dates'!K$12:K$25,$A136:$N136)","v":""},{"$f":"ClashCount('Other league dates'!L$12:L$25,$A136:$N136)","v":""}]
["  o","  x","  o","  x","  o","  x","  o","  x","  o","  x","  o","  x","  o","  x","H",null,{"$f":"ClashCount('Other league dates'!J$12:J$25,$A137:$N137)","v":""},{"$f":"ClashCount('Other league dates'!K$12:K$25,$A137:$N137)","v":""},{"$f":"ClashCount('Other league dates'!L$12:L$25,$A137:$N137)","v":""}]
[]
["Fit:","06ataa",null,"08ataa",null,"10araa",null,"12apaa",null,"14anaa"]
[]
["08primx"]
[]
["AH","GH","AD","EH","AG","CH","AC","AF","GE","AB","EC","AE","CA","BG"]
["CF","BE","CB","GC","CE","EA","DG","CD","BC","CG","GA","DB","EF","DE"]
["ED","DC","EG","BA","FB","GF","FE","EB","DA","FD","BF","FG","GD","FC"]
["GB","FA","HF","DF","HD","BD","HB","HG","FH","HE","DH","HC","BH","HA"]
[1,2,3,4,5,6,7,8,9,10,11,12,13,14]
["RFx",null,null,null,null,null,null,2,3,4,5,6,7,1]
["  o","  x","  o","  x","  o","  x","  o--","--o","  x","  o","  x","  o","  x--","--x","A",null,{"$f":"ClashCount('Other league dates'!J$12:J$25,$A149:$N149)","v":""},{"$f":"ClashCount('Other league dates'!K$12:K$25,$A149:$N149)","v":""},{"$f":"ClashCount('Other league dates'!L$12:L$25,$A149:$N149)","v":""}]
["  x","  o","  x","  o","  x","  o","  x--","--x","  o","  x","  o","  x","  o--","--o","B",null,{"$f":"ClashCount('Other league dates'!J$12:J$25,$A150:$N150)","v":""},{"$f":"ClashCount('Other league dates'!K$12:K$25,$A150:$N150)","v":""},{"$f":"ClashCount('Other league dates'!L$12:L$25,$A150:$N150)","v":""}]
["  o","  x","  o","  x","  o--","--o","  x","  o","  x","  o","  x--","--x","  o","  x","C",null,{"$f":"ClashCount('Other league dates'!J$12:J$25,$A151:$N151)","v":""},{"$f":"ClashCount('Other league dates'!K$12:K$25,$A151:$N151)","v":""},{"$f":"ClashCount('Other league dates'!L$12:L$25,$A151:$N151)","v":""}]
["  x","  o","  x","  o","  x--","--x","  o","  x","  o","  x","  o--","--o","  x","  o","D",null,{"$f":"ClashCount('Other league dates'!J$12:J$25,$A152:$N152)","v":""},{"$f":"ClashCount('Other league dates'!K$12:K$25,$A152:$N152)","v":""},{"$f":"ClashCount('Other league dates'!L$12:L$25,$A152:$N152)","v":""}]
["  o","  x","  o--","--o","  x","  o","  x","  o","  x--","--x","  o","  x","  o","  x","E",null,{"$f":"ClashCount('Other league dates'!J$12:J$25,$A153:$N153)","v":""},{"$f":"ClashCount('Other league dates'!K$12:K$25,$A153:$N153)","v":""},{"$f":"ClashCount('Other league dates'!L$12:L$25,$A153:$N153)","v":""}]
["  x","  o","  x--","--x","  o","  x","  o","  x","  o--","--o","  x","  o","  x","  o","F",null,{"$f":"ClashCount('Other league dates'!J$12:J$25,$A154:$N154)","v":""},{"$f":"ClashCount('Other league dates'!K$12:K$25,$A154:$N154)","v":""},{"$f":"ClashCount('Other league dates'!L$12:L$25,$A154:$N154)","v":""}]
["  o--","--o","  x","  o","  x","  o","  x--","--x","  o","  x","  o","  x","  o","  x","G",null,{"$f":"ClashCount('Other league dates'!J$12:J$25,$A155:$N155)","v":""},{"$f":"ClashCount('Other league dates'!K$12:K$25,$A155:$N155)","v":""},{"$f":"ClashCount('Other league dates'!L$12:L$25,$A155:$N155)","v":""}]
["  x--","--x","  o","  x","  o","  x","  o--","--o","  x","  o","  x","  o","  x","  o","H",null,{"$f":"ClashCount('Other league dates'!J$12:J$25,$A156:$N156)","v":""},{"$f":"ClashCount('Other league dates'!K$12:K$25,$A156:$N156)","v":""},{"$f":"ClashCount('Other league dates'!L$12:L$25,$A156:$N156)","v":""}]
[]
[]
[]
["08rraa"]
[]
["AD","DA","CB","BC","AG","GA","AB","BA","AE","EA","DB","BD","BG","GB"]
["CG","GC","HD","DH","CE","EC","CD","DC","DG","GD","AC","CA","DE","ED"]
["EB","BE","AF","FA","FD","DF","FE","EF","FB","BF","HE","EH","FC","CF"]
["HF","FH","EG","GE","HB","BH","HG","GH","HC","CH","FG","GF","HA","AH"]
[1,2,3,4,5,6,7,8,9,10,11,12,13,14]
["RFx",1,null,3,null,5,null,7,null,9,null,11,null,13]
["  o","  x","  o","  x","  o","  x","  o","  x","  o","  x","  o","  x--","--x","  o","A",null,{"$f":"ClashCount('Other league dates'!J$12:J$25,$A168:$N168)","v":""},{"$f":"ClashCount('Other league dates'!K$12:K$25,$A168:$N168)","v":""},{"$f":"ClashCount('Other league dates'!L$12:L$25,$A168:$N168)","v":""}]
["  x","  o","  x","  o","  x","  o","  x","  o","  x","  o","  x","  o--","--o","  x","B",null,{"$f":"ClashCount('Other league dates'!J$12:J$25,$A169:$N169)","v":""},{"$f":"ClashCount('Other league dates'!K$12:K$25,$A169:$N169)","v":""},{"$f":"ClashCount('Other league dates'!L$12:L$25,$A169:$N169)","v":""}]
["  o","  x","  o","  x","  o","  x","  o","  x--","--x","  o","  x","  o","  x","  o","C",null,{"$f":"ClashCount('Other league dates'!J$12:J$25,$A170:$N170)","v":""},{"$f":"ClashCount('Other league dates'!K$12:K$25,$A170:$N170)","v":""},{"$f":"ClashCount('Other league dates'!L$12:L$25,$A170:$N170)","v":""}]
["  x","  o","  x","  o","  x","  o","  x","  o--","--o","  x","  o","  x","  o","  x","D",null,{"$f":"ClashCount('Other league dates'!J$12:J$25,$A171:$N171)","v":""},{"$f":"ClashCount('Other league dates'!K$12:K$25,$A171:$N171)","v":""},{"$f":"ClashCount('Other league dates'!L$12:L$25,$A171:$N171)","v":""}]
["  o","  x","  o","  x--","--x","  o","  x","  o","  x","  o","  x","  o","  x","  o","E",null,{"$f":"ClashCount('Other league dates'!J$12:J$25,$A172:$N172)","v":""},{"$f":"ClashCount('Other league dates'!K$12:K$25,$A172:$N172)","v":""},{"$f":"ClashCount('Other league dates'!L$12:L$25,$A172:$N172)","v":""}]
["  x","  o","  x","  o--","--o","  x","  o","  x","  o","  x","  o","  x","  o","  x","F",null,{"$f":"ClashCount('Other league dates'!J$12:J$25,$A173:$N173)","v":""},{"$f":"ClashCount('Other league dates'!K$12:K$25,$A173:$N173)","v":""},{"$f":"ClashCount('Other league dates'!L$12:L$25,$A173:$N173)","v":""}]
["  x","  o","  x","  o","  x","  o","  x","  o","  x","  o","  x","  o","  x","  o","G",null,{"$f":"ClashCount('Other league dates'!J$12:J$25,$A174:$N174)","v":""},{"$f":"ClashCount('Other league dates'!K$12:K$25,$A174:$N174)","v":""},{"$f":"ClashCount('Other league dates'!L$12:L$25,$A174:$N174)","v":""}]
["  o","  x","  o","  x","  o","  x","  o","  x","  o","  x","  o","  x","  o","  x","H",null,{"$f":"ClashCount('Other league dates'!J$12:J$25,$A175:$N175)","v":""},{"$f":"ClashCount('Other league dates'!K$12:K$25,$A175:$N175)","v":""},{"$f":"ClashCount('Other league dates'!L$12:L$25,$A175:$N175)","v":""}]
[]
["Fit:","10rrba"]
[]
["08WNC",null,null,null,null,"Devised by Kevin Fisher to fit with other WNC patterns"]
[]
["AH","DA","AB","BH","AE","BD","AC","BG","AF","BE","AD","BA","AG","BF"]
["CF","BC","CD","DF","CG","CA","DB","DE","CH","DG","CB","DC","CE","DH"]
["ED","FE","EG","EC","FB","EH","FG","FC","EB","FA","EF","FH","FD","EA"]
["GB","GH","HF","GA","HD","GF","HE","HA","GD","HC","HG","GE","HB","GC"]
[1,2,3,4,5,6,7,8,9,10,11,12,13,14]
["RFx",null,null,null,null,null,6,1,null,9,2,3,4,5]
["  o","  x","  o","  x","  o","  x","  o","  x","  o","  x","  o","  x","  o","  x","A",null,{"$f":"ClashCount('Other league dates'!J$12:J$25,$A187:$N187)","v":""},{"$f":"ClashCount('Other league dates'!K$12:K$25,$A187:$N187)","v":""},{"$f":"ClashCount('Other league dates'!L$12:L$25,$A187:$N187)","v":""}]
["  x","  o","  x","  o","  x","  o","  x","  o","  x","  o","  x","  o","  x","  o","B",null,{"$f":"ClashCount('Other league dates'!J$12:J$25,$A188:$N188)","v":""},{"$f":"ClashCount('Other league dates'!K$12:K$25,$A188:$N188)","v":""},{"$f":"ClashCount('Other league dates'!L$12:L$25,$A188:$N188)","v":""}]
["  o","  x","  o","  x","  o--","--o","  x--","--x","  o","  x","  o","  x","  o","  x","C",null,{"$f":"ClashCount('Other league dates'!J$12:J$25,$A189:$N189)","v":""},{"$f":"ClashCount('Other league dates'!K$12:K$25,$A189:$N189)","v":""},{"$f":"ClashCount('Other league dates'!L$12:L$25,$A189:$N189)","v":""}]
["  x","  o","  x","  o","  x--","--x","  o--","--o","  x","  o","  x","  o","  x","  o","D",null,{"$f":"ClashCount('Other league dates'!J$12:J$25,$A190:$N190)","v":""},{"$f":"ClashCount('Other league dates'!K$12:K$25,$A190:$N190)","v":""},{"$f":"ClashCount('Other league dates'!L$12:L$25,$A190:$N190)","v":""}]
["  o","  x","  o--","--o","  x","  o","  x--","--x","  o","  x","  o","  x--","--x","  o","E",null,{"$f":"ClashCount('Other league dates'!J$12:J$25,$A191:$N191)","v":""},{"$f":"ClashCount('Other league dates'!K$12:K$25,$A191:$N191)","v":""},{"$f":"ClashCount('Other league dates'!L$12:L$25,$A191:$N191)","v":""}]
["  x","  o","  x--","--x","  o","  x","  o--","--o","  x","  o","  x","  o--","--o","  x","F",null,{"$f":"ClashCount('Other league dates'!J$12:J$25,$A192:$N192)","v":""},{"$f":"ClashCount('Other league dates'!K$12:K$25,$A192:$N192)","v":""},{"$f":"ClashCount('Other league dates'!L$12:L$25,$A192:$N192)","v":""}]
["  o--","--o","  x","  o","  x","  o","  x--","--x","  o","  x--","--x","  o","  x","  o","G",null,{"$f":"ClashCount('Other league dates'!J$12:J$25,$A193:$N193)","v":""},{"$f":"ClashCount('Other league dates'!K$12:K$25,$A193:$N193)","v":""},{"$f":"ClashCount('Other league dates'!L$12:L$25,$A193:$N193)","v":""}]
["  x--","--x","  o","  x","  o","  x","  o--","--o","  x","  o--","--o","  x","  o","  x","H",null,{"$f":"ClashCount('Other league dates'!J$12:J$25,$A194:$N194)","v":""},{"$f":"ClashCount('Other league dates'!K$12:K$25,$A194:$N194)","v":""},{"$f":"ClashCount('Other league dates'!L$12:L$25,$A194:$N194)","v":""}]
[]
["Fit:","10WNC",null,"12WNC"]
[]
["08Berger",null,null,null,null,"Berger patterns devised by Johann Berger and described by Barry Chess Club (http://www.barrychessclub.ndo.co.uk/berger2001.htm)"]
[]
["GB","BH","EB","BF","CB","BD","AB","BA","DB","BC","FB","BE","HB","BG"]
["ED","FA","CG","DH","AE","GF","HC","CH","FG","EA","HD","GC","AF","DE"]
["CF","DC","AD","GA","HG","EH","FE","EF","HE","GH","AG","DA","CD","FC"]
["AH","GE","HF","EC","FD","CA","DG","GD","AC","DF","CE","FH","EG","HA"]
[1,2,3,4,5,6,7,8,9,10,11,12,13,14]
["RFx",null,null,null,null,null,null,7,6,5,4,3,2,1]
["  o","  x","  o","  x","  o","  x","  o","  x","  o","  x","  o","  x","  o","  x","A",null,{"$f":"ClashCount('Other league dates'!J$12:J$25,$A206:$N206)","v":""},{"$f":"ClashCount('Other league dates'!K$12:K$25,$A206:$N206)","v":""},{"$f":"ClashCount('Other league dates'!L$12:L$25,$A206:$N206)","v":""}]
["  x","  o","  x","  o","  x","  o","  x","  o","  x","  o","  x","  o","  x","  o","B",null,{"$f":"ClashCount('Other league dates'!J$12:J$25,$A207:$N207)","v":""},{"$f":"ClashCount('Other league dates'!K$12:K$25,$A207:$N207)","v":""},{"$f":"ClashCount('Other league dates'!L$12:L$25,$A207:$N207)","v":""}]
["  o","  x","  o","  x","  o--","--o","  x","  o","  x--","--x","  o","  x","  o","  x","C",null,{"$f":"ClashCount('Other league dates'!J$12:J$25,$A208:$N208)","v":""},{"$f":"ClashCount('Other league dates'!K$12:K$25,$A208:$N208)","v":""},{"$f":"ClashCount('Other league dates'!L$12:L$25,$A208:$N208)","v":""}]
["  x","  o","  x","  o","  x--","--x","  o","  x","  o--","--o","  x","  o","  x","  o","D",null,{"$f":"ClashCount('Other league dates'!J$12:J$25,$A209:$N209)","v":""},{"$f":"ClashCount('Other league dates'!K$12:K$25,$A209:$N209)","v":""},{"$f":"ClashCount('Other league dates'!L$12:L$25,$A209:$N209)","v":""}]
["  o","  x","  o--","--o","  x","  o","  x","  o","  x","  o","  x--","--x","  o","  x","E",null,{"$f":"ClashCount('Other league dates'!J$12:J$25,$A210:$N210)","v":""},{"$f":"ClashCount('Other league dates'!K$12:K$25,$A210:$N210)","v":""},{"$f":"ClashCount('Other league dates'!L$12:L$25,$A210:$N210)","v":""}]
["  x","  o","  x--","--x","  o","  x","  o","  x","  o","  x","  o--","--o","  x","  o","F",null,{"$f":"ClashCount('Other league dates'!J$12:J$25,$A211:$N211)","v":""},{"$f":"ClashCount('Other league dates'!K$12:K$25,$A211:$N211)","v":""},{"$f":"ClashCount('Other league dates'!L$12:L$25,$A211:$N211)","v":""}]
["  o--","--o","  x","  o","  x","  o","  x","  o","  x","  o","  x","  o","  x--","--x","G",null,{"$f":"ClashCount('Other league dates'!J$12:J$25,$A212:$N212)","v":""},{"$f":"ClashCount('Other league dates'!K$12:K$25,$A212:$N212)","v":""},{"$f":"ClashCount('Other league dates'!L$12:L$25,$A212:$N212)","v":""}]
["  x--","--x","  o","  x","  o","  x","  o","  x","  o","  x","  o","  x","  o--","--o","H",null,{"$f":"ClashCount('Other league dates'!J$12:J$25,$A213:$N213)","v":""},{"$f":"ClashCount('Other league dates'!K$12:K$25,$A213:$N213)","v":""},{"$f":"ClashCount('Other league dates'!L$12:L$25,$A213:$N213)","v":""}]
[]
["Fit:","04Berger",null,"06Berger",null,"10Berger",null,"12Berger",null,"14Berger",null,"16Berger",null,"18Berger"]
[]
["10aaaa"]
[]
["AI","BE","AG","BJ","AE","BF","AC","BA","BI","BG","AH","BC","AF","BH","AD","BD","AB","AJ"]
["CF","DC","CB","DH","CG","DA","DB","CJ","DG","DE","CD","DJ","CI","DF","CE","CA","DI","CH"]
["ED","FJ","EI","FA","FD","EC","FI","EH","FE","FC","EB","FH","EG","EA","FB","EJ","FG","EF"]
["GB","HA","HF","GE","HB","GJ","HG","GF","HC","HJ","GI","GA","HD","GC","HI","GH","HE","GD"]
["JH","IG","JD","IC","JI","IH","JE","ID","JA","IA","JF","IE","JB","IJ","JG","IF","JC","IB"]
[1,2,3,4,5,6,7,8,9,10,11,12,13,14,15,16,17,18]
["RFx",null,null,null,null,null,null,null,null,1,2,3,4,5,6,7,8,9]
["  o","  x","  o","  x","  o","  x","  o","  x--","--x--","--x","  o","  x","  o","  x","  o","  x","  o--","--o","A",null,{"$f":"ClashCount('Other league dates'!J$10:J$27,$A226:$R226)","v":""},{"$f":"ClashCount('Other league dates'!K$10:K$27,$A226:$R226)","v":""},{"$f":"ClashCount('Other league dates'!L$10:L$27,$A226:$R226)","v":""}]
["  x","  o","  x","  o","  x","  o","  x","  o--","--o--","--o","  x","  o","  x","  o","  x","  o","  x--","--x","B",null,{"$f":"ClashCount('Other league dates'!J$10:J$27,$A227:$R227)","v":""},{"$f":"ClashCount('Other league dates'!K$10:K$27,$A227:$R227)","v":""},{"$f":"ClashCount('Other league dates'!L$10:L$27,$A227:$R227)","v":""}]
["  o","  x","  o","  x","  o","  x--","--x","  o","  x--","--x","  o","  x","  o","  x","  o--","--o","  x","  o","C",null,{"$f":"ClashCount('Other league dates'!J$10:J$27,$A228:$R228)","v":""},{"$f":"ClashCount('Other league dates'!K$10:K$27,$A228:$R228)","v":""},{"$f":"ClashCount('Other league dates'!L$10:L$27,$A228:$R228)","v":""}]
["  x","  o","  x","  o","  x","  o--","--o","  x","  o--","--o","  x","  o","  x","  o","  x--","--x","  o","  x","D",null,{"$f":"ClashCount('Other league dates'!J$10:J$27,$A229:$R229)","v":""},{"$f":"ClashCount('Other league dates'!K$10:K$27,$A229:$R229)","v":""},{"$f":"ClashCount('Other league dates'!L$10:L$27,$A229:$R229)","v":""}]
["  o","  x","  o","  x--","--x","  o","  x","  o","  x--","--x","  o","  x","  o--","--o","  x","  o","  x","  o","E",null,{"$f":"ClashCount('Other league dates'!J$10:J$27,$A230:$R230)","v":""},{"$f":"ClashCount('Other league dates'!K$10:K$27,$A230:$R230)","v":""},{"$f":"ClashCount('Other league dates'!L$10:L$27,$A230:$R230)","v":""}]
["  x","  o","  x","  o--","--o","  x","  o","  x","  o--","--o","  x","  o","  x--","--x","  o","  x","  o","  x","F",null,{"$f":"ClashCount('Other league dates'!J$10:J$27,$A231:$R231)","v":""},{"$f":"ClashCount('Other league dates'!K$10:K$27,$A231:$R231)","v":""},{"$f":"ClashCount('Other league dates'!L$10:L$27,$A231:$R231)","v":""}]
["  o","  x--","--x","  o","  x","  o","  x","  o","  x--","--x","  o--","--o","  x","  o","  x","  o","  x","  o","G",null,{"$f":"ClashCount('Other league dates'!J$10:J$27,$A232:$R232)","v":""},{"$f":"ClashCount('Other league dates'!K$10:K$27,$A232:$R232)","v":""},{"$f":"ClashCount('Other league dates'!L$10:L$27,$A232:$R232)","v":""}]
["  x","  o--","--o","  x","  o","  x","  o","  x","  o--","--o","  x--","--x","  o","  x","  o","  x","  o","  x","H",null,{"$f":"ClashCount('Other league dates'!J$10:J$27,$A233:$R233)","v":""},{"$f":"ClashCount('Other league dates'!K$10:K$27,$A233:$R233)","v":""},{"$f":"ClashCount('Other league dates'!L$10:L$27,$A233:$R233)","v":""}]
["  x","  o","  x","  o","  x","  o","  x","  o","  x","  o","  x","  o","  x","  o","  x","  o","  x","  o","I",null,{"$f":"ClashCount('Other league dates'!J$10:J$27,$A234:$R234)","v":""},{"$f":"ClashCount('Other league dates'!K$10:K$27,$A234:$R234)","v":""},{"$f":"ClashCount('Other league dates'!L$10:L$27,$A234:$R234)","v":""}]
["  o","  x","  o","  x","  o","  x","  o","  x","  o","  x","  o","  x","  o","  x","  o","  x","  o","  x","J",null,{"$f":"ClashCount('Other league dates'!J$10:J$27,$A235:$R235)","v":""},{"$f":"ClashCount('Other league dates'!K$10:K$27,$A235:$R235)","v":""},{"$f":"ClashCount('Other league dates'!L$10:L$27,$A235:$R235)","v":""}]
[]
["Fit:","12acaa"]
[]
["10acaa"]
[]
["AI","BE","AG","BJ","AE","BF","AC","BA","BI","GA","JB","EA","FB","CA","AB","IB","IA","EB"]
["CF","DC","CB","DH","CG","DA","DB","CJ","DG","BC","HD","GC","AD","BD","JC","GD","FC","CD"]
["ED","FJ","EI","FA","FD","EC","FI","EH","FE","IE","AF","DF","CE","IF","HE","EF","DE","JF"]
["GB","HA","HF","GE","HB","GJ","HG","GF","HC","FH","EG","BH","JG","GH","FG","CH","BG","AH"]
["JH","IG","JD","IC","JI","IH","JE","ID","JA","DJ","CI","IJ","HI","EJ","DI","AJ","HJ","GI"]
[1,2,3,4,5,6,7,8,9,10,11,12,13,14,15,16,17,18]
["RFx",null,null,null,null,null,null,null,null,3,4,5,6,7,8,9,1,2]
["  o","  x","  o","  x","  o","  x","  o","  x--","--x--","--x","  o","  x","  o","  x","  o--","--o","  x","  o","A",null,{"$f":"ClashCount('Other league dates'!J$10:J$27,$A248:$R248)","v":""},{"$f":"ClashCount('Other league dates'!K$10:K$27,$A248:$R248)","v":""},{"$f":"ClashCount('Other league dates'!L$10:L$27,$A248:$R248)","v":""}]
["  x","  o","  x","  o","  x","  o","  x","  o--","--o--","--o","  x","  o","  x","  o","  x--","--x","  o","  x","B",null,{"$f":"ClashCount('Other league dates'!J$10:J$27,$A249:$R249)","v":""},{"$f":"ClashCount('Other league dates'!K$10:K$27,$A249:$R249)","v":""},{"$f":"ClashCount('Other league dates'!L$10:L$27,$A249:$R249)","v":""}]
["  o","  x","  o","  x","  o","  x--","--x","  o","  x--","--x","  o","  x","  o--","--o","  x","  o","  x","  o","C",null,{"$f":"ClashCount('Other league dates'!J$10:J$27,$A250:$R250)","v":""},{"$f":"ClashCount('Other league dates'!K$10:K$27,$A250:$R250)","v":""},{"$f":"ClashCount('Other league dates'!L$10:L$27,$A250:$R250)","v":""}]
["  x","  o","  x","  o","  x","  o--","--o","  x","  o--","--o","  x","  o","  x--","--x","  o","  x","  o","  x","D",null,{"$f":"ClashCount('Other league dates'!J$10:J$27,$A251:$R251)","v":""},{"$f":"ClashCount('Other league dates'!K$10:K$27,$A251:$R251)","v":""},{"$f":"ClashCount('Other league dates'!L$10:L$27,$A251:$R251)","v":""}]
["  o","  x","  o","  x--","--x","  o","  x","  o","  x--","--x","  o--","--o","  x","  o","  x","  o","  x","  o","E",null,{"$f":"ClashCount('Other league dates'!J$10:J$27,$A252:$R252)","v":""},{"$f":"ClashCount('Other league dates'!K$10:K$27,$A252:$R252)","v":""},{"$f":"ClashCount('Other league dates'!L$10:L$27,$A252:$R252)","v":""}]
["  x","  o","  x","  o--","--o","  x","  o","  x","  o--","--o","  x--","--x","  o","  x","  o","  x","  o","  x","F",null,{"$f":"ClashCount('Other league dates'!J$10:J$27,$A253:$R253)","v":""},{"$f":"ClashCount('Other league dates'!K$10:K$27,$A253:$R253)","v":""},{"$f":"ClashCount('Other league dates'!L$10:L$27,$A253:$R253)","v":""}]
["  o","  x--","--x","  o","  x","  o","  x","  o","  x","  o","  x","  o","  x","  o","  x","  o","  x","  o","G",null,{"$f":"ClashCount('Other league dates'!J$10:J$27,$A254:$R254)","v":""},{"$f":"ClashCount('Other league dates'!K$10:K$27,$A254:$R254)","v":""},{"$f":"ClashCount('Other league dates'!L$10:L$27,$A254:$R254)","v":""}]
["  x","  o--","--o","  x","  o","  x","  o","  x","  o","  x","  o","  x","  o","  x","  o","  x","  o","  x","H",null,{"$f":"ClashCount('Other league dates'!J$10:J$27,$A255:$R255)","v":""},{"$f":"ClashCount('Other league dates'!K$10:K$27,$A255:$R255)","v":""},{"$f":"ClashCount('Other league dates'!L$10:L$27,$A255:$R255)","v":""}]
["  x","  o","  x","  o","  x","  o","  x","  o","  x","  o","  x","  o","  x","  o","  x","  o--","--o","  x","I",null,{"$f":"ClashCount('Other league dates'!J$10:J$27,$A256:$R256)","v":""},{"$f":"ClashCount('Other league dates'!K$10:K$27,$A256:$R256)","v":""},{"$f":"ClashCount('Other league dates'!L$10:L$27,$A256:$R256)","v":""}]
["  o","  x","  o","  x","  o","  x","  o","  x","  o","  x","  o","  x","  o","  x","  o","  x--","--x","  o","J",null,{"$f":"ClashCount('Other league dates'!J$10:J$27,$A257:$R257)","v":""},{"$f":"ClashCount('Other league dates'!K$10:K$27,$A257:$R257)","v":""},{"$f":"ClashCount('Other league dates'!L$10:L$27,$A257:$R257)","v":""}]
[]
["Fit:","08aaaa"]
[]
["10aiaa"]
[]
["AI","BE","AG","BJ","AE","BF","AC","BA","BI","AJ","BG","AH","BC","AF","BH","AD","BD","AB"]
["CF","DC","CB","DH","CG","DA","DB","CJ","DG","CH","DE","CD","DJ","CI","DF","CE","CA","DI"]
["ED","FJ","EI","FA","FD","EC","FI","EH","FE","EF","FC","EB","FH","EG","EA","FB","EJ","FG"]
["GB","HA","HF","GE","HB","GJ","HG","GF","HC","GD","HJ","GI","GA","HD","GC","HI","GH","HE"]
["JH","IG","JD","IC","JI","IH","JE","ID","JA","IB","IA","JF","IE","JB","IJ","JG","IF","JC"]
[1,2,3,4,5,6,7,8,9,10,11,12,13,14,15,16,17,18]
["RFx",null,null,null,null,null,null,null,null,9,1,2,3,4,5,6,7,8]
["  o","  x","  o","  x","  o","  x","  o","  x--","--x","  o","  x","  o","  x","  o","  x","  o","  x","  o","A",null,{"$f":"ClashCount('Other league dates'!J$10:J$27,$A270:$R270)","v":""},{"$f":"ClashCount('Other league dates'!K$10:K$27,$A270:$R270)","v":""},{"$f":"ClashCount('Other league dates'!L$10:L$27,$A270:$R270)","v":""}]
["  x","  o","  x","  o","  x","  o","  x","  o--","--o","  x","  o","  x","  o","  x","  o","  x","  o","  x","B",null,{"$f":"ClashCount('Other league dates'!J$10:J$27,$A271:$R271)","v":""},{"$f":"ClashCount('Other league dates'!K$10:K$27,$A271:$R271)","v":""},{"$f":"ClashCount('Other league dates'!L$10:L$27,$A271:$R271)","v":""}]
["  o","  x","  o","  x","  o","  x--","--x","  o","  x","  o","  x","  o","  x","  o","  x","  o--","--o","  x","C",null,{"$f":"ClashCount('Other league dates'!J$10:J$27,$A272:$R272)","v":""},{"$f":"ClashCount('Other league dates'!K$10:K$27,$A272:$R272)","v":""},{"$f":"ClashCount('Other league dates'!L$10:L$27,$A272:$R272)","v":""}]
["  x","  o","  x","  o","  x","  o--","--o","  x","  o","  x","  o","  x","  o","  x","  o","  x--","--x","  o","D",null,{"$f":"ClashCount('Other league dates'!J$10:J$27,$A273:$R273)","v":""},{"$f":"ClashCount('Other league dates'!K$10:K$27,$A273:$R273)","v":""},{"$f":"ClashCount('Other league dates'!L$10:L$27,$A273:$R273)","v":""}]
["  o","  x","  o","  x--","--x","  o","  x","  o","  x","  o","  x","  o","  x","  o--","--o","  x","  o","  x","E",null,{"$f":"ClashCount('Other league dates'!J$10:J$27,$A274:$R274)","v":""},{"$f":"ClashCount('Other league dates'!K$10:K$27,$A274:$R274)","v":""},{"$f":"ClashCount('Other league dates'!L$10:L$27,$A274:$R274)","v":""}]
["  x","  o","  x","  o--","--o","  x","  o","  x","  o","  x","  o","  x","  o","  x--","--x","  o","  x","  o","F",null,{"$f":"ClashCount('Other league dates'!J$10:J$27,$A275:$R275)","v":""},{"$f":"ClashCount('Other league dates'!K$10:K$27,$A275:$R275)","v":""},{"$f":"ClashCount('Other league dates'!L$10:L$27,$A275:$R275)","v":""}]
["  o","  x--","--x","  o","  x","  o","  x","  o","  x","  o","  x","  o--","--o","  x","  o","  x","  o","  x","G",null,{"$f":"ClashCount('Other league dates'!J$10:J$27,$A276:$R276)","v":""},{"$f":"ClashCount('Other league dates'!K$10:K$27,$A276:$R276)","v":""},{"$f":"ClashCount('Other league dates'!L$10:L$27,$A276:$R276)","v":""}]
["  x","  o--","--o","  x","  o","  x","  o","  x","  o","  x","  o","  x--","--x","  o","  x","  o","  x","  o","H",null,{"$f":"ClashCount('Other league dates'!J$10:J$27,$A277:$R277)","v":""},{"$f":"ClashCount('Other league dates'!K$10:K$27,$A277:$R277)","v":""},{"$f":"ClashCount('Other league dates'!L$10:L$27,$A277:$R277)","v":""}]
["  x","  o","  x","  o","  x","  o","  x","  o","  x","  o--","--o","  x","  o","  x","  o","  x","  o","  x","I",null,{"$f":"ClashCount('Other league dates'!J$10:J$27,$A278:$R278)","v":""},{"$f":"ClashCount('Other league dates'!K$10:K$27,$A278:$R278)","v":""},{"$f":"ClashCount('Other league dates'!L$10:L$27,$A278:$R278)","v":""}]
["  o","  x","  o","  x","  o","  x","  o","  x","  o","  x--","--x","  o","  x","  o","  x","  o","  x","  o","J",null,{"$f":"ClashCount('Other league dates'!J$10:J$27,$A279:$R279)","v":""},{"$f":"ClashCount('Other league dates'!K$10:K$27,$A279:$R279)","v":""},{"$f":"ClashCount('Other league dates'!L$10:L$27,$A279:$R279)","v":""}]
[]
["Fit:","10aiab",null,"12akba"]
[]
["10aiab"]
[]
["AH","BE","AD","BA","AI","BF","AE","BJ","BI","IB","HA","EB","DA","AB","IA","FB","EA","JB"]
["CF","DC","CB","DH","CG","DJ","DB","CA","DG","GD","FC","CD","BC","HD","GC","JD","BD","AC"]
["ED","FA","EI","FJ","FD","EC","FI","EH","FE","EF","DE","AF","IE","JF","DF","CE","IF","HE"]
["GB","HJ","HF","GE","HB","GA","HG","GF","HC","CH","BG","JH","FH","EG","BH","AG","GH","FG"]
["JI","IG","JG","IC","JE","IH","JC","ID","JA","AJ","IJ","GI","GJ","CI","EJ","HI","CJ","DI"]
[1,2,3,4,5,6,7,8,9,10,11,12,13,14,15,16,17,18]
["RFx",null,null,null,null,null,null,null,null,9,1,2,3,4,5,6,7,8]
["  o","  x","  o","  x","  o","  x","  o","  x--","--x","  o","  x","  o","  x","  o","  x","  o","  x","  o","A",null,{"$f":"ClashCount('Other league dates'!J$10:J$27,$A292:$R292)","v":""},{"$f":"ClashCount('Other league dates'!K$10:K$27,$A292:$R292)","v":""},{"$f":"ClashCount('Other league dates'!L$10:L$27,$A292:$R292)","v":""}]
["  x","  o","  x","  o","  x","  o","  x","  o--","--o","  x","  o","  x","  o","  x","  o","  x","  o","  x","B",null,{"$f":"ClashCount('Other league dates'!J$10:J$27,$A293:$R293)","v":""},{"$f":"ClashCount('Other league dates'!K$10:K$27,$A293:$R293)","v":""},{"$f":"ClashCount('Other league dates'!L$10:L$27,$A293:$R293)","v":""}]
["  o","  x","  o","  x","  o","  x--","--x","  o","  x","  o","  x","  o","  x","  o","  x","  o--","--o","  x","C",null,{"$f":"ClashCount('Other league dates'!J$10:J$27,$A294:$R294)","v":""},{"$f":"ClashCount('Other league dates'!K$10:K$27,$A294:$R294)","v":""},{"$f":"ClashCount('Other league dates'!L$10:L$27,$A294:$R294)","v":""}]
["  x","  o","  x","  o","  x","  o--","--o","  x","  o","  x","  o","  x","  o","  x","  o","  x--","--x","  o","D",null,{"$f":"ClashCount('Other league dates'!J$10:J$27,$A295:$R295)","v":""},{"$f":"ClashCount('Other league dates'!K$10:K$27,$A295:$R295)","v":""},{"$f":"ClashCount('Other league dates'!L$10:L$27,$A295:$R295)","v":""}]
["  o","  x","  o","  x--","--x","  o","  x","  o","  x","  o","  x","  o","  x","  o--","--o","  x","  o","  x","E",null,{"$f":"ClashCount('Other league dates'!J$10:J$27,$A296:$R296)","v":""},{"$f":"ClashCount('Other league dates'!K$10:K$27,$A296:$R296)","v":""},{"$f":"ClashCount('Other league dates'!L$10:L$27,$A296:$R296)","v":""}]
["  x","  o","  x","  o--","--o","  x","  o","  x","  o","  x","  o","  x","  o","  x--","--x","  o","  x","  o","F",null,{"$f":"ClashCount('Other league dates'!J$10:J$27,$A297:$R297)","v":""},{"$f":"ClashCount('Other league dates'!K$10:K$27,$A297:$R297)","v":""},{"$f":"ClashCount('Other league dates'!L$10:L$27,$A297:$R297)","v":""}]
["  o","  x--","--x","  o","  x","  o","  x","  o","  x","  o","  x","  o--","--o","  x","  o","  x","  o","  x","G",null,{"$f":"ClashCount('Other league dates'!J$10:J$27,$A298:$R298)","v":""},{"$f":"ClashCount('Other league dates'!K$10:K$27,$A298:$R298)","v":""},{"$f":"ClashCount('Other league dates'!L$10:L$27,$A298:$R298)","v":""}]
["  x","  o--","--o","  x","  o","  x","  o","  x","  o","  x","  o","  x--","--x","  o","  x","  o","  x","  o","H",null,{"$f":"ClashCount('Other league dates'!J$10:J$27,$A299:$R299)","v":""},{"$f":"ClashCount('Other league dates'!K$10:K$27,$A299:$R299)","v":""},{"$f":"ClashCount('Other league dates'!L$10:L$27,$A299:$R299)","v":""}]
["  x","  o","  x","  o","  x","  o","  x","  o","  x","  o--","--o","  x","  o","  x","  o","  x","  o","  x","I",null,{"$f":"ClashCount('Other league dates'!J$10:J$27,$A300:$R300)","v":""},{"$f":"ClashCount('Other league dates'!K$10:K$27,$A300:$R300)","v":""},{"$f":"ClashCount('Other league dates'!L$10:L$27,$A300:$R300)","v":""}]
["  o","  x","  o","  x","  o","  x","  o","  x","  o","  x--","--x","  o","  x","  o","  x","  o","  x","  o","J",null,{"$f":"ClashCount('Other league dates'!J$10:J$27,$A301:$R301)","v":""},{"$f":"ClashCount('Other league dates'!K$10:K$27,$A301:$R301)","v":""},{"$f":"ClashCount('Other league dates'!L$10:L$27,$A301:$R301)","v":""}]
[]
["Fit:","10aiaa",null,"12akba"]
[]
["10aiba"]
[]
["AI","BE","AG","BJ","AE","BF","AC","BA","BI","AJ","BC","AF","BH","AD","BD","AB","AH","BG"]
["CF","DC","CB","DH","CG","DA","DB","CJ","DG","CH","DJ","CI","DF","CE","CA","DI","CD","DE"]
["ED","FJ","EI","FA","FD","EC","FI","EH","FE","EF","FH","EG","EA","FB","EJ","FG","EB","FC"]
["GB","HA","HF","GE","HB","GJ","HG","GF","HC","GD","GA","HD","GC","HI","GH","HE","GI","HJ"]
["JH","IG","JD","IC","JI","IH","JE","ID","JA","IB","IE","JB","IJ","JG","IF","JC","JF","IA"]
[1,2,3,4,5,6,7,8,9,10,11,12,13,14,15,16,17,18]
["RFx",null,null,null,null,null,null,null,null,9,3,4,5,6,7,8,2,1]
["  o","  x","  o","  x","  o","  x","  o","  x--","--x","  o","  x","  o","  x","  o","  x","  o--","--o","  x","A",null,{"$f":"ClashCount('Other league dates'!J$10:J$27,$A314:$R314)","v":""},{"$f":"ClashCount('Other league dates'!K$10:K$27,$A314:$R314)","v":""},{"$f":"ClashCount('Other league dates'!L$10:L$27,$A314:$R314)","v":""}]
["  x","  o","  x","  o","  x","  o","  x","  o--","--o","  x","  o","  x","  o","  x","  o","  x--","--x","  o","B",null,{"$f":"ClashCount('Other league dates'!J$10:J$27,$A315:$R315)","v":""},{"$f":"ClashCount('Other league dates'!K$10:K$27,$A315:$R315)","v":""},{"$f":"ClashCount('Other league dates'!L$10:L$27,$A315:$R315)","v":""}]
["  o","  x","  o","  x","  o","  x--","--x","  o","  x","  o","  x","  o","  x","  o--","--o","  x","  o","  x","C",null,{"$f":"ClashCount('Other league dates'!J$10:J$27,$A316:$R316)","v":""},{"$f":"ClashCount('Other league dates'!K$10:K$27,$A316:$R316)","v":""},{"$f":"ClashCount('Other league dates'!L$10:L$27,$A316:$R316)","v":""}]
["  x","  o","  x","  o","  x","  o--","--o","  x","  o","  x","  o","  x","  o","  x--","--x","  o","  x","  o","D",null,{"$f":"ClashCount('Other league dates'!J$10:J$27,$A317:$R317)","v":""},{"$f":"ClashCount('Other league dates'!K$10:K$27,$A317:$R317)","v":""},{"$f":"ClashCount('Other league dates'!L$10:L$27,$A317:$R317)","v":""}]
["  o","  x","  o","  x--","--x","  o","  x","  o","  x","  o","  x","  o--","--o","  x","  o","  x","  o","  x","E",null,{"$f":"ClashCount('Other league dates'!J$10:J$27,$A318:$R318)","v":""},{"$f":"ClashCount('Other league dates'!K$10:K$27,$A318:$R318)","v":""},{"$f":"ClashCount('Other league dates'!L$10:L$27,$A318:$R318)","v":""}]
["  x","  o","  x","  o--","--o","  x","  o","  x","  o","  x","  o","  x--","--x","  o","  x","  o","  x","  o","F",null,{"$f":"ClashCount('Other league dates'!J$10:J$27,$A319:$R319)","v":""},{"$f":"ClashCount('Other league dates'!K$10:K$27,$A319:$R319)","v":""},{"$f":"ClashCount('Other league dates'!L$10:L$27,$A319:$R319)","v":""}]
["  o","  x--","--x","  o","  x","  o","  x","  o","  x","  o--","--o","  x","  o","  x","  o","  x","  o","  x","G",null,{"$f":"ClashCount('Other league dates'!J$10:J$27,$A320:$R320)","v":""},{"$f":"ClashCount('Other league dates'!K$10:K$27,$A320:$R320)","v":""},{"$f":"ClashCount('Other league dates'!L$10:L$27,$A320:$R320)","v":""}]
["  x","  o--","--o","  x","  o","  x","  o","  x","  o","  x--","--x","  o","  x","  o","  x","  o","  x","  o","H",null,{"$f":"ClashCount('Other league dates'!J$10:J$27,$A321:$R321)","v":""},{"$f":"ClashCount('Other league dates'!K$10:K$27,$A321:$R321)","v":""},{"$f":"ClashCount('Other league dates'!L$10:L$27,$A321:$R321)","v":""}]
["  x","  o","  x","  o","  x","  o","  x","  o","  x","  o--","--o","  x","  o","  x","  o","  x--","--x","  o","I",null,{"$f":"ClashCount('Other league dates'!J$10:J$27,$A322:$R322)","v":""},{"$f":"ClashCount('Other league dates'!K$10:K$27,$A322:$R322)","v":""},{"$f":"ClashCount('Other league dates'!L$10:L$27,$A322:$R322)","v":""}]
["  o","  x","  o","  x","  o","  x","  o","  x","  o","  x--","--x","  o","  x","  o","  x","  o--","--o","  x","J",null,{"$f":"ClashCount('Other league dates'!J$10:J$27,$A323:$R323)","v":""},{"$f":"ClashCount('Other league dates'!K$10:K$27,$A323:$R323)","v":""},{"$f":"ClashCount('Other league dates'!L$10:L$27,$A323:$R323)","v":""}]
[]
["Fit:","08agaa",null,"08agab",null,"12akda",null,"14amea"]
[]
["10alanx",null,null,"Use J for Open date, to avoid successive away matches for other teams"]
[]
["AC","CJ","AG","EJ","AB","GJ","AF","IJ","AJ","BI","CA","AE","EC","AI","GE","AD","IG","AH"]
["DI","EA","CE","GC","CI","IE","CD","BG","CH","DG","EH","DB","GA","CG","IC","CB","BE","CF"]
["FG","GH","FB","IA","EG","BC","EB","DE","EF","FE","GF","FI","IH","FD","BA","EI","DC","ED"]
["HE","IF","HI","BH","HD","DA","GI","FC","GD","HC","ID","HG","BF","HB","DH","HF","FA","GB"]
["JB","BD","JD","DF","JF","FH","JH","HA","IB","JA","BJ","JC","DJ","JE","FJ","JG","HJ","JI"]
[1,2,3,4,5,6,7,8,9,10,11,12,13,14,15,16,17,18]
["RFx",null,null,null,null,null,null,null,null,9,1,2,3,4,5,6,7,8]
["  o","  x","  o","  x","  o","  x","  o","  x","  o","  x--","--x","  o","  x","  o","  x","  o","  x","  o","A",null,{"$f":"ClashCount('Other league dates'!J$10:J$27,$A336:$R336)","v":""},{"$f":"ClashCount('Other league dates'!K$10:K$27,$A336:$R336)","v":""},{"$f":"ClashCount('Other league dates'!L$10:L$27,$A336:$R336)","v":""}]
["  x","  o","  x","  o","  x","  o","  x","  o","  x","  o--","--o","  x","  o","  x","  o","  x","  o","  x","B",null,{"$f":"ClashCount('Other league dates'!J$10:J$27,$A337:$R337)","v":""},{"$f":"ClashCount('Other league dates'!K$10:K$27,$A337:$R337)","v":""},{"$f":"ClashCount('Other league dates'!L$10:L$27,$A337:$R337)","v":""}]
["  x","  o--","--o","  x","  o","  x","  o","  x","  o","  x","  o","  x--","--x","  o","  x","  o","  x","  o","C",null,{"$f":"ClashCount('Other league dates'!J$10:J$27,$A338:$R338)","v":""},{"$f":"ClashCount('Other league dates'!K$10:K$27,$A338:$R338)","v":""},{"$f":"ClashCount('Other league dates'!L$10:L$27,$A338:$R338)","v":""}]
["  o","  x--","--x","  o","  x","  o","  x","  o","  x","  o","  x","  o--","--o","  x","  o","  x","  o","  x","D",null,{"$f":"ClashCount('Other league dates'!J$10:J$27,$A339:$R339)","v":""},{"$f":"ClashCount('Other league dates'!K$10:K$27,$A339:$R339)","v":""},{"$f":"ClashCount('Other league dates'!L$10:L$27,$A339:$R339)","v":""}]
["  x","  o","  x","  o--","--o","  x","  o","  x","  o","  x","  o","  x","  o","  x--","--x","  o","  x","  o","E",null,{"$f":"ClashCount('Other league dates'!J$10:J$27,$A340:$R340)","v":""},{"$f":"ClashCount('Other league dates'!K$10:K$27,$A340:$R340)","v":""},{"$f":"ClashCount('Other league dates'!L$10:L$27,$A340:$R340)","v":""}]
["  o","  x","  o","  x--","--x","  o","  x","  o","  x","  o","  x","  o","  x","  o--","--o","  x","  o","  x","F",null,{"$f":"ClashCount('Other league dates'!J$10:J$27,$A341:$R341)","v":""},{"$f":"ClashCount('Other league dates'!K$10:K$27,$A341:$R341)","v":""},{"$f":"ClashCount('Other league dates'!L$10:L$27,$A341:$R341)","v":""}]
["  x","  o","  x","  o","  x","  o--","--o","  x","  o","  x","  o","  x","  o","  x","  o","  x--","--x","  o","G",null,{"$f":"ClashCount('Other league dates'!J$10:J$27,$A342:$R342)","v":""},{"$f":"ClashCount('Other league dates'!K$10:K$27,$A342:$R342)","v":""},{"$f":"ClashCount('Other league dates'!L$10:L$27,$A342:$R342)","v":""}]
["  o","  x","  o","  x","  o","  x--","--x","  o","  x","  o","  x","  o","  x","  o","  x","  o--","--o","  x","H",null,{"$f":"ClashCount('Other league dates'!J$10:J$27,$A343:$R343)","v":""},{"$f":"ClashCount('Other league dates'!K$10:K$27,$A343:$R343)","v":""},{"$f":"ClashCount('Other league dates'!L$10:L$27,$A343:$R343)","v":""}]
["  x","  o","  x","  o","  x","  o","  x","  o--","--o","  x","  o","  x","  o","  x","  o","  x","  o","  x","I",null,{"$f":"ClashCount('Other league dates'!J$10:J$27,$A344:$R344)","v":""},{"$f":"ClashCount('Other league dates'!K$10:K$27,$A344:$R344)","v":""},{"$f":"ClashCount('Other league dates'!L$10:L$27,$A344:$R344)","v":""}]
["  o","  x","  o","  x","  o","  x","  o","  x--","--x","  o","  x","  o","  x","  o","  x","  o","  x","  o","J",null,{"$f":"ClashCount('Other league dates'!J$10:J$27,$A345:$R345)","v":""},{"$f":"ClashCount('Other league dates'!K$10:K$27,$A345:$R345)","v":""},{"$f":"ClashCount('Other league dates'!L$10:L$27,$A345:$R345)","v":""}]
[]
["Fit:","12alanx",null,"14alanx"]
[]
["10araa"]
[]
["AI","BE","AG","BJ","AE","BF","AC","BA","BI","AJ","AB","BD","AD","BH","AF","BC","AH","BG"]
["CF","DC","CB","DH","CG","DA","DB","CJ","DG","CH","DI","CA","CE","DF","CI","DJ","CD","DE"]
["ED","FJ","EI","FA","FD","EC","FI","EH","FE","EF","FG","EJ","FB","EA","EG","FH","EB","FC"]
["GB","HA","HF","GE","HB","GJ","HG","GF","HC","GD","HE","GH","HI","GC","HD","GA","GI","HJ"]
["JH","IG","JD","IC","JI","IH","JE","ID","JA","IB","JC","IF","JG","IJ","JB","IE","JF","IA"]
[1,2,3,4,5,6,7,8,9,10,11,12,13,14,15,16,17,18]
["RFx",null,null,null,null,null,null,null,null,9,8,7,6,5,4,3,2,1]
["  o","  x","  o","  x","  o","  x","  o","  x--","--x","  o--","--o","  x","  o","  x","  o","  x","  o","  x","A",null,{"$f":"ClashCount('Other league dates'!J$10:J$27,$A358:$R358)","v":""},{"$f":"ClashCount('Other league dates'!K$10:K$27,$A358:$R358)","v":""},{"$f":"ClashCount('Other league dates'!L$10:L$27,$A358:$R358)","v":""}]
["  x","  o","  x","  o","  x","  o","  x","  o--","--o","  x--","--x","  o","  x","  o","  x","  o","  x","  o","B",null,{"$f":"ClashCount('Other league dates'!J$10:J$27,$A359:$R359)","v":""},{"$f":"ClashCount('Other league dates'!K$10:K$27,$A359:$R359)","v":""},{"$f":"ClashCount('Other league dates'!L$10:L$27,$A359:$R359)","v":""}]
["  o","  x","  o","  x","  o","  x--","--x","  o","  x","  o","  x","  o--","--o","  x","  o","  x","  o","  x","C",null,{"$f":"ClashCount('Other league dates'!J$10:J$27,$A360:$R360)","v":""},{"$f":"ClashCount('Other league dates'!K$10:K$27,$A360:$R360)","v":""},{"$f":"ClashCount('Other league dates'!L$10:L$27,$A360:$R360)","v":""}]
["  x","  o","  x","  o","  x","  o--","--o","  x","  o","  x","  o","  x--","--x","  o","  x","  o","  x","  o","D",null,{"$f":"ClashCount('Other league dates'!J$10:J$27,$A361:$R361)","v":""},{"$f":"ClashCount('Other league dates'!K$10:K$27,$A361:$R361)","v":""},{"$f":"ClashCount('Other league dates'!L$10:L$27,$A361:$R361)","v":""}]
["  o","  x","  o","  x--","--x","  o","  x","  o","  x","  o","  x","  o","  x","  o--","--o","  x","  o","  x","E",null,{"$f":"ClashCount('Other league dates'!J$10:J$27,$A362:$R362)","v":""},{"$f":"ClashCount('Other league dates'!K$10:K$27,$A362:$R362)","v":""},{"$f":"ClashCount('Other league dates'!L$10:L$27,$A362:$R362)","v":""}]
["  x","  o","  x","  o--","--o","  x","  o","  x","  o","  x","  o","  x","  o","  x--","--x","  o","  x","  o","F",null,{"$f":"ClashCount('Other league dates'!J$10:J$27,$A363:$R363)","v":""},{"$f":"ClashCount('Other league dates'!K$10:K$27,$A363:$R363)","v":""},{"$f":"ClashCount('Other league dates'!L$10:L$27,$A363:$R363)","v":""}]
["  o","  x--","--x","  o","  x","  o","  x","  o","  x","  o","  x","  o","  x","  o","  x","  o--","--o","  x","G",null,{"$f":"ClashCount('Other league dates'!J$10:J$27,$A364:$R364)","v":""},{"$f":"ClashCount('Other league dates'!K$10:K$27,$A364:$R364)","v":""},{"$f":"ClashCount('Other league dates'!L$10:L$27,$A364:$R364)","v":""}]
["  x","  o--","--o","  x","  o","  x","  o","  x","  o","  x","  o","  x","  o","  x","  o","  x--","--x","  o","H",null,{"$f":"ClashCount('Other league dates'!J$10:J$27,$A365:$R365)","v":""},{"$f":"ClashCount('Other league dates'!K$10:K$27,$A365:$R365)","v":""},{"$f":"ClashCount('Other league dates'!L$10:L$27,$A365:$R365)","v":""}]
["  x","  o","  x","  o","  x","  o","  x","  o","  x","  o","  x","  o","  x","  o","  x","  o","  x","  o","I",null,{"$f":"ClashCount('Other league dates'!J$10:J$27,$A366:$R366)","v":""},{"$f":"ClashCount('Other league dates'!K$10:K$27,$A366:$R366)","v":""},{"$f":"ClashCount('Other league dates'!L$10:L$27,$A366:$R366)","v":""}]
["  o","  x","  o","  x","  o","  x","  o","  x","  o","  x","  o","  x","  o","  x","  o","  x","  o","  x","J",null,{"$f":"ClashCount('Other league dates'!J$10:J$27,$A367:$R367)","v":""},{"$f":"ClashCount('Other league dates'!K$10:K$27,$A367:$R367)","v":""},{"$f":"ClashCount('Other league dates'!L$10:L$27,$A367:$R367)","v":""}]
[]
["Fit:","06ataa",null,"08ataa",null,"08ataax",null,"12apaa",null,"14anaa"]
[]
["10bbaa"]
[]
["GB","HJ","HG","GE","HE","GA","HC","GF","HA","GI","GH","HF","GC","HD","GJ","HB","GD","HI"]
["ED","FA","EI","FH","FD","EC","FI","EJ","FE","EB","FJ","EG","EH","FB","EA","FG","EF","FC"]
["CF","DC","CB","DJ","CG","DH","DB","CA","DG","CD","DA","CI","DF","CE","CH","DI","CJ","DE"]
["AJ","BE","AD","BA","AI","BF","AE","BH","BI","AF","BC","AB","BJ","AG","BD","AC","AH","BG"]
["IH","IG","JF","IC","JB","IJ","JG","ID","JC","JH","IE","JD","IA","JI","IF","JE","IB","JA"]
[1,2,3,4,5,6,7,8,9,10,11,12,13,14,15,16,17,18]
["RFx",null,null,null,null,null,null,null,null,2,3,4,5,6,7,8,9,1]
["  o","  x","  o","  x","  o","  x","  o","  x--","--x","  o","  x","  o","  x","  o","  x","  o--","--o","  x","A",null,{"$f":"ClashCount('Other league dates'!J$10:J$27,$A380:$R380)","v":""},{"$f":"ClashCount('Other league dates'!K$10:K$27,$A380:$R380)","v":""},{"$f":"ClashCount('Other league dates'!L$10:L$27,$A380:$R380)","v":""}]
["  x","  o","  x","  o","  x","  o","  x","  o--","--o","  x","  o","  x","  o","  x","  o","  x--","--x","  o","B",null,{"$f":"ClashCount('Other league dates'!J$10:J$27,$A381:$R381)","v":""},{"$f":"ClashCount('Other league dates'!K$10:K$27,$A381:$R381)","v":""},{"$f":"ClashCount('Other league dates'!L$10:L$27,$A381:$R381)","v":""}]
["  o","  x","  o","  x","  o","  x--","--x","  o","  x","  o","  x","  o","  x","  o--","--o","  x","  o","  x","C",null,{"$f":"ClashCount('Other league dates'!J$10:J$27,$A382:$R382)","v":""},{"$f":"ClashCount('Other league dates'!K$10:K$27,$A382:$R382)","v":""},{"$f":"ClashCount('Other league dates'!L$10:L$27,$A382:$R382)","v":""}]
["  x","  o","  x","  o","  x","  o--","--o","  x","  o","  x","  o","  x","  o","  x--","--x","  o","  x","  o","D",null,{"$f":"ClashCount('Other league dates'!J$10:J$27,$A383:$R383)","v":""},{"$f":"ClashCount('Other league dates'!K$10:K$27,$A383:$R383)","v":""},{"$f":"ClashCount('Other league dates'!L$10:L$27,$A383:$R383)","v":""}]
["  o","  x","  o","  x--","--x","  o","  x","  o","  x","  o","  x","  o--","--o","  x","  o","  x","  o","  x","E",null,{"$f":"ClashCount('Other league dates'!J$10:J$27,$A384:$R384)","v":""},{"$f":"ClashCount('Other league dates'!K$10:K$27,$A384:$R384)","v":""},{"$f":"ClashCount('Other league dates'!L$10:L$27,$A384:$R384)","v":""}]
["  x","  o","  x","  o--","--o","  x","  o","  x","  o","  x","  o","  x--","--x","  o","  x","  o","  x","  o","F",null,{"$f":"ClashCount('Other league dates'!J$10:J$27,$A385:$R385)","v":""},{"$f":"ClashCount('Other league dates'!K$10:K$27,$A385:$R385)","v":""},{"$f":"ClashCount('Other league dates'!L$10:L$27,$A385:$R385)","v":""}]
["  o","  x--","--x","  o","  x","  o","  x","  o","  x","  o--","--o","  x","  o","  x","  o","  x","  o","  x","G",null,{"$f":"ClashCount('Other league dates'!J$10:J$27,$A386:$R386)","v":""},{"$f":"ClashCount('Other league dates'!K$10:K$27,$A386:$R386)","v":""},{"$f":"ClashCount('Other league dates'!L$10:L$27,$A386:$R386)","v":""}]
["  x","  o--","--o","  x","  o","  x","  o","  x","  o","  x--","--x","  o","  x","  o","  x","  o","  x","  o","H",null,{"$f":"ClashCount('Other league dates'!J$10:J$27,$A387:$R387)","v":""},{"$f":"ClashCount('Other league dates'!K$10:K$27,$A387:$R387)","v":""},{"$f":"ClashCount('Other league dates'!L$10:L$27,$A387:$R387)","v":""}]
["  o--","--o","  x","  o","  x","  o","  x","  o","  x--","--x","  o","  x","  o","  x","  o","  x","  o","  x","I",null,{"$f":"ClashCount('Other league dates'!J$10:J$27,$A388:$R388)","v":""},{"$f":"ClashCount('Other league dates'!K$10:K$27,$A388:$R388)","v":""},{"$f":"ClashCount('Other league dates'!L$10:L$27,$A388:$R388)","v":""}]
["  x--","--x","  o","  x","  o","  x","  o","  x","  o--","--o","  x","  o","  x","  o","  x","  o","  x","  o","J",null,{"$f":"ClashCount('Other league dates'!J$10:J$27,$A389:$R389)","v":""},{"$f":"ClashCount('Other league dates'!K$10:K$27,$A389:$R389)","v":""},{"$f":"ClashCount('Other league dates'!L$10:L$27,$A389:$R389)","v":""}]
[]
["Fit:","08agaa",null,"08agab"]
[]
["10caaa"]
[]
["AI","BE","AG","BJ","AE","BF","AC","AB","BI","BG","AH","BC","AF","BH","AD","BD","BA","AJ"]
["CF","DC","CB","DH","CG","DA","DB","CJ","DG","DE","CD","DJ","CI","DF","CE","CA","DI","CH"]
["ED","FJ","EI","FA","FD","EC","FI","EH","FE","FC","EB","FH","EG","EA","FB","EJ","FG","EF"]
["GB","HA","HF","GE","HB","GJ","HG","GF","HC","HJ","GI","GA","HD","GC","HI","GH","HE","GD"]
["JH","IG","JD","IC","JI","IH","JE","ID","JA","IA","JF","IE","JB","IJ","JG","IF","JC","IB"]
[1,2,3,4,5,6,7,8,9,10,11,12,13,14,15,16,17,18]
["RFx",null,null,null,null,null,null,null,null,1,2,3,4,5,6,7,8,9]
["  o","  x","  o","  x","  o","  x","  o--","--o","  x--","--x","  o","  x","  o","  x","  o","  x--","--x","  o","A",null,{"$f":"ClashCount('Other league dates'!J$10:J$27,$A402:$R402)","v":""},{"$f":"ClashCount('Other league dates'!K$10:K$27,$A402:$R402)","v":""},{"$f":"ClashCount('Other league dates'!L$10:L$27,$A402:$R402)","v":""}]
["  x","  o","  x","  o","  x","  o","  x--","--x","  o--","--o","  x","  o","  x","  o","  x","  o--","--o","  x","B",null,{"$f":"ClashCount('Other league dates'!J$10:J$27,$A403:$R403)","v":""},{"$f":"ClashCount('Other league dates'!K$10:K$27,$A403:$R403)","v":""},{"$f":"ClashCount('Other league dates'!L$10:L$27,$A403:$R403)","v":""}]
["  o","  x","  o","  x","  o","  x--","--x","  o","  x--","--x","  o","  x","  o","  x","  o--","--o","  x","  o","C",null,{"$f":"ClashCount('Other league dates'!J$10:J$27,$A404:$R404)","v":""},{"$f":"ClashCount('Other league dates'!K$10:K$27,$A404:$R404)","v":""},{"$f":"ClashCount('Other league dates'!L$10:L$27,$A404:$R404)","v":""}]
["  x","  o","  x","  o","  x","  o--","--o","  x","  o--","--o","  x","  o","  x","  o","  x--","--x","  o","  x","D",null,{"$f":"ClashCount('Other league dates'!J$10:J$27,$A405:$R405)","v":""},{"$f":"ClashCount('Other league dates'!K$10:K$27,$A405:$R405)","v":""},{"$f":"ClashCount('Other league dates'!L$10:L$27,$A405:$R405)","v":""}]
["  o","  x","  o","  x--","--x","  o","  x","  o","  x--","--x","  o","  x","  o--","--o","  x","  o","  x","  o","E",null,{"$f":"ClashCount('Other league dates'!J$10:J$27,$A406:$R406)","v":""},{"$f":"ClashCount('Other league dates'!K$10:K$27,$A406:$R406)","v":""},{"$f":"ClashCount('Other league dates'!L$10:L$27,$A406:$R406)","v":""}]
["  x","  o","  x","  o--","--o","  x","  o","  x","  o--","--o","  x","  o","  x--","--x","  o","  x","  o","  x","F",null,{"$f":"ClashCount('Other league dates'!J$10:J$27,$A407:$R407)","v":""},{"$f":"ClashCount('Other league dates'!K$10:K$27,$A407:$R407)","v":""},{"$f":"ClashCount('Other league dates'!L$10:L$27,$A407:$R407)","v":""}]
["  o","  x--","--x","  o","  x","  o","  x","  o","  x--","--x","  o--","--o","  x","  o","  x","  o","  x","  o","G",null,{"$f":"ClashCount('Other league dates'!J$10:J$27,$A408:$R408)","v":""},{"$f":"ClashCount('Other league dates'!K$10:K$27,$A408:$R408)","v":""},{"$f":"ClashCount('Other league dates'!L$10:L$27,$A408:$R408)","v":""}]
["  x","  o--","--o","  x","  o","  x","  o","  x","  o--","--o","  x--","--x","  o","  x","  o","  x","  o","  x","H",null,{"$f":"ClashCount('Other league dates'!J$10:J$27,$A409:$R409)","v":""},{"$f":"ClashCount('Other league dates'!K$10:K$27,$A409:$R409)","v":""},{"$f":"ClashCount('Other league dates'!L$10:L$27,$A409:$R409)","v":""}]
["  x","  o","  x","  o","  x","  o","  x","  o","  x","  o","  x","  o","  x","  o","  x","  o","  x","  o","I",null,{"$f":"ClashCount('Other league dates'!J$10:J$27,$A410:$R410)","v":""},{"$f":"ClashCount('Other league dates'!K$10:K$27,$A410:$R410)","v":""},{"$f":"ClashCount('Other league dates'!L$10:L$27,$A410:$R410)","v":""}]
["  o","  x","  o","  x","  o","  x","  o","  x","  o","  x","  o","  x","  o","  x","  o","  x","  o","  x","J",null,{"$f":"ClashCount('Other league dates'!J$10:J$27,$A411:$R411)","v":""},{"$f":"ClashCount('Other league dates'!K$10:K$27,$A411:$R411)","v":""},{"$f":"ClashCount('Other league dates'!L$10:L$27,$A411:$R411)","v":""}]
[]
["Fit:","12ccaa"]
[]
["10donx",null,null,"Use J for Open date, to avoid successive away matches for other teams"]
[]
["AF","GJ","AB","EJ","AG","CJ","AC","AJ","JI","BI","AH","IG","AD","GE","AI","EC","AE","CA"]
["CD","IE","CI","GC","CE","EA","DI","CH","BG","DG","CF","BE","CB","IC","CG","GA","DB","EH"]
["EB","BC","EG","IA","FB","GH","FG","EF","DE","FE","ED","DC","EI","BA","FD","IH","FI","GF"]
["GI","DA","HD","BH","HI","IF","HE","GD","FC","HC","GB","FA","HF","DH","HB","BF","HG","ID"]
["JH","FH","JF","DF","JD","BD","JB","IB","HA","JA","IJ","HJ","JG","FJ","JE","DJ","JC","BJ"]
[1,2,3,4,5,6,7,8,9,10,11,12,13,14,15,16,17,18]
["RFx",null,null,null,null,null,null,null,null,8,9,1,2,3,4,5,6,7]
["  o","  x","  o","  x","  o","  x","  o--","--o","  x--","--x","  o","  x","  o","  x","  o","  x","  o","  x","A",null,{"$f":"ClashCount('Other league dates'!J$10:J$27,$A424:$R424)","v":""},{"$f":"ClashCount('Other league dates'!K$10:K$27,$A424:$R424)","v":""},{"$f":"ClashCount('Other league dates'!L$10:L$27,$A424:$R424)","v":""}]
["  x","  o","  x","  o","  x","  o","  x--","--x","  o--","--o","  x","  o","  x","  o","  x","  o","  x","  o","B",null,{"$f":"ClashCount('Other league dates'!J$10:J$27,$A425:$R425)","v":""},{"$f":"ClashCount('Other league dates'!K$10:K$27,$A425:$R425)","v":""},{"$f":"ClashCount('Other league dates'!L$10:L$27,$A425:$R425)","v":""}]
["  o","  x","  o","  x","  o--","--o","  x","  o","  x--","--x","  o","  x","  o","  x","  o","  x--","--x","  o","C",null,{"$f":"ClashCount('Other league dates'!J$10:J$27,$A426:$R426)","v":""},{"$f":"ClashCount('Other league dates'!K$10:K$27,$A426:$R426)","v":""},{"$f":"ClashCount('Other league dates'!L$10:L$27,$A426:$R426)","v":""}]
["  x","  o","  x","  o","  x--","--x","  o","  x","  o--","--o","  x","  o","  x","  o","  x","  o--","--o","  x","D",null,{"$f":"ClashCount('Other league dates'!J$10:J$27,$A427:$R427)","v":""},{"$f":"ClashCount('Other league dates'!K$10:K$27,$A427:$R427)","v":""},{"$f":"ClashCount('Other league dates'!L$10:L$27,$A427:$R427)","v":""}]
["  o","  x","  o--","--o","  x","  o","  x","  o","  x--","--x","  o","  x","  o","  x--","--x","  o","  x","  o","E",null,{"$f":"ClashCount('Other league dates'!J$10:J$27,$A428:$R428)","v":""},{"$f":"ClashCount('Other league dates'!K$10:K$27,$A428:$R428)","v":""},{"$f":"ClashCount('Other league dates'!L$10:L$27,$A428:$R428)","v":""}]
["  x","  o","  x--","--x","  o","  x","  o","  x","  o--","--o","  x","  o","  x","  o--","--o","  x","  o","  x","F",null,{"$f":"ClashCount('Other league dates'!J$10:J$27,$A429:$R429)","v":""},{"$f":"ClashCount('Other league dates'!K$10:K$27,$A429:$R429)","v":""},{"$f":"ClashCount('Other league dates'!L$10:L$27,$A429:$R429)","v":""}]
["  o--","--o","  x","  o","  x","  o","  x","  o","  x--","--x","  o","  x--","--x","  o","  x","  o","  x","  o","G",null,{"$f":"ClashCount('Other league dates'!J$10:J$27,$A430:$R430)","v":""},{"$f":"ClashCount('Other league dates'!K$10:K$27,$A430:$R430)","v":""},{"$f":"ClashCount('Other league dates'!L$10:L$27,$A430:$R430)","v":""}]
["  x--","--x","  o","  x","  o","  x","  o","  x","  o--","--o","  x","  o--","--o","  x","  o","  x","  o","  x","H",null,{"$f":"ClashCount('Other league dates'!J$10:J$27,$A431:$R431)","v":""},{"$f":"ClashCount('Other league dates'!K$10:K$27,$A431:$R431)","v":""},{"$f":"ClashCount('Other league dates'!L$10:L$27,$A431:$R431)","v":""}]
["  x","  o","  x","  o","  x","  o","  x","  o","  x--","--x","  o--","--o","  x","  o","  x","  o","  x","  o","I",null,{"$f":"ClashCount('Other league dates'!J$10:J$27,$A432:$R432)","v":""},{"$f":"ClashCount('Other league dates'!K$10:K$27,$A432:$R432)","v":""},{"$f":"ClashCount('Other league dates'!L$10:L$27,$A432:$R432)","v":""}]
["  o","  x","  o","  x","  o","  x","  o","  x","  o--","--o","  x--","--x","  o","  x","  o","  x","  o","  x","J",null,{"$f":"ClashCount('Other league dates'!J$10:J$27,$A433:$R433)","v":""},{"$f":"ClashCount('Other league dates'!K$10:K$27,$A433:$R433)","v":""},{"$f":"ClashCount('Other league dates'!L$10:L$27,$A433:$R433)","v":""}]
[]
["Fit:","12donx",null,"14donx"]
[]
["10primx"]
[]
["AJ","IJ","AF","GJ","AB","EJ","AG","CJ","AC","AH","IG","AD","GE","AI","EC","AE","CA","BI"]
["CH","BG","CD","IE","CI","GC","CE","EA","DI","CF","BE","CB","IC","CG","GA","DB","EH","DG"]
["EF","DE","EB","BC","EG","IA","FB","GH","FG","ED","DC","EI","BA","FD","IH","FI","GF","FE"]
["GD","FC","GI","DA","HD","BH","HI","IF","HE","GB","FA","HF","DH","HB","BF","HG","ID","HC"]
["IB","HA","JH","FH","JF","DF","JD","BD","JB","JI","HJ","JG","FJ","JE","DJ","JC","BJ","JA"]
[1,2,3,4,5,6,7,8,9,10,11,12,13,14,15,16,17,18]
["RFx",null,null,null,null,null,null,null,null,2,3,4,5,6,7,8,9,1]
["  o","  x","  o","  x","  o","  x","  o","  x","  o--","--o","  x","  o","  x","  o","  x","  o","  x--","--x","A",null,{"$f":"ClashCount('Other league dates'!J$10:J$27,$A446:$R446)","v":""},{"$f":"ClashCount('Other league dates'!K$10:K$27,$A446:$R446)","v":""},{"$f":"ClashCount('Other league dates'!L$10:L$27,$A446:$R446)","v":""}]
["  x","  o","  x","  o","  x","  o","  x","  o","  x--","--x","  o","  x","  o","  x","  o","  x","  o--","--o","B",null,{"$f":"ClashCount('Other league dates'!J$10:J$27,$A447:$R447)","v":""},{"$f":"ClashCount('Other league dates'!K$10:K$27,$A447:$R447)","v":""},{"$f":"ClashCount('Other league dates'!L$10:L$27,$A447:$R447)","v":""}]
["  o","  x","  o","  x","  o","  x","  o--","--o","  x","  o","  x","  o","  x","  o","  x--","--x","  o","  x","C",null,{"$f":"ClashCount('Other league dates'!J$10:J$27,$A448:$R448)","v":""},{"$f":"ClashCount('Other league dates'!K$10:K$27,$A448:$R448)","v":""},{"$f":"ClashCount('Other league dates'!L$10:L$27,$A448:$R448)","v":""}]
["  x","  o","  x","  o","  x","  o","  x--","--x","  o","  x","  o","  x","  o","  x","  o--","--o","  x","  o","D",null,{"$f":"ClashCount('Other league dates'!J$10:J$27,$A449:$R449)","v":""},{"$f":"ClashCount('Other league dates'!K$10:K$27,$A449:$R449)","v":""},{"$f":"ClashCount('Other league dates'!L$10:L$27,$A449:$R449)","v":""}]
["  o","  x","  o","  x","  o--","--o","  x","  o","  x","  o","  x","  o","  x--","--x","  o","  x","  o","  x","E",null,{"$f":"ClashCount('Other league dates'!J$10:J$27,$A450:$R450)","v":""},{"$f":"ClashCount('Other league dates'!K$10:K$27,$A450:$R450)","v":""},{"$f":"ClashCount('Other league dates'!L$10:L$27,$A450:$R450)","v":""}]
["  x","  o","  x","  o","  x--","--x","  o","  x","  o","  x","  o","  x","  o--","--o","  x","  o","  x","  o","F",null,{"$f":"ClashCount('Other league dates'!J$10:J$27,$A451:$R451)","v":""},{"$f":"ClashCount('Other league dates'!K$10:K$27,$A451:$R451)","v":""},{"$f":"ClashCount('Other league dates'!L$10:L$27,$A451:$R451)","v":""}]
["  o","  x","  o--","--o","  x","  o","  x","  o","  x","  o","  x--","--x","  o","  x","  o","  x","  o","  x","G",null,{"$f":"ClashCount('Other league dates'!J$10:J$27,$A452:$R452)","v":""},{"$f":"ClashCount('Other league dates'!K$10:K$27,$A452:$R452)","v":""},{"$f":"ClashCount('Other league dates'!L$10:L$27,$A452:$R452)","v":""}]
["  x","  o","  x--","--x","  o","  x","  o","  x","  o","  x","  o--","--o","  x","  o","  x","  o","  x","  o","H",null,{"$f":"ClashCount('Other league dates'!J$10:J$27,$A453:$R453)","v":""},{"$f":"ClashCount('Other league dates'!K$10:K$27,$A453:$R453)","v":""},{"$f":"ClashCount('Other league dates'!L$10:L$27,$A453:$R453)","v":""}]
["  o--","--o","  x","  o","  x","  o","  x","  o","  x--","--x","  o","  x","  o","  x","  o","  x","  o","  x","I",null,{"$f":"ClashCount('Other league dates'!J$10:J$27,$A454:$R454)","v":""},{"$f":"ClashCount('Other league dates'!K$10:K$27,$A454:$R454)","v":""},{"$f":"ClashCount('Other league dates'!L$10:L$27,$A454:$R454)","v":""}]
["  x--","--x","  o","  x","  o","  x","  o","  x","  o--","--o","  x","  o","  x","  o","  x","  o","  x","  o","J",null,{"$f":"ClashCount('Other league dates'!J$10:J$27,$A455:$R455)","v":""},{"$f":"ClashCount('Other league dates'!K$10:K$27,$A455:$R455)","v":""},{"$f":"ClashCount('Other league dates'!L$10:L$27,$A455:$R455)","v":""}]
[]
[]
[]
["10rraa"]
[]
["AH","BJ","AF","BG","AD","BH","AI","BE","AG","BF","AE","BC","AC","BD","AB","BA","BI","AJ"]
["CF","DE","CD","DC","CI","DA","CG","DJ","CE","DH","CB","DF","DB","CA","DI","CJ","DG","CH"]
["ED","FC","EI","FA","EG","FJ","EB","FH","FB","EC","FD","EA","FI","EJ","FG","EH","FE","EF"]
["GI","HA","GB","HJ","HB","GE","HF","GC","HD","GA","HI","GJ","HG","GH","HE","GF","HC","GD"]
["JB","IG","JH","IE","JF","IC","JD","IA","JI","IJ","JG","IH","JE","IF","JC","ID","JA","IB"]
[1,2,3,4,5,6,7,8,9,10,11,12,13,14,15,16,17,18]
["RFx",1,null,3,null,5,null,7,null,9,null,11,null,13,null,15,null,17]
["  o","  x","  o","  x","  o","  x","  o","  x","  o","  x","  o","  x","  o","  x","  o","  x--","--x","  o","A",null,{"$f":"ClashCount('Other league dates'!J$10:J$27,$A468:$R468)","v":""},{"$f":"ClashCount('Other league dates'!K$10:K$27,$A468:$R468)","v":""},{"$f":"ClashCount('Other league dates'!L$10:L$27,$A468:$R468)","v":""}]
["  x","  o","  x","  o","  x","  o","  x","  o","  x","  o","  x","  o","  x","  o","  x","  o--","--o","  x","B",null,{"$f":"ClashCount('Other league dates'!J$10:J$27,$A469:$R469)","v":""},{"$f":"ClashCount('Other league dates'!K$10:K$27,$A469:$R469)","v":""},{"$f":"ClashCount('Other league dates'!L$10:L$27,$A469:$R469)","v":""}]
["  o","  x","  o","  x","  o","  x","  o","  x","  o","  x","  o","  x--","--x","  o","  x","  o","  x","  o","C",null,{"$f":"ClashCount('Other league dates'!J$10:J$27,$A470:$R470)","v":""},{"$f":"ClashCount('Other league dates'!K$10:K$27,$A470:$R470)","v":""},{"$f":"ClashCount('Other league dates'!L$10:L$27,$A470:$R470)","v":""}]
["  x","  o","  x","  o","  x","  o","  x","  o","  x","  o","  x","  o--","--o","  x","  o","  x","  o","  x","D",null,{"$f":"ClashCount('Other league dates'!J$10:J$27,$A471:$R471)","v":""},{"$f":"ClashCount('Other league dates'!K$10:K$27,$A471:$R471)","v":""},{"$f":"ClashCount('Other league dates'!L$10:L$27,$A471:$R471)","v":""}]
["  o","  x","  o","  x","  o","  x","  o","  x--","--x","  o","  x","  o","  x","  o","  x","  o","  x","  o","E",null,{"$f":"ClashCount('Other league dates'!J$10:J$27,$A472:$R472)","v":""},{"$f":"ClashCount('Other league dates'!K$10:K$27,$A472:$R472)","v":""},{"$f":"ClashCount('Other league dates'!L$10:L$27,$A472:$R472)","v":""}]
["  x","  o","  x","  o","  x","  o","  x","  o--","--o","  x","  o","  x","  o","  x","  o","  x","  o","  x","F",null,{"$f":"ClashCount('Other league dates'!J$10:J$27,$A473:$R473)","v":""},{"$f":"ClashCount('Other league dates'!K$10:K$27,$A473:$R473)","v":""},{"$f":"ClashCount('Other league dates'!L$10:L$27,$A473:$R473)","v":""}]
["  o","  x","  o","  x--","--x","  o","  x","  o","  x","  o","  x","  o","  x","  o","  x","  o","  x","  o","G",null,{"$f":"ClashCount('Other league dates'!J$10:J$27,$A474:$R474)","v":""},{"$f":"ClashCount('Other league dates'!K$10:K$27,$A474:$R474)","v":""},{"$f":"ClashCount('Other league dates'!L$10:L$27,$A474:$R474)","v":""}]
["  x","  o","  x","  o--","--o","  x","  o","  x","  o","  x","  o","  x","  o","  x","  o","  x","  o","  x","H",null,{"$f":"ClashCount('Other league dates'!J$10:J$27,$A475:$R475)","v":""},{"$f":"ClashCount('Other league dates'!K$10:K$27,$A475:$R475)","v":""},{"$f":"ClashCount('Other league dates'!L$10:L$27,$A475:$R475)","v":""}]
["  x","  o","  x","  o","  x","  o","  x","  o","  x","  o","  x","  o","  x","  o","  x","  o","  x","  o","I",null,{"$f":"ClashCount('Other league dates'!J$10:J$27,$A476:$R476)","v":""},{"$f":"ClashCount('Other league dates'!K$10:K$27,$A476:$R476)","v":""},{"$f":"ClashCount('Other league dates'!L$10:L$27,$A476:$R476)","v":""}]
["  o","  x","  o","  x","  o","  x","  o","  x","  o","  x","  o","  x","  o","  x","  o","  x","  o","  x","J",null,{"$f":"ClashCount('Other league dates'!J$10:J$27,$A477:$R477)","v":""},{"$f":"ClashCount('Other league dates'!K$10:K$27,$A477:$R477)","v":""},{"$f":"ClashCount('Other league dates'!L$10:L$27,$A477:$R477)","v":""}]
[]
[]
[]
["10rrba"]
[]
["EB","BE","AG","GA","JB","BJ","AE","EA","FB","BF","AC","CA","AB","BA","BI","IB","IA","AI"]
["CD","DC","CB","BC","HD","DH","CG","GC","AD","DA","DB","BD","JC","CJ","DG","GD","FC","CF"]
["JF","FJ","EI","IE","AF","FA","FD","DF","CE","EC","FI","IF","HE","EH","FE","EF","DE","ED"]
["AH","HA","HF","FH","EG","GE","HB","BH","JG","GJ","HG","GH","FG","GF","HC","CH","BG","GB"]
["GI","IG","JD","DJ","CI","IC","JI","IJ","HI","IH","JE","EJ","DI","ID","JA","AJ","HJ","JH"]
[1,2,3,4,5,6,7,8,9,10,11,12,13,14,15,16,17,18]
["RFx",1,null,3,null,5,null,7,null,9,null,11,null,13,null,15,null,17]
["  o","  x","  o","  x","  o","  x","  o","  x","  o","  x","  o","  x","  o","  x--","--x","  o","  x","  o","A",null,{"$f":"ClashCount('Other league dates'!J$10:J$27,$A490:$R490)","v":""},{"$f":"ClashCount('Other league dates'!K$10:K$27,$A490:$R490)","v":""},{"$f":"ClashCount('Other league dates'!L$10:L$27,$A490:$R490)","v":""}]
["  x","  o","  x","  o","  x","  o","  x","  o","  x","  o","  x","  o","  x","  o--","--o","  x","  o","  x","B",null,{"$f":"ClashCount('Other league dates'!J$10:J$27,$A491:$R491)","v":""},{"$f":"ClashCount('Other league dates'!K$10:K$27,$A491:$R491)","v":""},{"$f":"ClashCount('Other league dates'!L$10:L$27,$A491:$R491)","v":""}]
["  o","  x","  o","  x","  o","  x","  o","  x","  o","  x--","--x","  o","  x","  o","  x","  o","  x","  o","C",null,{"$f":"ClashCount('Other league dates'!J$10:J$27,$A492:$R492)","v":""},{"$f":"ClashCount('Other league dates'!K$10:K$27,$A492:$R492)","v":""},{"$f":"ClashCount('Other league dates'!L$10:L$27,$A492:$R492)","v":""}]
["  x","  o","  x","  o","  x","  o","  x","  o","  x","  o--","--o","  x","  o","  x","  o","  x","  o","  x","D",null,{"$f":"ClashCount('Other league dates'!J$10:J$27,$A493:$R493)","v":""},{"$f":"ClashCount('Other league dates'!K$10:K$27,$A493:$R493)","v":""},{"$f":"ClashCount('Other league dates'!L$10:L$27,$A493:$R493)","v":""}]
["  o","  x","  o","  x","  o","  x--","--x","  o","  x","  o","  x","  o","  x","  o","  x","  o","  x","  o","E",null,{"$f":"ClashCount('Other league dates'!J$10:J$27,$A494:$R494)","v":""},{"$f":"ClashCount('Other league dates'!K$10:K$27,$A494:$R494)","v":""},{"$f":"ClashCount('Other league dates'!L$10:L$27,$A494:$R494)","v":""}]
["  x","  o","  x","  o","  x","  o--","--o","  x","  o","  x","  o","  x","  o","  x","  o","  x","  o","  x","F",null,{"$f":"ClashCount('Other league dates'!J$10:J$27,$A495:$R495)","v":""},{"$f":"ClashCount('Other league dates'!K$10:K$27,$A495:$R495)","v":""},{"$f":"ClashCount('Other league dates'!L$10:L$27,$A495:$R495)","v":""}]
["  o","  x--","--x","  o","  x","  o","  x","  o","  x","  o","  x","  o","  x","  o","  x","  o","  x","  o","G",null,{"$f":"ClashCount('Other league dates'!J$10:J$27,$A496:$R496)","v":""},{"$f":"ClashCount('Other league dates'!K$10:K$27,$A496:$R496)","v":""},{"$f":"ClashCount('Other league dates'!L$10:L$27,$A496:$R496)","v":""}]
["  x","  o--","--o","  x","  o","  x","  o","  x","  o","  x","  o","  x","  o","  x","  o","  x","  o","  x","H",null,{"$f":"ClashCount('Other league dates'!J$10:J$27,$A497:$R497)","v":""},{"$f":"ClashCount('Other league dates'!K$10:K$27,$A497:$R497)","v":""},{"$f":"ClashCount('Other league dates'!L$10:L$27,$A497:$R497)","v":""}]
["  x","  o","  x","  o","  x","  o","  x","  o","  x","  o","  x","  o","  x","  o","  x","  o--","--o","  x","I",null,{"$f":"ClashCount('Other league dates'!J$10:J$27,$A498:$R498)","v":""},{"$f":"ClashCount('Other league dates'!K$10:K$27,$A498:$R498)","v":""},{"$f":"ClashCount('Other league dates'!L$10:L$27,$A498:$R498)","v":""}]
["  o","  x","  o","  x","  o","  x","  o","  x","  o","  x","  o","  x","  o","  x","  o","  x--","--x","  o","J",null,{"$f":"ClashCount('Other league dates'!J$10:J$27,$A499:$R499)","v":""},{"$f":"ClashCount('Other league dates'!K$10:K$27,$A499:$R499)","v":""},{"$f":"ClashCount('Other league dates'!L$10:L$27,$A499:$R499)","v":""}]
[]
["Fit:","08rraa"]
[]
["10WNC"]
[]
["AJ","HA","AF","DA","AB","IA","AG","EA","AC","JA","AH","FA","AD","BA","AI","GA","AE","CA"]
["CH","FC","CD","BC","CI","GC","CE","CJ","JB","HC","CF","DC","CB","IC","CG","EC","JC","BJ"]
["EF","DE","EB","IE","EG","EJ","JD","BD","HE","FE","ED","BE","EI","GE","JE","DJ","DB","EH"]
["GD","BG","GI","GJ","HD","BH","FB","GH","FG","DG","GB","IG","JG","DH","HB","BF","HG","GF"]
["IB","JI","JH","FH","JF","DF","HI","IF","DI","BI","IJ","HJ","HF","FJ","FD","IH","FI","ID"]
[1,2,3,4,5,6,7,8,9,10,11,12,13,14,15,16,17,18]
[null,null,null,null,null,null,null,null,null,1,2,3,4,5,6,7,8,9,null,"Numbers on Warrington/N.Cheshire web site"]
["  o","  x","  o","  x","  o","  x","  o","  x","  o","  x","  o","  x","  o","  x","  o","  x","  o","  x","A",1,{"$f":"ClashCount('Other league dates'!J$10:J$27,$A512:$R512)","v":""},{"$f":"ClashCount('Other league dates'!K$10:K$27,$A512:$R512)","v":""},{"$f":"ClashCount('Other league dates'!L$10:L$27,$A512:$R512)","v":""}]
["  x","  o","  x","  o","  x","  o","  x","  o","  x","  o","  x","  o","  x","  o","  x","  o","  x","  o","B",6,{"$f":"ClashCount('Other league dates'!J$10:J$27,$A513:$R513)","v":""},{"$f":"ClashCount('Other league dates'!K$10:K$27,$A513:$R513)","v":""},{"$f":"ClashCount('Other league dates'!L$10:L$27,$A513:$R513)","v":""}]
["  o","  x","  o","  x","  o","  x","  o--","--o","  x--","--x","  o","  x","  o","  x","  o","  x--","--x","  o","C",2,{"$f":"ClashCount('Other league dates'!J$10:J$27,$A514:$R514)","v":""},{"$f":"ClashCount('Other league dates'!K$10:K$27,$A514:$R514)","v":""},{"$f":"ClashCount('Other league dates'!L$10:L$27,$A514:$R514)","v":""}]
["  x","  o","  x","  o","  x","  o","  x--","--x","  o--","--o","  x","  o","  x","  o","  x","  o--","--o","  x","D",7,{"$f":"ClashCount('Other league dates'!J$10:J$27,$A515:$R515)","v":""},{"$f":"ClashCount('Other league dates'!K$10:K$27,$A515:$R515)","v":""},{"$f":"ClashCount('Other league dates'!L$10:L$27,$A515:$R515)","v":""}]
["  o","  x","  o","  x","  o--","--o","  x","  o","  x--","--x","  o","  x","  o","  x--","--x","  o","  x","  o","E",3,{"$f":"ClashCount('Other league dates'!J$10:J$27,$A516:$R516)","v":""},{"$f":"ClashCount('Other league dates'!K$10:K$27,$A516:$R516)","v":""},{"$f":"ClashCount('Other league dates'!L$10:L$27,$A516:$R516)","v":""}]
["  x","  o","  x","  o","  x--","--x","  o","  x","  o--","--o","  x","  o","  x","  o--","--o","  x","  o","  x","F",8,{"$f":"ClashCount('Other league dates'!J$10:J$27,$A517:$R517)","v":""},{"$f":"ClashCount('Other league dates'!K$10:K$27,$A517:$R517)","v":""},{"$f":"ClashCount('Other league dates'!L$10:L$27,$A517:$R517)","v":""}]
["  o","  x","  o--","--o","  x","  o","  x","  o","  x--","--x","  o","  x--","--x","  o","  x","  o","  x","  o","G",4,{"$f":"ClashCount('Other league dates'!J$10:J$27,$A518:$R518)","v":""},{"$f":"ClashCount('Other league dates'!K$10:K$27,$A518:$R518)","v":""},{"$f":"ClashCount('Other league dates'!L$10:L$27,$A518:$R518)","v":""}]
["  x","  o","  x--","--x","  o","  x","  o","  x","  o--","--o","  x","  o--","--o","  x","  o","  x","  o","  x","H",9,{"$f":"ClashCount('Other league dates'!J$10:J$27,$A519:$R519)","v":""},{"$f":"ClashCount('Other league dates'!K$10:K$27,$A519:$R519)","v":""},{"$f":"ClashCount('Other league dates'!L$10:L$27,$A519:$R519)","v":""}]
["  o","  x--","--x","  o","  x","  o","  x","  o","  x--","--x","  o--","--o","  x","  o","  x","  o","  x","  o","I",5,{"$f":"ClashCount('Other league dates'!J$10:J$27,$A520:$R520)","v":""},{"$f":"ClashCount('Other league dates'!K$10:K$27,$A520:$R520)","v":""},{"$f":"ClashCount('Other league dates'!L$10:L$27,$A520:$R520)","v":""}]
["  x","  o--","--o","  x","  o","  x","  o","  x","  o--","--o","  x--","--x","  o","  x","  o","  x","  o","  x","J",10,{"$f":"ClashCount('Other league dates'!J$10:J$27,$A521:$R521)","v":""},{"$f":"ClashCount('Other league dates'!K$10:K$27,$A521:$R521)","v":""},{"$f":"ClashCount('Other league dates'!L$10:L$27,$A521:$R521)","v":""}]
[]
["Fit:","08WNC"]
[]
["10Berger"]
[]
["IB","BJ","GB","BH","EB","BF","CB","BD","AB","BA","DB","BC","FB","BE","HB","BG","JB","BI"]
["GD","HA","EI","FJ","CG","DH","AE","IF","JC","CJ","FI","EA","HD","GC","JF","IE","AH","DG"]
["EF","FC","CD","DA","AI","IJ","JG","GH","HE","EH","HG","GJ","JI","IA","AD","DC","CF","FE"]
["CH","DE","AF","IC","JD","GA","HI","EJ","FG","GF","JE","IH","AG","DJ","CI","FA","ED","HC"]
["AJ","IG","JH","GE","HF","EC","FD","CA","DI","ID","AC","DF","CE","FH","EG","HJ","GI","JA"]
[1,2,3,4,5,6,7,8,9,10,11,12,13,14,15,16,17,18]
["RFx",null,null,null,null,null,null,null,null,9,8,7,6,5,4,3,2,1]
["  o","  x","  o","  x","  o","  x","  o","  x","  o","  x","  o","  x","  o","  x","  o","  x","  o","  x","A",null,{"$f":"ClashCount('Other league dates'!J$10:J$27,$A534:$R534)","v":""},{"$f":"ClashCount('Other league dates'!K$10:K$27,$A534:$R534)","v":""},{"$f":"ClashCount('Other league dates'!L$10:L$27,$A534:$R534)","v":""}]
["  x","  o","  x","  o","  x","  o","  x","  o","  x","  o","  x","  o","  x","  o","  x","  o","  x","  o","B",null,{"$f":"ClashCount('Other league dates'!J$10:J$27,$A535:$R535)","v":""},{"$f":"ClashCount('Other league dates'!K$10:K$27,$A535:$R535)","v":""},{"$f":"ClashCount('Other league dates'!L$10:L$27,$A535:$R535)","v":""}]
["  o","  x","  o","  x","  o","  x","  o--","--o","  x","  o","  x--","--x","  o","  x","  o","  x","  o","  x","C",null,{"$f":"ClashCount('Other league dates'!J$10:J$27,$A536:$R536)","v":""},{"$f":"ClashCount('Other league dates'!K$10:K$27,$A536:$R536)","v":""},{"$f":"ClashCount('Other league dates'!L$10:L$27,$A536:$R536)","v":""}]
["  x","  o","  x","  o","  x","  o","  x--","--x","  o","  x","  o--","--o","  x","  o","  x","  o","  x","  o","D",null,{"$f":"ClashCount('Other league dates'!J$10:J$27,$A537:$R537)","v":""},{"$f":"ClashCount('Other league dates'!K$10:K$27,$A537:$R537)","v":""},{"$f":"ClashCount('Other league dates'!L$10:L$27,$A537:$R537)","v":""}]
["  o","  x","  o","  x","  o--","--o","  x","  o","  x","  o","  x","  o","  x--","--x","  o","  x","  o","  x","E",null,{"$f":"ClashCount('Other league dates'!J$10:J$27,$A538:$R538)","v":""},{"$f":"ClashCount('Other league dates'!K$10:K$27,$A538:$R538)","v":""},{"$f":"ClashCount('Other league dates'!L$10:L$27,$A538:$R538)","v":""}]
["  x","  o","  x","  o","  x--","--x","  o","  x","  o","  x","  o","  x","  o--","--o","  x","  o","  x","  o","F",null,{"$f":"ClashCount('Other league dates'!J$10:J$27,$A539:$R539)","v":""},{"$f":"ClashCount('Other league dates'!K$10:K$27,$A539:$R539)","v":""},{"$f":"ClashCount('Other league dates'!L$10:L$27,$A539:$R539)","v":""}]
["  o","  x","  o--","--o","  x","  o","  x","  o","  x","  o","  x","  o","  x","  o","  x--","--x","  o","  x","G",null,{"$f":"ClashCount('Other league dates'!J$10:J$27,$A540:$R540)","v":""},{"$f":"ClashCount('Other league dates'!K$10:K$27,$A540:$R540)","v":""},{"$f":"ClashCount('Other league dates'!L$10:L$27,$A540:$R540)","v":""}]
["  x","  o","  x--","--x","  o","  x","  o","  x","  o","  x","  o","  x","  o","  x","  o--","--o","  x","  o","H",null,{"$f":"ClashCount('Other league dates'!J$10:J$27,$A541:$R541)","v":""},{"$f":"ClashCount('Other league dates'!K$10:K$27,$A541:$R541)","v":""},{"$f":"ClashCount('Other league dates'!L$10:L$27,$A541:$R541)","v":""}]
["  o--","--o","  x","  o","  x","  o","  x","  o","  x","  o","  x","  o","  x","  o","  x","  o","  x--","--x","I",null,{"$f":"ClashCount('Other league dates'!J$10:J$27,$A542:$R542)","v":""},{"$f":"ClashCount('Other league dates'!K$10:K$27,$A542:$R542)","v":""},{"$f":"ClashCount('Other league dates'!L$10:L$27,$A542:$R542)","v":""}]
["  x--","--x","  o","  x","  o","  x","  o","  x","  o","  x","  o","  x","  o","  x","  o","  x","  o--","--o","J",null,{"$f":"ClashCount('Other league dates'!J$10:J$27,$A543:$R543)","v":""},{"$f":"ClashCount('Other league dates'!K$10:K$27,$A543:$R543)","v":""},{"$f":"ClashCount('Other league dates'!L$10:L$27,$A543:$R543)","v":""}]
[]
["Fit:","04Berger",null,"06Berger",null,"08Berger",null,"12Berger",null,"14Berger",null,"16Berger",null,"18Berger"]
[]
["12aaaa"]
[]
["AJ","BI","AF","BG","AK","BE","AG","BC","AC","BA","BK","BL","AH","BJ","AD","BH","AI","BF","AE","BD","AB","AL"]
["CH","DE","CD","DA","CI","DJ","CE","DF","DB","CL","DI","DG","CF","DC","CK","DL","CG","DH","CB","CA","DK","CJ"]
["EF","FC","EK","FL","EG","FH","FB","EA","FK","EJ","FG","FE","ED","FA","EI","FJ","EB","EC","FD","EL","FI","EH"]
["GD","HA","GI","HJ","HB","GC","HD","GL","HI","GH","HE","HC","GK","HL","GB","GE","HF","GA","HK","GJ","HG","GF"]
["IK","JL","JB","IE","JF","IA","JK","IJ","JG","IF","JC","JA","IB","IG","JH","IC","JD","IL","JI","IH","JE","ID"]
["LB","KG","LH","KC","LD","KL","LI","KH","LE","KD","LA","KI","LJ","KE","LF","KA","LK","KJ","LG","KF","LC","KB"]
[1,2,3,4,5,6,7,8,9,10,11,12,13,14,15,16,17,18,19,20,21,22]
["RFx",null,null,null,null,null,null,null,null,null,null,1,2,3,4,5,6,7,8,9,10,11]
["  o","  x","  o","  x","  o","  x","  o","  x","  o","  x--","--x--","--x","  o","  x","  o","  x","  o","  x","  o","  x","  o--","--o","A",null,{"$f":"ClashCount('Other league dates'!J$8:J$29,$A557:$V557)","v":""},{"$f":"ClashCount('Other league dates'!K$8:K$29,$A557:$V557)","v":""},{"$f":"ClashCount('Other league dates'!L$8:L$29,$A557:$V557)","v":""}]
["  x","  o","  x","  o","  x","  o","  x","  o","  x","  o--","--o--","--o","  x","  o","  x","  o","  x","  o","  x","  o","  x--","--x","B",null,{"$f":"ClashCount('Other league dates'!J$8:J$29,$A558:$V558)","v":""},{"$f":"ClashCount('Other league dates'!K$8:K$29,$A558:$V558)","v":""},{"$f":"ClashCount('Other league dates'!L$8:L$29,$A558:$V558)","v":""}]
["  o","  x","  o","  x","  o","  x","  o","  x--","--x","  o","  x--","--x","  o","  x","  o","  x","  o","  x","  o--","--o","  x","  o","C",null,{"$f":"ClashCount('Other league dates'!J$8:J$29,$A559:$V559)","v":""},{"$f":"ClashCount('Other league dates'!K$8:K$29,$A559:$V559)","v":""},{"$f":"ClashCount('Other league dates'!L$8:L$29,$A559:$V559)","v":""}]
["  x","  o","  x","  o","  x","  o","  x","  o--","--o","  x","  o--","--o","  x","  o","  x","  o","  x","  o","  x--","--x","  o","  x","D",null,{"$f":"ClashCount('Other league dates'!J$8:J$29,$A560:$V560)","v":""},{"$f":"ClashCount('Other league dates'!K$8:K$29,$A560:$V560)","v":""},{"$f":"ClashCount('Other league dates'!L$8:L$29,$A560:$V560)","v":""}]
["  o","  x","  o","  x","  o","  x--","--x","  o","  x","  o","  x--","--x","  o","  x","  o","  x","  o--","--o","  x","  o","  x","  o","E",null,{"$f":"ClashCount('Other league dates'!J$8:J$29,$A561:$V561)","v":""},{"$f":"ClashCount('Other league dates'!K$8:K$29,$A561:$V561)","v":""},{"$f":"ClashCount('Other league dates'!L$8:L$29,$A561:$V561)","v":""}]
["  x","  o","  x","  o","  x","  o--","--o","  x","  o","  x","  o--","--o","  x","  o","  x","  o","  x--","--x","  o","  x","  o","  x","F",null,{"$f":"ClashCount('Other league dates'!J$8:J$29,$A562:$V562)","v":""},{"$f":"ClashCount('Other league dates'!K$8:K$29,$A562:$V562)","v":""},{"$f":"ClashCount('Other league dates'!L$8:L$29,$A562:$V562)","v":""}]
["  o","  x","  o","  x--","--x","  o","  x","  o","  x","  o","  x--","--x","  o","  x","  o--","--o","  x","  o","  x","  o","  x","  o","G",null,{"$f":"ClashCount('Other league dates'!J$8:J$29,$A563:$V563)","v":""},{"$f":"ClashCount('Other league dates'!K$8:K$29,$A563:$V563)","v":""},{"$f":"ClashCount('Other league dates'!L$8:L$29,$A563:$V563)","v":""}]
["  x","  o","  x","  o--","--o","  x","  o","  x","  o","  x","  o--","--o","  x","  o","  x--","--x","  o","  x","  o","  x","  o","  x","H",null,{"$f":"ClashCount('Other league dates'!J$8:J$29,$A564:$V564)","v":""},{"$f":"ClashCount('Other league dates'!K$8:K$29,$A564:$V564)","v":""},{"$f":"ClashCount('Other league dates'!L$8:L$29,$A564:$V564)","v":""}]
["  o","  x--","--x","  o","  x","  o","  x","  o","  x","  o","  x--","--x","  o--","--o","  x","  o","  x","  o","  x","  o","  x","  o","I",null,{"$f":"ClashCount('Other league dates'!J$8:J$29,$A565:$V565)","v":""},{"$f":"ClashCount('Other league dates'!K$8:K$29,$A565:$V565)","v":""},{"$f":"ClashCount('Other league dates'!L$8:L$29,$A565:$V565)","v":""}]
["  x","  o--","--o","  x","  o","  x","  o","  x","  o","  x","  o--","--o","  x--","--x","  o","  x","  o","  x","  o","  x","  o","  x","J",null,{"$f":"ClashCount('Other league dates'!J$8:J$29,$A566:$V566)","v":""},{"$f":"ClashCount('Other league dates'!K$8:K$29,$A566:$V566)","v":""},{"$f":"ClashCount('Other league dates'!L$8:L$29,$A566:$V566)","v":""}]
["  x","  o","  x","  o","  x","  o","  x","  o","  x","  o","  x","  o","  x","  o","  x","  o","  x","  o","  x","  o","  x","  o","K",null,{"$f":"ClashCount('Other league dates'!J$8:J$29,$A567:$V567)","v":""},{"$f":"ClashCount('Other league dates'!K$8:K$29,$A567:$V567)","v":""},{"$f":"ClashCount('Other league dates'!L$8:L$29,$A567:$V567)","v":""}]
["  o","  x","  o","  x","  o","  x","  o","  x","  o","  x","  o","  x","  o","  x","  o","  x","  o","  x","  o","  x","  o","  x","L",null,{"$f":"ClashCount('Other league dates'!J$8:J$29,$A568:$V568)","v":""},{"$f":"ClashCount('Other league dates'!K$8:K$29,$A568:$V568)","v":""},{"$f":"ClashCount('Other league dates'!L$8:L$29,$A568:$V568)","v":""}]
[]
["Fit:","12asm",null,"14acaa"]
[]
["12acaa"]
[]
["AJ","BE","AK","BG","AB","BH","AI","BJ","AC","BF","BK","BC","AD","BA","AF","BL","AE","BD","AG","AL","BI","AH"]
["CH","DG","CB","DA","CD","DJ","CE","DH","DB","CL","DI","DL","CK","DC","CI","DF","CG","CA","DK","CJ","DE","CF"]
["ED","FC","EF","FJ","EG","FA","FD","EA","FK","EJ","FG","FE","EI","FH","EK","EC","FI","EL","FB","EH","FL","EB"]
["GK","HA","GI","HL","HF","GL","HK","GC","HG","GA","HE","HJ","GB","GE","HB","GJ","HD","GH","HI","GF","HC","GD"]
["IB","JL","JH","IE","JK","IC","JG","IF","JI","IH","JC","IG","JF","IL","JD","IA","JB","IJ","JE","ID","JA","IK"]
["LF","KI","LD","KC","LI","KE","LB","KL","LE","KD","LA","KA","LH","KJ","LG","KH","LK","KF","LC","KB","KG","LJ"]
[1,2,3,4,5,6,7,8,9,10,11,12,13,14,15,16,17,18,19,20,21,22]
["RFx",null,null,null,null,null,null,null,null,null,null,3,4,5,6,7,8,9,10,11,1,2]
["  o","  x","  o","  x","  o","  x","  o","  x","  o","  x--","--x--","--x","  o","  x","  o","  x","  o","  x","  o--","--o","  x","  o","A",null,{"$f":"ClashCount('Other league dates'!J$8:J$29,$A582:$V582)","v":""},{"$f":"ClashCount('Other league dates'!K$8:K$29,$A582:$V582)","v":""},{"$f":"ClashCount('Other league dates'!L$8:L$29,$A582:$V582)","v":""}]
["  x","  o","  x","  o","  x","  o","  x","  o","  x","  o--","--o--","--o","  x","  o","  x","  o","  x","  o","  x--","--x","  o","  x","B",null,{"$f":"ClashCount('Other league dates'!J$8:J$29,$A583:$V583)","v":""},{"$f":"ClashCount('Other league dates'!K$8:K$29,$A583:$V583)","v":""},{"$f":"ClashCount('Other league dates'!L$8:L$29,$A583:$V583)","v":""}]
["  o","  x","  o","  x","  o","  x","  o","  x--","--x","  o","  x--","--x","  o","  x","  o","  x","  o--","--o","  x","  o","  x","  o","C",null,{"$f":"ClashCount('Other league dates'!J$8:J$29,$A584:$V584)","v":""},{"$f":"ClashCount('Other league dates'!K$8:K$29,$A584:$V584)","v":""},{"$f":"ClashCount('Other league dates'!L$8:L$29,$A584:$V584)","v":""}]
["  x","  o","  x","  o","  x","  o","  x","  o--","--o","  x","  o--","--o","  x","  o","  x","  o","  x--","--x","  o","  x","  o","  x","D",null,{"$f":"ClashCount('Other league dates'!J$8:J$29,$A585:$V585)","v":""},{"$f":"ClashCount('Other league dates'!K$8:K$29,$A585:$V585)","v":""},{"$f":"ClashCount('Other league dates'!L$8:L$29,$A585:$V585)","v":""}]
["  o","  x","  o","  x","  o","  x--","--x","  o","  x","  o","  x--","--x","  o","  x","  o--","--o","  x","  o","  x","  o","  x","  o","E",null,{"$f":"ClashCount('Other league dates'!J$8:J$29,$A586:$V586)","v":""},{"$f":"ClashCount('Other league dates'!K$8:K$29,$A586:$V586)","v":""},{"$f":"ClashCount('Other league dates'!L$8:L$29,$A586:$V586)","v":""}]
["  x","  o","  x","  o","  x","  o--","--o","  x","  o","  x","  o--","--o","  x","  o","  x--","--x","  o","  x","  o","  x","  o","  x","F",null,{"$f":"ClashCount('Other league dates'!J$8:J$29,$A587:$V587)","v":""},{"$f":"ClashCount('Other league dates'!K$8:K$29,$A587:$V587)","v":""},{"$f":"ClashCount('Other league dates'!L$8:L$29,$A587:$V587)","v":""}]
["  o","  x","  o","  x--","--x","  o","  x","  o","  x","  o","  x--","--x","  o--","--o","  x","  o","  x","  o","  x","  o","  x","  o","G",null,{"$f":"ClashCount('Other league dates'!J$8:J$29,$A588:$V588)","v":""},{"$f":"ClashCount('Other league dates'!K$8:K$29,$A588:$V588)","v":""},{"$f":"ClashCount('Other league dates'!L$8:L$29,$A588:$V588)","v":""}]
["  x","  o","  x","  o--","--o","  x","  o","  x","  o","  x","  o--","--o","  x--","--x","  o","  x","  o","  x","  o","  x","  o","  x","H",null,{"$f":"ClashCount('Other league dates'!J$8:J$29,$A589:$V589)","v":""},{"$f":"ClashCount('Other league dates'!K$8:K$29,$A589:$V589)","v":""},{"$f":"ClashCount('Other league dates'!L$8:L$29,$A589:$V589)","v":""}]
["  o","  x--","--x","  o","  x","  o","  x","  o","  x","  o","  x","  o","  x","  o","  x","  o","  x","  o","  x","  o","  x","  o","I",null,{"$f":"ClashCount('Other league dates'!J$8:J$29,$A590:$V590)","v":""},{"$f":"ClashCount('Other league dates'!K$8:K$29,$A590:$V590)","v":""},{"$f":"ClashCount('Other league dates'!L$8:L$29,$A590:$V590)","v":""}]
["  x","  o--","--o","  x","  o","  x","  o","  x","  o","  x","  o","  x","  o","  x","  o","  x","  o","  x","  o","  x","  o","  x","J",null,{"$f":"ClashCount('Other league dates'!J$8:J$29,$A591:$V591)","v":""},{"$f":"ClashCount('Other league dates'!K$8:K$29,$A591:$V591)","v":""},{"$f":"ClashCount('Other league dates'!L$8:L$29,$A591:$V591)","v":""}]
["  x","  o","  x","  o","  x","  o","  x","  o","  x","  o","  x","  o","  x","  o","  x","  o","  x","  o","  x","  o--","--o","  x","K",null,{"$f":"ClashCount('Other league dates'!J$8:J$29,$A592:$V592)","v":""},{"$f":"ClashCount('Other league dates'!K$8:K$29,$A592:$V592)","v":""},{"$f":"ClashCount('Other league dates'!L$8:L$29,$A592:$V592)","v":""}]
["  o","  x","  o","  x","  o","  x","  o","  x","  o","  x","  o","  x","  o","  x","  o","  x","  o","  x","  o","  x--","--x","  o","L",null,{"$f":"ClashCount('Other league dates'!J$8:J$29,$A593:$V593)","v":""},{"$f":"ClashCount('Other league dates'!K$8:K$29,$A593:$V593)","v":""},{"$f":"ClashCount('Other league dates'!L$8:L$29,$A593:$V593)","v":""}]
[]
["Fit:","10aaaa"]
[]
["12akaa"]
[]
["AJ","BE","AK","BG","AB","BH","AI","BJ","AC","BF","BK","AL","BI","AH","BC","AD","BA","AF","BL","AE","BD","AG"]
["CH","DG","CB","DA","CD","DJ","CE","DH","DB","CL","DI","CJ","DE","CF","DL","CK","DC","CI","DF","CG","CA","DK"]
["ED","FC","EF","FJ","EG","FA","FD","EA","FK","EJ","FG","EH","FL","EB","FE","EI","GE","EK","EC","FI","EL","FB"]
["GK","HA","GI","HL","HF","GL","HK","GC","HG","GA","HE","GF","HC","GD","HJ","GB","FH","HB","GJ","HD","GH","HI"]
["IB","JL","JH","IE","JK","IC","JG","IF","JI","IH","JC","ID","JA","IK","IG","JF","IL","JD","IA","JB","IJ","JE"]
["LF","KI","LD","KC","LI","KE","LB","KL","LE","KD","LA","KB","KG","LJ","KA","LH","KJ","LG","KH","LK","KF","LC"]
[1,2,3,4,5,6,7,8,9,10,11,12,13,14,15,16,17,18,19,20,21,22]
["RFx",null,null,null,null,null,null,null,null,null,null,11,1,2,3,4,5,6,7,8,9,10]
["  o","  x","  o","  x","  o","  x","  o","  x","  o","  x--","--x","  o","  x","  o","  x","  o","  x","  o","  x","  o","  x","  o","A",null,{"$f":"ClashCount('Other league dates'!J$8:J$29,$A607:$V607)","v":""},{"$f":"ClashCount('Other league dates'!K$8:K$29,$A607:$V607)","v":""},{"$f":"ClashCount('Other league dates'!L$8:L$29,$A607:$V607)","v":""}]
["  x","  o","  x","  o","  x","  o","  x","  o","  x","  o--","--o","  x","  o","  x","  o","  x","  o","  x","  o","  x","  o","  x","B",null,{"$f":"ClashCount('Other league dates'!J$8:J$29,$A608:$V608)","v":""},{"$f":"ClashCount('Other league dates'!K$8:K$29,$A608:$V608)","v":""},{"$f":"ClashCount('Other league dates'!L$8:L$29,$A608:$V608)","v":""}]
["  o","  x","  o","  x","  o","  x","  o","  x--","--x","  o","  x","  o","  x","  o","  x","  o","  x","  o","  x","  o--","--o","  x","C",null,{"$f":"ClashCount('Other league dates'!J$8:J$29,$A609:$V609)","v":""},{"$f":"ClashCount('Other league dates'!K$8:K$29,$A609:$V609)","v":""},{"$f":"ClashCount('Other league dates'!L$8:L$29,$A609:$V609)","v":""}]
["  x","  o","  x","  o","  x","  o","  x","  o--","--o","  x","  o","  x","  o","  x","  o","  x","  o","  x","  o","  x--","--x","  o","D",null,{"$f":"ClashCount('Other league dates'!J$8:J$29,$A610:$V610)","v":""},{"$f":"ClashCount('Other league dates'!K$8:K$29,$A610:$V610)","v":""},{"$f":"ClashCount('Other league dates'!L$8:L$29,$A610:$V610)","v":""}]
["  o","  x","  o","  x","  o","  x--","--x","  o","  x","  o","  x","  o","  x","  o","  x","  o","  x","  o--","--o","  x","  o","  x","E",null,{"$f":"ClashCount('Other league dates'!J$8:J$29,$A611:$V611)","v":""},{"$f":"ClashCount('Other league dates'!K$8:K$29,$A611:$V611)","v":""},{"$f":"ClashCount('Other league dates'!L$8:L$29,$A611:$V611)","v":""}]
["  x","  o","  x","  o","  x","  o--","--o","  x","  o","  x","  o","  x","  o","  x","  o","  x","  o","  x--","--x","  o","  x","  o","F",null,{"$f":"ClashCount('Other league dates'!J$8:J$29,$A612:$V612)","v":""},{"$f":"ClashCount('Other league dates'!K$8:K$29,$A612:$V612)","v":""},{"$f":"ClashCount('Other league dates'!L$8:L$29,$A612:$V612)","v":""}]
["  o","  x","  o","  x--","--x","  o","  x","  o","  x","  o","  x","  o","  x","  o","  x","  o--","--o","  x","  o","  x","  o","  x","G",null,{"$f":"ClashCount('Other league dates'!J$8:J$29,$A613:$V613)","v":""},{"$f":"ClashCount('Other league dates'!K$8:K$29,$A613:$V613)","v":""},{"$f":"ClashCount('Other league dates'!L$8:L$29,$A613:$V613)","v":""}]
["  x","  o","  x","  o--","--o","  x","  o","  x","  o","  x","  o","  x","  o","  x","  o","  x--","--x","  o","  x","  o","  x","  o","H",null,{"$f":"ClashCount('Other league dates'!J$8:J$29,$A614:$V614)","v":""},{"$f":"ClashCount('Other league dates'!K$8:K$29,$A614:$V614)","v":""},{"$f":"ClashCount('Other league dates'!L$8:L$29,$A614:$V614)","v":""}]
["  o","  x--","--x","  o","  x","  o","  x","  o","  x","  o","  x","  o","  x","  o--","--o","  x","  o","  x","  o","  x","  o","  x","I",null,{"$f":"ClashCount('Other league dates'!J$8:J$29,$A615:$V615)","v":""},{"$f":"ClashCount('Other league dates'!K$8:K$29,$A615:$V615)","v":""},{"$f":"ClashCount('Other league dates'!L$8:L$29,$A615:$V615)","v":""}]
["  x","  o--","--o","  x","  o","  x","  o","  x","  o","  x","  o","  x","  o","  x--","--x","  o","  x","  o","  x","  o","  x","  o","J",null,{"$f":"ClashCount('Other league dates'!J$8:J$29,$A616:$V616)","v":""},{"$f":"ClashCount('Other league dates'!K$8:K$29,$A616:$V616)","v":""},{"$f":"ClashCount('Other league dates'!L$8:L$29,$A616:$V616)","v":""}]
["  x","  o","  x","  o","  x","  o","  x","  o","  x","  o","  x","  o--","--o","  x","  o","  x","  o","  x","  o","  x","  o","  x","K",null,{"$f":"ClashCount('Other league dates'!J$8:J$29,$A617:$V617)","v":""},{"$f":"ClashCount('Other league dates'!K$8:K$29,$A617:$V617)","v":""},{"$f":"ClashCount('Other league dates'!L$8:L$29,$A617:$V617)","v":""}]
["  o","  x","  o","  x","  o","  x","  o","  x","  o","  x","  o","  x--","--x","  o","  x","  o","  x","  o","  x","  o","  x","  o","L",null,{"$f":"ClashCount('Other league dates'!J$8:J$29,$A618:$V618)","v":""},{"$f":"ClashCount('Other league dates'!K$8:K$29,$A618:$V618)","v":""},{"$f":"ClashCount('Other league dates'!L$8:L$29,$A618:$V618)","v":""}]
[]
["Fit:","12akaaz",null,"14amba",null,"14ambax"]
[]
["12akaaz"]
[]
["LK","BG","JK","BC","HK","BL","FK","BH","DK","BD","BK","AL","BI","LJ","BE","JH","BA","HF","BJ","FD","BF","DB"]
["AJ","DE","LH","DA","JF","DJ","HD","DF","FB","CL","DI","CJ","DG","AH","DC","LF","DL","JD","DH","HB","CA","FI"]
["CH","FC","AF","FL","LD","FH","JB","EA","HI","EJ","FG","EH","FE","CF","FA","AD","FJ","LB","EC","JI","EL","HG"]
["EF","HA","CD","HJ","AB","GC","LI","GL","JG","GH","HE","GF","HC","ED","HL","CB","GE","AI","GA","LG","GJ","JE"]
["GD","JL","EB","IE","CI","IA","AG","IJ","LE","IF","JC","ID","JA","GB","IG","EI","IC","CG","IL","AE","IH","LC"]
["IB","KI","GI","KG","EG","KE","CE","KC","AC","KA","LA","KB","KL","IK","KJ","GK","KH","EK","KF","CK","KD","AK"]
[1,2,3,4,5,6,7,8,9,10,11,12,13,14,15,16,17,18,19,20,21,22]
["RFx",null,null,null,null,null,null,null,null,null,null,11,1,2,3,4,5,6,7,8,9,10]
["  o","  x","  o","  x","  o","  x","  o","  x","  o","  x--","--x","  o","  x","  o","  x","  o","  x","  o","  x","  o","  x","  o","A",null,{"$f":"ClashCount('Other league dates'!J$8:J$29,$A632:$V632)","v":""},{"$f":"ClashCount('Other league dates'!K$8:K$29,$A632:$V632)","v":""},{"$f":"ClashCount('Other league dates'!L$8:L$29,$A632:$V632)","v":""}]
["  x","  o","  x","  o","  x","  o","  x","  o","  x","  o--","--o","  x","  o","  x","  o","  x","  o","  x","  o","  x","  o","  x","B",null,{"$f":"ClashCount('Other league dates'!J$8:J$29,$A633:$V633)","v":""},{"$f":"ClashCount('Other league dates'!K$8:K$29,$A633:$V633)","v":""},{"$f":"ClashCount('Other league dates'!L$8:L$29,$A633:$V633)","v":""}]
["  o","  x","  o","  x","  o","  x","  o","  x--","--x","  o","  x","  o","  x","  o","  x","  o","  x","  o","  x","  o--","--o","  x","C",null,{"$f":"ClashCount('Other league dates'!J$8:J$29,$A634:$V634)","v":""},{"$f":"ClashCount('Other league dates'!K$8:K$29,$A634:$V634)","v":""},{"$f":"ClashCount('Other league dates'!L$8:L$29,$A634:$V634)","v":""}]
["  x","  o","  x","  o","  x","  o","  x","  o--","--o","  x","  o","  x","  o","  x","  o","  x","  o","  x","  o","  x--","--x","  o","D",null,{"$f":"ClashCount('Other league dates'!J$8:J$29,$A635:$V635)","v":""},{"$f":"ClashCount('Other league dates'!K$8:K$29,$A635:$V635)","v":""},{"$f":"ClashCount('Other league dates'!L$8:L$29,$A635:$V635)","v":""}]
["  o","  x","  o","  x","  o","  x--","--x","  o","  x","  o","  x","  o","  x","  o","  x","  o","  x","  o--","--o","  x","  o","  x","E",null,{"$f":"ClashCount('Other league dates'!J$8:J$29,$A636:$V636)","v":""},{"$f":"ClashCount('Other league dates'!K$8:K$29,$A636:$V636)","v":""},{"$f":"ClashCount('Other league dates'!L$8:L$29,$A636:$V636)","v":""}]
["  x","  o","  x","  o","  x","  o--","--o","  x","  o","  x","  o","  x","  o","  x","  o","  x","  o","  x--","--x","  o","  x","  o","F",null,{"$f":"ClashCount('Other league dates'!J$8:J$29,$A637:$V637)","v":""},{"$f":"ClashCount('Other league dates'!K$8:K$29,$A637:$V637)","v":""},{"$f":"ClashCount('Other league dates'!L$8:L$29,$A637:$V637)","v":""}]
["  o","  x","  o","  x--","--x","  o","  x","  o","  x","  o","  x","  o","  x","  o","  x","  o--","--o","  x","  o","  x","  o","  x","G",null,{"$f":"ClashCount('Other league dates'!J$8:J$29,$A638:$V638)","v":""},{"$f":"ClashCount('Other league dates'!K$8:K$29,$A638:$V638)","v":""},{"$f":"ClashCount('Other league dates'!L$8:L$29,$A638:$V638)","v":""}]
["  x","  o","  x","  o--","--o","  x","  o","  x","  o","  x","  o","  x","  o","  x","  o","  x--","--x","  o","  x","  o","  x","  o","H",null,{"$f":"ClashCount('Other league dates'!J$8:J$29,$A639:$V639)","v":""},{"$f":"ClashCount('Other league dates'!K$8:K$29,$A639:$V639)","v":""},{"$f":"ClashCount('Other league dates'!L$8:L$29,$A639:$V639)","v":""}]
["  o","  x--","--x","  o","  x","  o","  x","  o","  x","  o","  x","  o","  x","  o--","--o","  x","  o","  x","  o","  x","  o","  x","I",null,{"$f":"ClashCount('Other league dates'!J$8:J$29,$A640:$V640)","v":""},{"$f":"ClashCount('Other league dates'!K$8:K$29,$A640:$V640)","v":""},{"$f":"ClashCount('Other league dates'!L$8:L$29,$A640:$V640)","v":""}]
["  x","  o--","--o","  x","  o","  x","  o","  x","  o","  x","  o","  x","  o","  x--","--x","  o","  x","  o","  x","  o","  x","  o","J",null,{"$f":"ClashCount('Other league dates'!J$8:J$29,$A641:$V641)","v":""},{"$f":"ClashCount('Other league dates'!K$8:K$29,$A641:$V641)","v":""},{"$f":"ClashCount('Other league dates'!L$8:L$29,$A641:$V641)","v":""}]
["  x","  o","  x","  o","  x","  o","  x","  o","  x","  o","  x","  o--","--o","  x","  o","  x","  o","  x","  o","  x","  o","  x","K",null,{"$f":"ClashCount('Other league dates'!J$8:J$29,$A642:$V642)","v":""},{"$f":"ClashCount('Other league dates'!K$8:K$29,$A642:$V642)","v":""},{"$f":"ClashCount('Other league dates'!L$8:L$29,$A642:$V642)","v":""}]
["  o","  x","  o","  x","  o","  x","  o","  x","  o","  x","  o","  x--","--x","  o","  x","  o","  x","  o","  x","  o","  x","  o","L",null,{"$f":"ClashCount('Other league dates'!J$8:J$29,$A643:$V643)","v":""},{"$f":"ClashCount('Other league dates'!K$8:K$29,$A643:$V643)","v":""},{"$f":"ClashCount('Other league dates'!L$8:L$29,$A643:$V643)","v":""}]
[]
["Fit:","12akaa",null,"14amba",null,"14ambax"]
[]
["12akba"]
[]
["AJ","BE","AK","BG","AB","BH","AI","BJ","AC","BF","BK","AL","BC","AD","BA","AF","BL","AE","BD","AG","AH","BI"]
["CH","DG","CB","DA","CD","DJ","CE","DH","DB","CL","DI","CJ","DL","CK","DC","CI","DF","CG","CA","DK","CF","DE"]
["ED","FC","EF","FJ","EG","FA","FD","EA","FK","EJ","FG","EH","FE","EI","FH","EK","EC","FI","EL","FB","EB","FL"]
["GK","HA","GI","HL","HF","GL","HK","GC","HG","GA","HE","GF","HJ","GB","GE","HB","GJ","HD","GH","HI","GD","HC"]
["IB","JL","JH","IE","JK","IC","JG","IF","JI","IH","JC","ID","IG","JF","IL","JD","IA","JB","IJ","JE","IK","JA"]
["LF","KI","LD","KC","LI","KE","LB","KL","LE","KD","LA","KB","KA","LH","KJ","LG","KH","LK","KF","LC","LJ","KG"]
[1,2,3,4,5,6,7,8,9,10,11,12,13,14,15,16,17,18,19,20,21,22]
["RFx",null,null,null,null,null,null,null,null,null,null,11,3,4,5,6,7,8,9,10,2,1]
["  o","  x","  o","  x","  o","  x","  o","  x","  o","  x--","--x","  o","  x","  o","  x","  o","  x","  o","  x","  o--","--o","  x","A",null,{"$f":"ClashCount('Other league dates'!J$8:J$29,$A657:$V657)","v":""},{"$f":"ClashCount('Other league dates'!K$8:K$29,$A657:$V657)","v":""},{"$f":"ClashCount('Other league dates'!L$8:L$29,$A657:$V657)","v":""}]
["  x","  o","  x","  o","  x","  o","  x","  o","  x","  o--","--o","  x","  o","  x","  o","  x","  o","  x","  o","  x--","--x","  o","B",null,{"$f":"ClashCount('Other league dates'!J$8:J$29,$A658:$V658)","v":""},{"$f":"ClashCount('Other league dates'!K$8:K$29,$A658:$V658)","v":""},{"$f":"ClashCount('Other league dates'!L$8:L$29,$A658:$V658)","v":""}]
["  o","  x","  o","  x","  o","  x","  o","  x--","--x","  o","  x","  o","  x","  o","  x","  o","  x","  o--","--o","  x","  o","  x","C",null,{"$f":"ClashCount('Other league dates'!J$8:J$29,$A659:$V659)","v":""},{"$f":"ClashCount('Other league dates'!K$8:K$29,$A659:$V659)","v":""},{"$f":"ClashCount('Other league dates'!L$8:L$29,$A659:$V659)","v":""}]
["  x","  o","  x","  o","  x","  o","  x","  o--","--o","  x","  o","  x","  o","  x","  o","  x","  o","  x--","--x","  o","  x","  o","D",null,{"$f":"ClashCount('Other league dates'!J$8:J$29,$A660:$V660)","v":""},{"$f":"ClashCount('Other league dates'!K$8:K$29,$A660:$V660)","v":""},{"$f":"ClashCount('Other league dates'!L$8:L$29,$A660:$V660)","v":""}]
["  o","  x","  o","  x","  o","  x--","--x","  o","  x","  o","  x","  o","  x","  o","  x","  o--","--o","  x","  o","  x","  o","  x","E",null,{"$f":"ClashCount('Other league dates'!J$8:J$29,$A661:$V661)","v":""},{"$f":"ClashCount('Other league dates'!K$8:K$29,$A661:$V661)","v":""},{"$f":"ClashCount('Other league dates'!L$8:L$29,$A661:$V661)","v":""}]
["  x","  o","  x","  o","  x","  o--","--o","  x","  o","  x","  o","  x","  o","  x","  o","  x--","--x","  o","  x","  o","  x","  o","F",null,{"$f":"ClashCount('Other league dates'!J$8:J$29,$A662:$V662)","v":""},{"$f":"ClashCount('Other league dates'!K$8:K$29,$A662:$V662)","v":""},{"$f":"ClashCount('Other league dates'!L$8:L$29,$A662:$V662)","v":""}]
["  o","  x","  o","  x--","--x","  o","  x","  o","  x","  o","  x","  o","  x","  o--","--o","  x","  o","  x","  o","  x","  o","  x","G",null,{"$f":"ClashCount('Other league dates'!J$8:J$29,$A663:$V663)","v":""},{"$f":"ClashCount('Other league dates'!K$8:K$29,$A663:$V663)","v":""},{"$f":"ClashCount('Other league dates'!L$8:L$29,$A663:$V663)","v":""}]
["  x","  o","  x","  o--","--o","  x","  o","  x","  o","  x","  o","  x","  o","  x--","--x","  o","  x","  o","  x","  o","  x","  o","H",null,{"$f":"ClashCount('Other league dates'!J$8:J$29,$A664:$V664)","v":""},{"$f":"ClashCount('Other league dates'!K$8:K$29,$A664:$V664)","v":""},{"$f":"ClashCount('Other league dates'!L$8:L$29,$A664:$V664)","v":""}]
["  o","  x--","--x","  o","  x","  o","  x","  o","  x","  o","  x","  o--","--o","  x","  o","  x","  o","  x","  o","  x","  o","  x","I",null,{"$f":"ClashCount('Other league dates'!J$8:J$29,$A665:$V665)","v":""},{"$f":"ClashCount('Other league dates'!K$8:K$29,$A665:$V665)","v":""},{"$f":"ClashCount('Other league dates'!L$8:L$29,$A665:$V665)","v":""}]
["  x","  o--","--o","  x","  o","  x","  o","  x","  o","  x","  o","  x--","--x","  o","  x","  o","  x","  o","  x","  o","  x","  o","J",null,{"$f":"ClashCount('Other league dates'!J$8:J$29,$A666:$V666)","v":""},{"$f":"ClashCount('Other league dates'!K$8:K$29,$A666:$V666)","v":""},{"$f":"ClashCount('Other league dates'!L$8:L$29,$A666:$V666)","v":""}]
["  x","  o","  x","  o","  x","  o","  x","  o","  x","  o","  x","  o--","--o","  x","  o","  x","  o","  x","  o","  x--","--x","  o","K",null,{"$f":"ClashCount('Other league dates'!J$8:J$29,$A667:$V667)","v":""},{"$f":"ClashCount('Other league dates'!K$8:K$29,$A667:$V667)","v":""},{"$f":"ClashCount('Other league dates'!L$8:L$29,$A667:$V667)","v":""}]
["  o","  x","  o","  x","  o","  x","  o","  x","  o","  x","  o","  x--","--x","  o","  x","  o","  x","  o","  x","  o--","--o","  x","L",null,{"$f":"ClashCount('Other league dates'!J$8:J$29,$A668:$V668)","v":""},{"$f":"ClashCount('Other league dates'!K$8:K$29,$A668:$V668)","v":""},{"$f":"ClashCount('Other league dates'!L$8:L$29,$A668:$V668)","v":""}]
[]
["Fit:","10aiaa",null,"10aiab"]
[]
["12akca"]
[]
["AJ","BE","AK","BG","AB","BH","AI","BJ","AC","BF","BK","AL","BA","AF","BL","AE","BD","AG","AH","BI","AD","BC"]
["CH","DG","CB","DA","CD","DJ","CE","DH","DB","CL","DI","CJ","DC","CI","DF","CG","CA","DK","CF","DE","CK","DL"]
["ED","FC","EF","FJ","EG","FA","FD","EA","FK","EJ","FG","EH","FH","EK","EC","FI","EL","FB","EB","FL","EI","FE"]
["GK","HA","GI","HL","HF","GL","HK","GC","HG","GA","HE","GF","GE","HB","GJ","HD","GH","HI","GD","HC","GB","HJ"]
["IB","JL","JH","IE","JK","IC","JG","IF","JI","IH","JC","ID","IL","JD","IA","JB","IJ","JE","IK","JA","JF","IG"]
["LF","KI","LD","KC","LI","KE","LB","KL","LE","KD","LA","KB","KJ","LG","KH","LK","KF","LC","LJ","KG","LH","KA"]
[1,2,3,4,5,6,7,8,9,10,11,12,13,14,15,16,17,18,19,20,21,22]
["RFx",null,null,null,null,null,null,null,null,null,null,11,5,6,7,8,9,10,2,1,4,3]
["  o","  x","  o","  x","  o","  x","  o","  x","  o","  x--","--x","  o","  x","  o","  x","  o","  x","  o--","--o","  x","  o","  x","A",null,{"$f":"ClashCount('Other league dates'!J$8:J$29,$A682:$V682)","v":""},{"$f":"ClashCount('Other league dates'!K$8:K$29,$A682:$V682)","v":""},{"$f":"ClashCount('Other league dates'!L$8:L$29,$A682:$V682)","v":""}]
["  x","  o","  x","  o","  x","  o","  x","  o","  x","  o--","--o","  x","  o","  x","  o","  x","  o","  x--","--x","  o","  x","  o","B",null,{"$f":"ClashCount('Other league dates'!J$8:J$29,$A683:$V683)","v":""},{"$f":"ClashCount('Other league dates'!K$8:K$29,$A683:$V683)","v":""},{"$f":"ClashCount('Other league dates'!L$8:L$29,$A683:$V683)","v":""}]
["  o","  x","  o","  x","  o","  x","  o","  x--","--x","  o","  x","  o","  x","  o","  x","  o--","--o","  x","  o","  x","  o","  x","C",null,{"$f":"ClashCount('Other league dates'!J$8:J$29,$A684:$V684)","v":""},{"$f":"ClashCount('Other league dates'!K$8:K$29,$A684:$V684)","v":""},{"$f":"ClashCount('Other league dates'!L$8:L$29,$A684:$V684)","v":""}]
["  x","  o","  x","  o","  x","  o","  x","  o--","--o","  x","  o","  x","  o","  x","  o","  x--","--x","  o","  x","  o","  x","  o","D",null,{"$f":"ClashCount('Other league dates'!J$8:J$29,$A685:$V685)","v":""},{"$f":"ClashCount('Other league dates'!K$8:K$29,$A685:$V685)","v":""},{"$f":"ClashCount('Other league dates'!L$8:L$29,$A685:$V685)","v":""}]
["  o","  x","  o","  x","  o","  x--","--x","  o","  x","  o","  x","  o","  x","  o--","--o","  x","  o","  x","  o","  x","  o","  x","E",null,{"$f":"ClashCount('Other league dates'!J$8:J$29,$A686:$V686)","v":""},{"$f":"ClashCount('Other league dates'!K$8:K$29,$A686:$V686)","v":""},{"$f":"ClashCount('Other league dates'!L$8:L$29,$A686:$V686)","v":""}]
["  x","  o","  x","  o","  x","  o--","--o","  x","  o","  x","  o","  x","  o","  x--","--x","  o","  x","  o","  x","  o","  x","  o","F",null,{"$f":"ClashCount('Other league dates'!J$8:J$29,$A687:$V687)","v":""},{"$f":"ClashCount('Other league dates'!K$8:K$29,$A687:$V687)","v":""},{"$f":"ClashCount('Other league dates'!L$8:L$29,$A687:$V687)","v":""}]
["  o","  x","  o","  x--","--x","  o","  x","  o","  x","  o","  x","  o--","--o","  x","  o","  x","  o","  x","  o","  x","  o","  x","G",null,{"$f":"ClashCount('Other league dates'!J$8:J$29,$A688:$V688)","v":""},{"$f":"ClashCount('Other league dates'!K$8:K$29,$A688:$V688)","v":""},{"$f":"ClashCount('Other league dates'!L$8:L$29,$A688:$V688)","v":""}]
["  x","  o","  x","  o--","--o","  x","  o","  x","  o","  x","  o","  x--","--x","  o","  x","  o","  x","  o","  x","  o","  x","  o","H",null,{"$f":"ClashCount('Other league dates'!J$8:J$29,$A689:$V689)","v":""},{"$f":"ClashCount('Other league dates'!K$8:K$29,$A689:$V689)","v":""},{"$f":"ClashCount('Other league dates'!L$8:L$29,$A689:$V689)","v":""}]
["  o","  x--","--x","  o","  x","  o","  x","  o","  x","  o","  x","  o--","--o","  x","  o","  x","  o","  x","  o","  x--","--x","  o","I",null,{"$f":"ClashCount('Other league dates'!J$8:J$29,$A690:$V690)","v":""},{"$f":"ClashCount('Other league dates'!K$8:K$29,$A690:$V690)","v":""},{"$f":"ClashCount('Other league dates'!L$8:L$29,$A690:$V690)","v":""}]
["  x","  o--","--o","  x","  o","  x","  o","  x","  o","  x","  o","  x--","--x","  o","  x","  o","  x","  o","  x","  o--","--o","  x","J",null,{"$f":"ClashCount('Other league dates'!J$8:J$29,$A691:$V691)","v":""},{"$f":"ClashCount('Other league dates'!K$8:K$29,$A691:$V691)","v":""},{"$f":"ClashCount('Other league dates'!L$8:L$29,$A691:$V691)","v":""}]
["  x","  o","  x","  o","  x","  o","  x","  o","  x","  o","  x","  o--","--o","  x","  o","  x","  o","  x--","--x","  o","  x","  o","K",null,{"$f":"ClashCount('Other league dates'!J$8:J$29,$A692:$V692)","v":""},{"$f":"ClashCount('Other league dates'!K$8:K$29,$A692:$V692)","v":""},{"$f":"ClashCount('Other league dates'!L$8:L$29,$A692:$V692)","v":""}]
["  o","  x","  o","  x","  o","  x","  o","  x","  o","  x","  o","  x--","--x","  o","  x","  o","  x","  o--","--o","  x","  o","  x","L",null,{"$f":"ClashCount('Other league dates'!J$8:J$29,$A693:$V693)","v":""},{"$f":"ClashCount('Other league dates'!K$8:K$29,$A693:$V693)","v":""},{"$f":"ClashCount('Other league dates'!L$8:L$29,$A693:$V693)","v":""}]
[]
["Fit:","08agaa",null,"08agab"]
[]
["12akda"]
[]
["AJ","BE","AK","BG","AB","BH","AI","BJ","AC","BF","BK","KB","BA","HB","IA","JB","CA","FB","GB","KA","EB","JA"]
["CH","DG","CB","DA","CD","DJ","CE","DH","DB","CL","DI","ID","DC","JD","EC","HD","BD","LC","AD","BC","GD","HC"]
["ED","FC","EF","FJ","EG","FA","FD","EA","FK","EJ","FG","GF","GE","AF","DF","AE","KF","JE","JF","FE","CF","DE"]
["GK","HA","GI","HL","HF","GL","HK","GC","HG","GA","HE","EH","FH","LG","KH","CG","GH","AG","LH","IG","AH","KG"]
["IB","JL","JH","IE","JK","IC","JG","IF","JI","IH","JC","CJ","KJ","CI","GJ","FI","IJ","HI","EI","HJ","LJ","BI"]
["LF","KI","LD","KC","LI","KE","LB","KL","LE","KD","LA","AL","IL","EK","BL","LK","EL","DK","CK","DL","IK","FL"]
[1,2,3,4,5,6,7,8,9,10,11,12,13,14,15,16,17,18,19,20,21,22]
["RFx",null,null,null,null,null,null,null,null,null,null,11,5,6,7,8,9,10,4,3,2,1]
["  o","  x","  o","  x","  o","  x","  o","  x","  o","  x--","--x","  o","  x","  o","  x","  o","  x","  o--","--o","  x","  o","  x","A",null,{"$f":"ClashCount('Other league dates'!J$8:J$29,$A707:$V707)","v":""},{"$f":"ClashCount('Other league dates'!K$8:K$29,$A707:$V707)","v":""},{"$f":"ClashCount('Other league dates'!L$8:L$29,$A707:$V707)","v":""}]
["  x","  o","  x","  o","  x","  o","  x","  o","  x","  o--","--o","  x","  o","  x","  o","  x","  o","  x--","--x","  o","  x","  o","B",null,{"$f":"ClashCount('Other league dates'!J$8:J$29,$A708:$V708)","v":""},{"$f":"ClashCount('Other league dates'!K$8:K$29,$A708:$V708)","v":""},{"$f":"ClashCount('Other league dates'!L$8:L$29,$A708:$V708)","v":""}]
["  o","  x","  o","  x","  o","  x","  o","  x--","--x","  o","  x","  o","  x","  o","  x","  o--","--o","  x","  o","  x","  o","  x","C",null,{"$f":"ClashCount('Other league dates'!J$8:J$29,$A709:$V709)","v":""},{"$f":"ClashCount('Other league dates'!K$8:K$29,$A709:$V709)","v":""},{"$f":"ClashCount('Other league dates'!L$8:L$29,$A709:$V709)","v":""}]
["  x","  o","  x","  o","  x","  o","  x","  o--","--o","  x","  o","  x","  o","  x","  o","  x--","--x","  o","  x","  o","  x","  o","D",null,{"$f":"ClashCount('Other league dates'!J$8:J$29,$A710:$V710)","v":""},{"$f":"ClashCount('Other league dates'!K$8:K$29,$A710:$V710)","v":""},{"$f":"ClashCount('Other league dates'!L$8:L$29,$A710:$V710)","v":""}]
["  o","  x","  o","  x","  o","  x--","--x","  o","  x","  o","  x","  o","  x","  o--","--o","  x","  o","  x","  o","  x","  o","  x","E",null,{"$f":"ClashCount('Other league dates'!J$8:J$29,$A711:$V711)","v":""},{"$f":"ClashCount('Other league dates'!K$8:K$29,$A711:$V711)","v":""},{"$f":"ClashCount('Other league dates'!L$8:L$29,$A711:$V711)","v":""}]
["  x","  o","  x","  o","  x","  o--","--o","  x","  o","  x","  o","  x","  o","  x--","--x","  o","  x","  o","  x","  o","  x","  o","F",null,{"$f":"ClashCount('Other league dates'!J$8:J$29,$A712:$V712)","v":""},{"$f":"ClashCount('Other league dates'!K$8:K$29,$A712:$V712)","v":""},{"$f":"ClashCount('Other league dates'!L$8:L$29,$A712:$V712)","v":""}]
["  o","  x","  o","  x--","--x","  o","  x","  o","  x","  o","  x","  o--","--o","  x","  o","  x","  o","  x","  o","  x","  o","  x","G",null,{"$f":"ClashCount('Other league dates'!J$8:J$29,$A713:$V713)","v":""},{"$f":"ClashCount('Other league dates'!K$8:K$29,$A713:$V713)","v":""},{"$f":"ClashCount('Other league dates'!L$8:L$29,$A713:$V713)","v":""}]
["  x","  o","  x","  o--","--o","  x","  o","  x","  o","  x","  o","  x--","--x","  o","  x","  o","  x","  o","  x","  o","  x","  o","H",null,{"$f":"ClashCount('Other league dates'!J$8:J$29,$A714:$V714)","v":""},{"$f":"ClashCount('Other league dates'!K$8:K$29,$A714:$V714)","v":""},{"$f":"ClashCount('Other league dates'!L$8:L$29,$A714:$V714)","v":""}]
["  o","  x--","--x","  o","  x","  o","  x","  o","  x","  o","  x","  o--","--o","  x","  o","  x","  o","  x--","--x","  o--","--o","  x","I",null,{"$f":"ClashCount('Other league dates'!J$8:J$29,$A715:$V715)","v":""},{"$f":"ClashCount('Other league dates'!K$8:K$29,$A715:$V715)","v":""},{"$f":"ClashCount('Other league dates'!L$8:L$29,$A715:$V715)","v":""}]
["  x","  o--","--o","  x","  o","  x","  o","  x","  o","  x","  o","  x--","--x","  o","  x","  o","  x","  o--","--o","  x--","--x","  o","J",null,{"$f":"ClashCount('Other league dates'!J$8:J$29,$A716:$V716)","v":""},{"$f":"ClashCount('Other league dates'!K$8:K$29,$A716:$V716)","v":""},{"$f":"ClashCount('Other league dates'!L$8:L$29,$A716:$V716)","v":""}]
["  x","  o","  x","  o","  x","  o","  x","  o","  x","  o","  x","  o--","--o","  x","  o","  x","  o","  x--","--x","  o","  x","  o","K",null,{"$f":"ClashCount('Other league dates'!J$8:J$29,$A717:$V717)","v":""},{"$f":"ClashCount('Other league dates'!K$8:K$29,$A717:$V717)","v":""},{"$f":"ClashCount('Other league dates'!L$8:L$29,$A717:$V717)","v":""}]
["  o","  x","  o","  x","  o","  x","  o","  x","  o","  x","  o","  x--","--x","  o","  x","  o","  x","  o--","--o","  x","  o","  x","L",null,{"$f":"ClashCount('Other league dates'!J$8:J$29,$A718:$V718)","v":""},{"$f":"ClashCount('Other league dates'!K$8:K$29,$A718:$V718)","v":""},{"$f":"ClashCount('Other league dates'!L$8:L$29,$A718:$V718)","v":""}]
[]
["Fit:","08agaa",null,"08agab",null,"10aiba",null,"14amea"]
[]
["12alanx",null,null,"Use J for Open date, to avoid successive away matches for other teams"]
[]
["AK","KJ","AE","CJ","AI","EJ","AL","GJ","AF","IJ","AJ","BI","CK","AG","EC","AB","GE","AD","IG","AH","AC","KA"]
["LI","CA","KC","EK","KG","GC","KB","IE","KD","BG","KH","LG","EA","KE","GK","KI","IC","KL","BE","KF","LB","CH"]
["DG","EH","DB","GA","CE","IK","CI","BC","CL","LE","CF","DE","GH","DL","IA","CG","BK","CB","LC","CD","DI","EF"]
["FE","GF","FI","IH","FL","BA","EG","LK","EB","DC","ED","FC","IF","FB","BH","FD","LA","EI","DK","EL","FG","GD"]
["HC","ID","HG","BF","HB","LH","HD","DA","GI","FK","GL","HK","BD","HI","LF","HL","DH","HF","FA","GB","HE","IL"]
["JB","BL","JL","LD","JD","DF","JF","FH","JH","HA","IB","JA","LJ","JC","DJ","JE","FJ","JG","HJ","JI","JK","BJ"]
[1,2,3,4,5,6,7,8,9,10,11,12,13,14,15,16,17,18,19,20,21,22]
["RFx",null,null,null,null,null,null,null,null,null,null,11,3,4,5,6,7,8,9,10,2,1]
["  o","  x","  o","  x","  o","  x","  o","  x","  o","  x","  o","  x--","--x","  o","  x","  o","  x","  o","  x","  o--","--o","  x","A",null,{"$f":"ClashCount('Other league dates'!J$8:J$29,$A732:$V732)","v":""},{"$f":"ClashCount('Other league dates'!K$8:K$29,$A732:$V732)","v":""},{"$f":"ClashCount('Other league dates'!L$8:L$29,$A732:$V732)","v":""}]
["  x","  o","  x","  o","  x","  o","  x","  o","  x","  o","  x","  o--","--o","  x","  o","  x","  o","  x","  o","  x--","--x","  o","B",null,{"$f":"ClashCount('Other league dates'!J$8:J$29,$A733:$V733)","v":""},{"$f":"ClashCount('Other league dates'!K$8:K$29,$A733:$V733)","v":""},{"$f":"ClashCount('Other league dates'!L$8:L$29,$A733:$V733)","v":""}]
["  x","  o","  x","  o--","--o","  x","  o","  x","  o","  x","  o","  x","  o","  x--","--x","  o","  x","  o","  x","  o","  x","  o","C",null,{"$f":"ClashCount('Other league dates'!J$8:J$29,$A734:$V734)","v":""},{"$f":"ClashCount('Other league dates'!K$8:K$29,$A734:$V734)","v":""},{"$f":"ClashCount('Other league dates'!L$8:L$29,$A734:$V734)","v":""}]
["  o","  x","  o","  x--","--x","  o","  x","  o","  x","  o","  x","  o","  x","  o--","--o","  x","  o","  x","  o","  x","  o","  x","D",null,{"$f":"ClashCount('Other league dates'!J$8:J$29,$A735:$V735)","v":""},{"$f":"ClashCount('Other league dates'!K$8:K$29,$A735:$V735)","v":""},{"$f":"ClashCount('Other league dates'!L$8:L$29,$A735:$V735)","v":""}]
["  x","  o","  x","  o","  x","  o--","--o","  x","  o","  x","  o","  x","  o","  x","  o","  x--","--x","  o","  x","  o","  x","  o","E",null,{"$f":"ClashCount('Other league dates'!J$8:J$29,$A736:$V736)","v":""},{"$f":"ClashCount('Other league dates'!K$8:K$29,$A736:$V736)","v":""},{"$f":"ClashCount('Other league dates'!L$8:L$29,$A736:$V736)","v":""}]
["  o","  x","  o","  x","  o","  x--","--x","  o","  x","  o","  x","  o","  x","  o","  x","  o--","--o","  x","  o","  x","  o","  x","F",null,{"$f":"ClashCount('Other league dates'!J$8:J$29,$A737:$V737)","v":""},{"$f":"ClashCount('Other league dates'!K$8:K$29,$A737:$V737)","v":""},{"$f":"ClashCount('Other league dates'!L$8:L$29,$A737:$V737)","v":""}]
["  x","  o","  x","  o","  x","  o","  x","  o--","--o","  x","  o","  x","  o","  x","  o","  x","  o","  x--","--x","  o","  x","  o","G",null,{"$f":"ClashCount('Other league dates'!J$8:J$29,$A738:$V738)","v":""},{"$f":"ClashCount('Other league dates'!K$8:K$29,$A738:$V738)","v":""},{"$f":"ClashCount('Other league dates'!L$8:L$29,$A738:$V738)","v":""}]
["  o","  x","  o","  x","  o","  x","  o","  x--","--x","  o","  x","  o","  x","  o","  x","  o","  x","  o--","--o","  x","  o","  x","H",null,{"$f":"ClashCount('Other league dates'!J$8:J$29,$A739:$V739)","v":""},{"$f":"ClashCount('Other league dates'!K$8:K$29,$A739:$V739)","v":""},{"$f":"ClashCount('Other league dates'!L$8:L$29,$A739:$V739)","v":""}]
["  x","  o","  x","  o","  x","  o","  x","  o","  x","  o--","--o","  x","  o","  x","  o","  x","  o","  x","  o","  x--","--x","  o","I",null,{"$f":"ClashCount('Other league dates'!J$8:J$29,$A740:$V740)","v":""},{"$f":"ClashCount('Other league dates'!K$8:K$29,$A740:$V740)","v":""},{"$f":"ClashCount('Other league dates'!L$8:L$29,$A740:$V740)","v":""}]
["  o","  x","  o","  x","  o","  x","  o","  x","  o","  x--","--x","  o","  x","  o","  x","  o","  x","  o","  x","  o--","--o","  x","J",null,{"$f":"ClashCount('Other league dates'!J$8:J$29,$A741:$V741)","v":""},{"$f":"ClashCount('Other league dates'!K$8:K$29,$A741:$V741)","v":""},{"$f":"ClashCount('Other league dates'!L$8:L$29,$A741:$V741)","v":""}]
["  x","  o--","--o","  x","  o","  x","  o","  x","  o","  x","  o","  x--","--x","  o","  x","  o","  x","  o","  x","  o","  x","  o","K",null,{"$f":"ClashCount('Other league dates'!J$8:J$29,$A742:$V742)","v":""},{"$f":"ClashCount('Other league dates'!K$8:K$29,$A742:$V742)","v":""},{"$f":"ClashCount('Other league dates'!L$8:L$29,$A742:$V742)","v":""}]
["  o","  x--","--x","  o","  x","  o","  x","  o","  x","  o","  x","  o--","--o","  x","  o","  x","  o","  x","  o","  x","  o","  x","L",null,{"$f":"ClashCount('Other league dates'!J$8:J$29,$A743:$V743)","v":""},{"$f":"ClashCount('Other league dates'!K$8:K$29,$A743:$V743)","v":""},{"$f":"ClashCount('Other league dates'!L$8:L$29,$A743:$V743)","v":""}]
[]
["Fit:","10alanx",null,"14alanx"]
[]
["12apaa"]
[]
["AJ","BI","AF","BG","AK","BE","AG","BC","AC","BA","BK","AL","AB","BD","AE","BF","AI","BH","AD","BJ","AH","BL"]
["CH","DE","CD","DA","CI","DJ","CE","DF","DB","CL","DI","CJ","DK","CA","CB","DH","CG","DL","CK","DC","CF","DG"]
["EF","FC","EK","FL","EG","FH","FB","EA","FK","EJ","FG","EH","FI","EL","FD","EC","EB","FJ","EI","FA","ED","FE"]
["GD","HA","GI","HJ","HB","GC","HD","GL","HI","GH","HE","GF","HG","GJ","HK","GA","HF","GE","GB","HL","GK","HC"]
["IK","JL","JB","IE","JF","IA","JK","IJ","JG","IF","JC","ID","JE","IH","JI","IL","JD","IC","JH","IG","IB","JA"]
["LB","KG","LH","KC","LD","KL","LI","KH","LE","KD","LA","KB","LC","KF","LG","KJ","LK","KA","LF","KE","LJ","KI"]
[1,2,3,4,5,6,7,8,9,10,11,12,13,14,15,16,17,18,19,20,21,22]
["RFx",null,null,null,null,null,null,null,null,null,null,11,10,9,8,7,6,5,4,3,2,1]
["  o","  x","  o","  x","  o","  x","  o","  x","  o","  x--","--x","  o--","--o","  x","  o","  x","  o","  x","  o","  x","  o","  x","A",null,{"$f":"ClashCount('Other league dates'!J$8:J$29,$A757:$V757)","v":""},{"$f":"ClashCount('Other league dates'!K$8:K$29,$A757:$V757)","v":""},{"$f":"ClashCount('Other league dates'!L$8:L$29,$A757:$V757)","v":""}]
["  x","  o","  x","  o","  x","  o","  x","  o","  x","  o--","--o","  x--","--x","  o","  x","  o","  x","  o","  x","  o","  x","  o","B",null,{"$f":"ClashCount('Other league dates'!J$8:J$29,$A758:$V758)","v":""},{"$f":"ClashCount('Other league dates'!K$8:K$29,$A758:$V758)","v":""},{"$f":"ClashCount('Other league dates'!L$8:L$29,$A758:$V758)","v":""}]
["  o","  x","  o","  x","  o","  x","  o","  x--","--x","  o","  x","  o","  x","  o--","--o","  x","  o","  x","  o","  x","  o","  x","C",null,{"$f":"ClashCount('Other league dates'!J$8:J$29,$A759:$V759)","v":""},{"$f":"ClashCount('Other league dates'!K$8:K$29,$A759:$V759)","v":""},{"$f":"ClashCount('Other league dates'!L$8:L$29,$A759:$V759)","v":""}]
["  x","  o","  x","  o","  x","  o","  x","  o--","--o","  x","  o","  x","  o","  x--","--x","  o","  x","  o","  x","  o","  x","  o","D",null,{"$f":"ClashCount('Other league dates'!J$8:J$29,$A760:$V760)","v":""},{"$f":"ClashCount('Other league dates'!K$8:K$29,$A760:$V760)","v":""},{"$f":"ClashCount('Other league dates'!L$8:L$29,$A760:$V760)","v":""}]
["  o","  x","  o","  x","  o","  x--","--x","  o","  x","  o","  x","  o","  x","  o","  x","  o--","--o","  x","  o","  x","  o","  x","E",null,{"$f":"ClashCount('Other league dates'!J$8:J$29,$A761:$V761)","v":""},{"$f":"ClashCount('Other league dates'!K$8:K$29,$A761:$V761)","v":""},{"$f":"ClashCount('Other league dates'!L$8:L$29,$A761:$V761)","v":""}]
["  x","  o","  x","  o","  x","  o--","--o","  x","  o","  x","  o","  x","  o","  x","  o","  x--","--x","  o","  x","  o","  x","  o","F",null,{"$f":"ClashCount('Other league dates'!J$8:J$29,$A762:$V762)","v":""},{"$f":"ClashCount('Other league dates'!K$8:K$29,$A762:$V762)","v":""},{"$f":"ClashCount('Other league dates'!L$8:L$29,$A762:$V762)","v":""}]
["  o","  x","  o","  x--","--x","  o","  x","  o","  x","  o","  x","  o","  x","  o","  x","  o","  x","  o--","--o","  x","  o","  x","G",null,{"$f":"ClashCount('Other league dates'!J$8:J$29,$A763:$V763)","v":""},{"$f":"ClashCount('Other league dates'!K$8:K$29,$A763:$V763)","v":""},{"$f":"ClashCount('Other league dates'!L$8:L$29,$A763:$V763)","v":""}]
["  x","  o","  x","  o--","--o","  x","  o","  x","  o","  x","  o","  x","  o","  x","  o","  x","  o","  x--","--x","  o","  x","  o","H",null,{"$f":"ClashCount('Other league dates'!J$8:J$29,$A764:$V764)","v":""},{"$f":"ClashCount('Other league dates'!K$8:K$29,$A764:$V764)","v":""},{"$f":"ClashCount('Other league dates'!L$8:L$29,$A764:$V764)","v":""}]
["  o","  x--","--x","  o","  x","  o","  x","  o","  x","  o","  x","  o","  x","  o","  x","  o","  x","  o","  x","  o--","--o","  x","I",null,{"$f":"ClashCount('Other league dates'!J$8:J$29,$A765:$V765)","v":""},{"$f":"ClashCount('Other league dates'!K$8:K$29,$A765:$V765)","v":""},{"$f":"ClashCount('Other league dates'!L$8:L$29,$A765:$V765)","v":""}]
["  x","  o--","--o","  x","  o","  x","  o","  x","  o","  x","  o","  x","  o","  x","  o","  x","  o","  x","  o","  x--","--x","  o","J",null,{"$f":"ClashCount('Other league dates'!J$8:J$29,$A766:$V766)","v":""},{"$f":"ClashCount('Other league dates'!K$8:K$29,$A766:$V766)","v":""},{"$f":"ClashCount('Other league dates'!L$8:L$29,$A766:$V766)","v":""}]
["  x","  o","  x","  o","  x","  o","  x","  o","  x","  o","  x","  o","  x","  o","  x","  o","  x","  o","  x","  o","  x","  o","K",null,{"$f":"ClashCount('Other league dates'!J$8:J$29,$A767:$V767)","v":""},{"$f":"ClashCount('Other league dates'!K$8:K$29,$A767:$V767)","v":""},{"$f":"ClashCount('Other league dates'!L$8:L$29,$A767:$V767)","v":""}]
["  o","  x","  o","  x","  o","  x","  o","  x","  o","  x","  o","  x","  o","  x","  o","  x","  o","  x","  o","  x","  o","  x","L",null,{"$f":"ClashCount('Other league dates'!J$8:J$29,$A768:$V768)","v":""},{"$f":"ClashCount('Other league dates'!K$8:K$29,$A768:$V768)","v":""},{"$f":"ClashCount('Other league dates'!L$8:L$29,$A768:$V768)","v":""}]
[]
["Fit:","06ataa",null,"08ataa",null,"08ataax",null,"10araa",null,"14anaa"]
[]
["12asm",null,null,null,"Similar to 12aaa. Used by Altrincham & S Manchester"]
[]
["AK","BG","AI","BC","AG","BJ","AE","BF","AC","BA","BK","BI","AJ","BE","AH","BL","AF","BH","AD","BD","AB","AL"]
["CH","DE","CD","DL","CK","DH","CG","DA","DB","CL","DI","DG","CF","DC","CB","DJ","CI","DF","CE","CA","DK","CJ"]
["EF","FC","EB","FJ","EI","FA","FD","EC","FK","EJ","FG","FE","ED","FL","EK","FH","EG","EA","FB","EL","FI","EH"]
["GD","HL","GK","HA","HF","GE","HB","GL","HI","GH","HE","HC","GB","HJ","GI","GA","HD","GC","HK","GJ","HG","GF"]
["IB","JA","JH","IG","JD","IC","JK","IJ","JG","IF","JC","JL","IK","IA","JF","IE","JB","IL","JI","IH","JE","ID"]
["LJ","KI","LF","KE","LB","KL","LI","KH","LE","KD","LA","KA","LH","KG","LD","KC","LK","KJ","LG","KF","LC","KB"]
[1,2,3,4,5,6,7,8,9,10,11,12,13,14,15,16,17,18,19,20,21,22]
["RFx",null,null,null,null,null,null,null,null,null,null,1,2,3,4,5,6,7,8,9,10,11]
["  o","  x","  o","  x","  o","  x","  o","  x","  o","  x--","--x--","--x","  o","  x","  o","  x","  o","  x","  o","  x","  o--","--o","A",null,{"$f":"ClashCount('Other league dates'!J$8:J$29,$A782:$V782)","v":""},{"$f":"ClashCount('Other league dates'!K$8:K$29,$A782:$V782)","v":""},{"$f":"ClashCount('Other league dates'!L$8:L$29,$A782:$V782)","v":""}]
["  x","  o","  x","  o","  x","  o","  x","  o","  x","  o--","--o--","--o","  x","  o","  x","  o","  x","  o","  x","  o","  x--","--x","B",null,{"$f":"ClashCount('Other league dates'!J$8:J$29,$A783:$V783)","v":""},{"$f":"ClashCount('Other league dates'!K$8:K$29,$A783:$V783)","v":""},{"$f":"ClashCount('Other league dates'!L$8:L$29,$A783:$V783)","v":""}]
["  o","  x","  o","  x","  o","  x","  o","  x--","--x","  o","  x--","--x","  o","  x","  o","  x","  o","  x","  o--","--o","  x","  o","C",null,{"$f":"ClashCount('Other league dates'!J$8:J$29,$A784:$V784)","v":""},{"$f":"ClashCount('Other league dates'!K$8:K$29,$A784:$V784)","v":""},{"$f":"ClashCount('Other league dates'!L$8:L$29,$A784:$V784)","v":""}]
["  x","  o","  x","  o","  x","  o","  x","  o--","--o","  x","  o--","--o","  x","  o","  x","  o","  x","  o","  x--","--x","  o","  x","D",null,{"$f":"ClashCount('Other league dates'!J$8:J$29,$A785:$V785)","v":""},{"$f":"ClashCount('Other league dates'!K$8:K$29,$A785:$V785)","v":""},{"$f":"ClashCount('Other league dates'!L$8:L$29,$A785:$V785)","v":""}]
["  o","  x","  o","  x","  o","  x--","--x","  o","  x","  o","  x--","--x","  o","  x","  o","  x","  o--","--o","  x","  o","  x","  o","E",null,{"$f":"ClashCount('Other league dates'!J$8:J$29,$A786:$V786)","v":""},{"$f":"ClashCount('Other league dates'!K$8:K$29,$A786:$V786)","v":""},{"$f":"ClashCount('Other league dates'!L$8:L$29,$A786:$V786)","v":""}]
["  x","  o","  x","  o","  x","  o--","--o","  x","  o","  x","  o--","--o","  x","  o","  x","  o","  x--","--x","  o","  x","  o","  x","F",null,{"$f":"ClashCount('Other league dates'!J$8:J$29,$A787:$V787)","v":""},{"$f":"ClashCount('Other league dates'!K$8:K$29,$A787:$V787)","v":""},{"$f":"ClashCount('Other league dates'!L$8:L$29,$A787:$V787)","v":""}]
["  o","  x","  o","  x--","--x","  o","  x","  o","  x","  o","  x--","--x","  o","  x","  o--","--o","  x","  o","  x","  o","  x","  o","G",null,{"$f":"ClashCount('Other league dates'!J$8:J$29,$A788:$V788)","v":""},{"$f":"ClashCount('Other league dates'!K$8:K$29,$A788:$V788)","v":""},{"$f":"ClashCount('Other league dates'!L$8:L$29,$A788:$V788)","v":""}]
["  x","  o","  x","  o--","--o","  x","  o","  x","  o","  x","  o--","--o","  x","  o","  x--","--x","  o","  x","  o","  x","  o","  x","H",null,{"$f":"ClashCount('Other league dates'!J$8:J$29,$A789:$V789)","v":""},{"$f":"ClashCount('Other league dates'!K$8:K$29,$A789:$V789)","v":""},{"$f":"ClashCount('Other league dates'!L$8:L$29,$A789:$V789)","v":""}]
["  o","  x--","--x","  o","  x","  o","  x","  o","  x","  o","  x--","--x","  o--","--o","  x","  o","  x","  o","  x","  o","  x","  o","I",null,{"$f":"ClashCount('Other league dates'!J$8:J$29,$A790:$V790)","v":""},{"$f":"ClashCount('Other league dates'!K$8:K$29,$A790:$V790)","v":""},{"$f":"ClashCount('Other league dates'!L$8:L$29,$A790:$V790)","v":""}]
["  x","  o--","--o","  x","  o","  x","  o","  x","  o","  x","  o--","--o","  x--","--x","  o","  x","  o","  x","  o","  x","  o","  x","J",null,{"$f":"ClashCount('Other league dates'!J$8:J$29,$A791:$V791)","v":""},{"$f":"ClashCount('Other league dates'!K$8:K$29,$A791:$V791)","v":""},{"$f":"ClashCount('Other league dates'!L$8:L$29,$A791:$V791)","v":""}]
["  x","  o","  x","  o","  x","  o","  x","  o","  x","  o","  x","  o","  x","  o","  x","  o","  x","  o","  x","  o","  x","  o","K",null,{"$f":"ClashCount('Other league dates'!J$8:J$29,$A792:$V792)","v":""},{"$f":"ClashCount('Other league dates'!K$8:K$29,$A792:$V792)","v":""},{"$f":"ClashCount('Other league dates'!L$8:L$29,$A792:$V792)","v":""}]
["  o","  x","  o","  x","  o","  x","  o","  x","  o","  x","  o","  x","  o","  x","  o","  x","  o","  x","  o","  x","  o","  x","L",null,{"$f":"ClashCount('Other league dates'!J$8:J$29,$A793:$V793)","v":""},{"$f":"ClashCount('Other league dates'!K$8:K$29,$A793:$V793)","v":""},{"$f":"ClashCount('Other league dates'!L$8:L$29,$A793:$V793)","v":""}]
[]
["Fit:","12aaaa",null,"14acaa"]
[]
["12bbaa"]
[]
["AL","BE","AJ","BC","AB","BL","AI","BH","AE","BD","BG","AF","BI","AD","BA","AK","BJ","AG","BF","AC","AH","BK"]
["CJ","DG","CF","DA","CK","DJ","CG","DF","CD","CA","DK","CH","DE","CB","DL","CI","DH","CE","DC","DB","CL","DI"]
["EH","FA","ED","FL","EI","FH","EF","EC","FB","EL","FI","EB","FC","EK","FJ","EG","FE","FD","EA","FK","EJ","FG"]
["GF","HC","GK","HJ","GH","GE","HD","GA","HK","GJ","HA","GD","HL","GI","HG","HF","GC","HB","GL","HI","GB","HE"]
["ID","JL","IB","IG","JF","IC","JB","IL","JI","IH","JE","IK","JA","JH","IE","JD","IA","JK","IJ","JG","IF","JC"]
["KB","KI","LH","KE","LD","KA","LK","KJ","LG","KF","LC","LJ","KG","LF","KC","LB","KL","LI","KH","LE","KD","LA"]
[1,2,3,4,5,6,7,8,9,10,11,12,13,14,15,16,17,18,19,20,21,22]
["RFx",null,null,null,null,null,null,null,null,null,null,2,3,4,5,6,7,8,9,10,11,1]
["  o","  x","  o","  x","  o","  x","  o","  x","  o","  x--","--x","  o","  x","  o","  x","  o","  x","  o","  x","  o--","--o","  x","A",null,{"$f":"ClashCount('Other league dates'!J$8:J$29,$A807:$V807)","v":""},{"$f":"ClashCount('Other league dates'!K$8:K$29,$A807:$V807)","v":""},{"$f":"ClashCount('Other league dates'!L$8:L$29,$A807:$V807)","v":""}]
["  x","  o","  x","  o","  x","  o","  x","  o","  x","  o--","--o","  x","  o","  x","  o","  x","  o","  x","  o","  x--","--x","  o","B",null,{"$f":"ClashCount('Other league dates'!J$8:J$29,$A808:$V808)","v":""},{"$f":"ClashCount('Other league dates'!K$8:K$29,$A808:$V808)","v":""},{"$f":"ClashCount('Other league dates'!L$8:L$29,$A808:$V808)","v":""}]
["  o","  x","  o","  x","  o","  x","  o","  x","  o--","--o","  x","  o","  x","  o","  x","  o","  x","  o","  x--","--x","  o","  x","C",null,{"$f":"ClashCount('Other league dates'!J$8:J$29,$A809:$V809)","v":""},{"$f":"ClashCount('Other league dates'!K$8:K$29,$A809:$V809)","v":""},{"$f":"ClashCount('Other league dates'!L$8:L$29,$A809:$V809)","v":""}]
["  x","  o","  x","  o","  x","  o","  x","  o","  x--","--x","  o","  x","  o","  x","  o","  x","  o","  x","  o--","--o","  x","  o","D",null,{"$f":"ClashCount('Other league dates'!J$8:J$29,$A810:$V810)","v":""},{"$f":"ClashCount('Other league dates'!K$8:K$29,$A810:$V810)","v":""},{"$f":"ClashCount('Other league dates'!L$8:L$29,$A810:$V810)","v":""}]
["  o","  x","  o","  x","  o","  x","  o--","--o","  x","  o","  x","  o","  x","  o","  x","  o","  x--","--x","  o","  x","  o","  x","E",null,{"$f":"ClashCount('Other league dates'!J$8:J$29,$A811:$V811)","v":""},{"$f":"ClashCount('Other league dates'!K$8:K$29,$A811:$V811)","v":""},{"$f":"ClashCount('Other league dates'!L$8:L$29,$A811:$V811)","v":""}]
["  x","  o","  x","  o","  x","  o","  x--","--x","  o","  x","  o","  x","  o","  x","  o","  x","  o--","--o","  x","  o","  x","  o","F",null,{"$f":"ClashCount('Other league dates'!J$8:J$29,$A812:$V812)","v":""},{"$f":"ClashCount('Other league dates'!K$8:K$29,$A812:$V812)","v":""},{"$f":"ClashCount('Other league dates'!L$8:L$29,$A812:$V812)","v":""}]
["  o","  x","  o","  x","  o--","--o","  x","  o","  x","  o","  x","  o","  x","  o","  x--","--x","  o","  x","  o","  x","  o","  x","G",null,{"$f":"ClashCount('Other league dates'!J$8:J$29,$A813:$V813)","v":""},{"$f":"ClashCount('Other league dates'!K$8:K$29,$A813:$V813)","v":""},{"$f":"ClashCount('Other league dates'!L$8:L$29,$A813:$V813)","v":""}]
["  x","  o","  x","  o","  x--","--x","  o","  x","  o","  x","  o","  x","  o","  x","  o--","--o","  x","  o","  x","  o","  x","  o","H",null,{"$f":"ClashCount('Other league dates'!J$8:J$29,$A814:$V814)","v":""},{"$f":"ClashCount('Other league dates'!K$8:K$29,$A814:$V814)","v":""},{"$f":"ClashCount('Other league dates'!L$8:L$29,$A814:$V814)","v":""}]
["  o","  x","  o--","--o","  x","  o","  x","  o","  x","  o","  x","  o","  x--","--x","  o","  x","  o","  x","  o","  x","  o","  x","I",null,{"$f":"ClashCount('Other league dates'!J$8:J$29,$A815:$V815)","v":""},{"$f":"ClashCount('Other league dates'!K$8:K$29,$A815:$V815)","v":""},{"$f":"ClashCount('Other league dates'!L$8:L$29,$A815:$V815)","v":""}]
["  x","  o","  x--","--x","  o","  x","  o","  x","  o","  x","  o","  x","  o--","--o","  x","  o","  x","  o","  x","  o","  x","  o","J",null,{"$f":"ClashCount('Other league dates'!J$8:J$29,$A816:$V816)","v":""},{"$f":"ClashCount('Other league dates'!K$8:K$29,$A816:$V816)","v":""},{"$f":"ClashCount('Other league dates'!L$8:L$29,$A816:$V816)","v":""}]
["  o--","--o","  x","  o","  x","  o","  x","  o","  x","  o","  x--","--x","  o","  x","  o","  x","  o","  x","  o","  x","  o","  x","K",null,{"$f":"ClashCount('Other league dates'!J$8:J$29,$A817:$V817)","v":""},{"$f":"ClashCount('Other league dates'!K$8:K$29,$A817:$V817)","v":""},{"$f":"ClashCount('Other league dates'!L$8:L$29,$A817:$V817)","v":""}]
["  x--","--x","  o","  x","  o","  x","  o","  x","  o","  x","  o--","--o","  x","  o","  x","  o","  x","  o","  x","  o","  x","  o","L",null,{"$f":"ClashCount('Other league dates'!J$8:J$29,$A818:$V818)","v":""},{"$f":"ClashCount('Other league dates'!K$8:K$29,$A818:$V818)","v":""},{"$f":"ClashCount('Other league dates'!L$8:L$29,$A818:$V818)","v":""}]
[]
["Fit:","14bdaa"]
[]
["12caaa"]
[]
["BF","AI","BD","AB","BK","AJ","BG","AF","BC","BH","AK","FB","IA","DB","BA","KB","JA","GB","FA","CB","HB","KA"]
["CH","DE","CA","DL","CI","DH","CE","DC","DA","CL","DI","HC","ED","AC","LD","IC","HD","EC","CD","AD","LC","ID"]
["EA","FC","EK","FJ","EG","FE","FD","EB","FK","EJ","FG","AE","CF","KE","JF","GE","EF","DF","BE","KF","JE","GF"]
["GD","HL","GI","HG","HF","GC","HA","GL","HI","GA","HE","DG","LH","IG","GH","FH","CG","AH","LG","IH","AG","EH"]
["IK","JB","JH","IE","JD","IB","JK","IJ","JG","IF","JC","KI","BJ","HJ","EI","DJ","BI","KJ","JI","GJ","FI","CJ"]
["LJ","KG","LF","KC","LA","KL","LI","KH","LE","KD","LB","JL","GK","FL","CK","AL","LK","IL","HK","EL","DK","BL"]
[1,2,3,4,5,6,7,8,9,10,11,12,13,14,15,16,17,18,19,20,21,22]
["RFx",null,null,null,null,null,null,null,null,null,null,1,2,3,4,5,6,7,8,9,10,11]
["  x","  o","  x","  o","  x","  o","  x","  o","  x--","--x","  o--","--o","  x","  o","  x","  o","  x","  o","  x","  o--","--o","  x","A",null,{"$f":"ClashCount('Other league dates'!J$8:J$29,$A832:$V832)","v":""},{"$f":"ClashCount('Other league dates'!K$8:K$29,$A832:$V832)","v":""},{"$f":"ClashCount('Other league dates'!L$8:L$29,$A832:$V832)","v":""}]
["  o","  x","  o","  x","  o","  x","  o","  x","  o--","--o","  x--","--x","  o","  x","  o","  x","  o","  x","  o","  x--","--x","  o","B",null,{"$f":"ClashCount('Other league dates'!J$8:J$29,$A833:$V833)","v":""},{"$f":"ClashCount('Other league dates'!K$8:K$29,$A833:$V833)","v":""},{"$f":"ClashCount('Other league dates'!L$8:L$29,$A833:$V833)","v":""}]
["  o","  x","  o","  x","  o","  x","  o","  x--","--x","  o","  x--","--x","  o","  x","  o","  x","  o","  x","  o--","--o","  x","  o","C",null,{"$f":"ClashCount('Other league dates'!J$8:J$29,$A834:$V834)","v":""},{"$f":"ClashCount('Other league dates'!K$8:K$29,$A834:$V834)","v":""},{"$f":"ClashCount('Other league dates'!L$8:L$29,$A834:$V834)","v":""}]
["  x","  o","  x","  o","  x","  o","  x","  o--","--o","  x","  o--","--o","  x","  o","  x","  o","  x","  o","  x--","--x","  o","  x","D",null,{"$f":"ClashCount('Other league dates'!J$8:J$29,$A835:$V835)","v":""},{"$f":"ClashCount('Other league dates'!K$8:K$29,$A835:$V835)","v":""},{"$f":"ClashCount('Other league dates'!L$8:L$29,$A835:$V835)","v":""}]
["  o","  x","  o","  x","  o","  x--","--x","  o","  x","  o","  x--","--x","  o","  x","  o","  x","  o--","--o","  x","  o","  x","  o","E",null,{"$f":"ClashCount('Other league dates'!J$8:J$29,$A836:$V836)","v":""},{"$f":"ClashCount('Other league dates'!K$8:K$29,$A836:$V836)","v":""},{"$f":"ClashCount('Other league dates'!L$8:L$29,$A836:$V836)","v":""}]
["  x","  o","  x","  o","  x","  o--","--o","  x","  o","  x","  o--","--o","  x","  o","  x","  o","  x--","--x","  o","  x","  o","  x","F",null,{"$f":"ClashCount('Other league dates'!J$8:J$29,$A837:$V837)","v":""},{"$f":"ClashCount('Other league dates'!K$8:K$29,$A837:$V837)","v":""},{"$f":"ClashCount('Other league dates'!L$8:L$29,$A837:$V837)","v":""}]
["  o","  x","  o","  x--","--x","  o","  x","  o","  x","  o","  x--","--x","  o","  x","  o--","--o","  x","  o","  x","  o","  x","  o","G",null,{"$f":"ClashCount('Other league dates'!J$8:J$29,$A838:$V838)","v":""},{"$f":"ClashCount('Other league dates'!K$8:K$29,$A838:$V838)","v":""},{"$f":"ClashCount('Other league dates'!L$8:L$29,$A838:$V838)","v":""}]
["  x","  o","  x","  o--","--o","  x","  o","  x","  o","  x","  o--","--o","  x","  o","  x--","--x","  o","  x","  o","  x","  o","  x","H",null,{"$f":"ClashCount('Other league dates'!J$8:J$29,$A839:$V839)","v":""},{"$f":"ClashCount('Other league dates'!K$8:K$29,$A839:$V839)","v":""},{"$f":"ClashCount('Other league dates'!L$8:L$29,$A839:$V839)","v":""}]
["  o","  x--","--x","  o","  x","  o","  x","  o","  x","  o","  x--","--x","  o--","--o","  x","  o","  x","  o","  x","  o","  x","  o","I",null,{"$f":"ClashCount('Other league dates'!J$8:J$29,$A840:$V840)","v":""},{"$f":"ClashCount('Other league dates'!K$8:K$29,$A840:$V840)","v":""},{"$f":"ClashCount('Other league dates'!L$8:L$29,$A840:$V840)","v":""}]
["  x","  o--","--o","  x","  o","  x","  o","  x","  o","  x","  o--","--o","  x--","--x","  o","  x","  o","  x","  o","  x","  o","  x","J",null,{"$f":"ClashCount('Other league dates'!J$8:J$29,$A841:$V841)","v":""},{"$f":"ClashCount('Other league dates'!K$8:K$29,$A841:$V841)","v":""},{"$f":"ClashCount('Other league dates'!L$8:L$29,$A841:$V841)","v":""}]
["  x","  o","  x","  o","  x","  o","  x","  o","  x","  o","  x","  o","  x","  o","  x","  o","  x","  o","  x","  o","  x","  o","K",null,{"$f":"ClashCount('Other league dates'!J$8:J$29,$A842:$V842)","v":""},{"$f":"ClashCount('Other league dates'!K$8:K$29,$A842:$V842)","v":""},{"$f":"ClashCount('Other league dates'!L$8:L$29,$A842:$V842)","v":""}]
["  o","  x","  o","  x","  o","  x","  o","  x","  o","  x","  o","  x","  o","  x","  o","  x","  o","  x","  o","  x","  o","  x","L",null,{"$f":"ClashCount('Other league dates'!J$8:J$29,$A843:$V843)","v":""},{"$f":"ClashCount('Other league dates'!K$8:K$29,$A843:$V843)","v":""},{"$f":"ClashCount('Other league dates'!L$8:L$29,$A843:$V843)","v":""}]
[]
[]
[]
["12ccaa"]
[]
["AF","BI","AD","BA","AK","BJ","AG","BF","AC","AH","BK","DA","AB","KA","JB","GA","FB","CA","HA","KB","FA","IB"]
["CH","DE","CB","DL","CI","DH","CE","DC","DB","CL","DI","BC","LD","IC","HD","EC","CD","BD","LC","ID","HC","ED"]
["EB","FC","EK","FJ","EG","FE","FD","EA","FK","EJ","FG","KE","JF","GE","EF","DF","AE","KF","JE","GF","BE","CF"]
["GD","HL","GI","HG","HF","GC","HB","GL","HI","GB","HE","IG","GH","FH","CG","BH","LG","IH","BG","EH","DG","LH"]
["IK","JA","JH","IE","JD","IA","JK","IJ","JG","IF","JC","HJ","EI","DJ","AI","KJ","JI","GJ","FI","CJ","KI","AJ"]
["LJ","KG","LF","KC","LB","KL","LI","KH","LE","KD","LA","FL","CK","BL","LK","IL","HK","EL","DK","AL","JL","GK"]
[1,2,3,4,5,6,7,8,9,10,11,12,13,14,15,16,17,18,19,20,21,22]
["RFx",null,null,null,null,null,null,null,null,null,null,3,4,5,6,7,8,9,10,11,1,2]
["  o","  x","  o","  x","  o","  x","  o","  x","  o--","--o","  x--","--x","  o","  x","  o","  x","  o","  x--","--x","  o","  x","  o","A",null,{"$f":"ClashCount('Other league dates'!J$8:J$29,$A857:$V857)","v":""},{"$f":"ClashCount('Other league dates'!K$8:K$29,$A857:$V857)","v":""},{"$f":"ClashCount('Other league dates'!L$8:L$29,$A857:$V857)","v":""}]
["  x","  o","  x","  o","  x","  o","  x","  o","  x--","--x","  o--","--o","  x","  o","  x","  o","  x","  o--","--o","  x","  o","  x","B",null,{"$f":"ClashCount('Other league dates'!J$8:J$29,$A858:$V858)","v":""},{"$f":"ClashCount('Other league dates'!K$8:K$29,$A858:$V858)","v":""},{"$f":"ClashCount('Other league dates'!L$8:L$29,$A858:$V858)","v":""}]
["  o","  x","  o","  x","  o","  x","  o","  x--","--x","  o","  x--","--x","  o","  x","  o","  x","  o--","--o","  x","  o","  x","  o","C",null,{"$f":"ClashCount('Other league dates'!J$8:J$29,$A859:$V859)","v":""},{"$f":"ClashCount('Other league dates'!K$8:K$29,$A859:$V859)","v":""},{"$f":"ClashCount('Other league dates'!L$8:L$29,$A859:$V859)","v":""}]
["  x","  o","  x","  o","  x","  o","  x","  o--","--o","  x","  o--","--o","  x","  o","  x","  o","  x--","--x","  o","  x","  o","  x","D",null,{"$f":"ClashCount('Other league dates'!J$8:J$29,$A860:$V860)","v":""},{"$f":"ClashCount('Other league dates'!K$8:K$29,$A860:$V860)","v":""},{"$f":"ClashCount('Other league dates'!L$8:L$29,$A860:$V860)","v":""}]
["  o","  x","  o","  x","  o","  x--","--x","  o","  x","  o","  x--","--x","  o","  x","  o--","--o","  x","  o","  x","  o","  x","  o","E",null,{"$f":"ClashCount('Other league dates'!J$8:J$29,$A861:$V861)","v":""},{"$f":"ClashCount('Other league dates'!K$8:K$29,$A861:$V861)","v":""},{"$f":"ClashCount('Other league dates'!L$8:L$29,$A861:$V861)","v":""}]
["  x","  o","  x","  o","  x","  o--","--o","  x","  o","  x","  o--","--o","  x","  o","  x--","--x","  o","  x","  o","  x","  o","  x","F",null,{"$f":"ClashCount('Other league dates'!J$8:J$29,$A862:$V862)","v":""},{"$f":"ClashCount('Other league dates'!K$8:K$29,$A862:$V862)","v":""},{"$f":"ClashCount('Other league dates'!L$8:L$29,$A862:$V862)","v":""}]
["  o","  x","  o","  x--","--x","  o","  x","  o","  x","  o","  x--","--x","  o--","--o","  x","  o","  x","  o","  x","  o","  x","  o","G",null,{"$f":"ClashCount('Other league dates'!J$8:J$29,$A863:$V863)","v":""},{"$f":"ClashCount('Other league dates'!K$8:K$29,$A863:$V863)","v":""},{"$f":"ClashCount('Other league dates'!L$8:L$29,$A863:$V863)","v":""}]
["  x","  o","  x","  o--","--o","  x","  o","  x","  o","  x","  o--","--o","  x--","--x","  o","  x","  o","  x","  o","  x","  o","  x","H",null,{"$f":"ClashCount('Other league dates'!J$8:J$29,$A864:$V864)","v":""},{"$f":"ClashCount('Other league dates'!K$8:K$29,$A864:$V864)","v":""},{"$f":"ClashCount('Other league dates'!L$8:L$29,$A864:$V864)","v":""}]
["  o","  x--","--x","  o","  x","  o","  x","  o","  x","  o","  x","  o","  x","  o","  x","  o","  x","  o","  x","  o","  x","  o","I",null,{"$f":"ClashCount('Other league dates'!J$8:J$29,$A865:$V865)","v":""},{"$f":"ClashCount('Other league dates'!K$8:K$29,$A865:$V865)","v":""},{"$f":"ClashCount('Other league dates'!L$8:L$29,$A865:$V865)","v":""}]
["  x","  o--","--o","  x","  o","  x","  o","  x","  o","  x","  o","  x","  o","  x","  o","  x","  o","  x","  o","  x","  o","  x","J",null,{"$f":"ClashCount('Other league dates'!J$8:J$29,$A866:$V866)","v":""},{"$f":"ClashCount('Other league dates'!K$8:K$29,$A866:$V866)","v":""},{"$f":"ClashCount('Other league dates'!L$8:L$29,$A866:$V866)","v":""}]
["  x","  o","  x","  o","  x","  o","  x","  o","  x","  o","  x","  o","  x","  o","  x","  o","  x","  o","  x","  o--","--o","  x","K",null,{"$f":"ClashCount('Other league dates'!J$8:J$29,$A867:$V867)","v":""},{"$f":"ClashCount('Other league dates'!K$8:K$29,$A867:$V867)","v":""},{"$f":"ClashCount('Other league dates'!L$8:L$29,$A867:$V867)","v":""}]
["  o","  x","  o","  x","  o","  x","  o","  x","  o","  x","  o","  x","  o","  x","  o","  x","  o","  x","  o","  x--","--x","  o","L",null,{"$f":"ClashCount('Other league dates'!J$8:J$29,$A868:$V868)","v":""},{"$f":"ClashCount('Other league dates'!K$8:K$29,$A868:$V868)","v":""},{"$f":"ClashCount('Other league dates'!L$8:L$29,$A868:$V868)","v":""}]
[]
["Fit:","10caaa"]
[]
["12donx",null,null,"Use J for Open date, to avoid successive away matches for other teams"]
[]
["KJ","JI","KF","GJ","KB","EJ","KI","CJ","KE","AJ","KA","LI","KH","IG","KD","GE","KL","EC","KG","CA","KC","AK"]
["AH","LG","AD","IE","AL","GC","AG","EA","AC","CK","BI","BG","AF","LE","AB","IC","AI","GA","AE","EK","BL","CH"]
["CF","BE","CB","LC","CI","IA","CE","GK","DL","EH","DG","DE","CD","BC","CL","LA","CG","IK","DB","GH","DI","EF"]
["ED","DC","EL","BA","EG","LK","FB","IH","FI","GF","FE","FC","EB","DA","EI","BK","FD","LH","FL","IF","FG","GD"]
["GB","FA","GI","DK","HD","BH","HL","LF","HG","ID","HC","HA","GL","FK","HF","DH","HB","BF","HI","LD","HE","IB"]
["IL","HK","JH","FH","JF","DF","JD","BD","JB","LB","JL","JK","IJ","HJ","JG","FJ","JE","DJ","JC","BJ","JA","LJ"]
[1,2,3,4,5,6,7,8,9,10,11,12,13,14,15,16,17,18,19,20,21,22]
["RFx",null,null,null,null,null,null,null,null,null,null,1,2,3,4,5,6,7,8,9,10,11]
["  o","  x","  o","  x","  o","  x","  o","  x","  o--","--o","  x--","--x","  o","  x","  o","  x","  o","  x","  o","  x--","--x","  o","A",null,{"$f":"ClashCount('Other league dates'!J$8:J$29,$A882:$V882)","v":""},{"$f":"ClashCount('Other league dates'!K$8:K$29,$A882:$V882)","v":""},{"$f":"ClashCount('Other league dates'!L$8:L$29,$A882:$V882)","v":""}]
["  x","  o","  x","  o","  x","  o","  x","  o","  x--","--x","  o--","--o","  x","  o","  x","  o","  x","  o","  x","  o--","--o","  x","B",null,{"$f":"ClashCount('Other league dates'!J$8:J$29,$A883:$V883)","v":""},{"$f":"ClashCount('Other league dates'!K$8:K$29,$A883:$V883)","v":""},{"$f":"ClashCount('Other league dates'!L$8:L$29,$A883:$V883)","v":""}]
["  o","  x","  o","  x","  o","  x","  o--","--o","  x","  o","  x--","--x","  o","  x","  o","  x","  o","  x--","--x","  o","  x","  o","C",null,{"$f":"ClashCount('Other league dates'!J$8:J$29,$A884:$V884)","v":""},{"$f":"ClashCount('Other league dates'!K$8:K$29,$A884:$V884)","v":""},{"$f":"ClashCount('Other league dates'!L$8:L$29,$A884:$V884)","v":""}]
["  x","  o","  x","  o","  x","  o","  x--","--x","  o","  x","  o--","--o","  x","  o","  x","  o","  x","  o--","--o","  x","  o","  x","D",null,{"$f":"ClashCount('Other league dates'!J$8:J$29,$A885:$V885)","v":""},{"$f":"ClashCount('Other league dates'!K$8:K$29,$A885:$V885)","v":""},{"$f":"ClashCount('Other league dates'!L$8:L$29,$A885:$V885)","v":""}]
["  o","  x","  o","  x","  o--","--o","  x","  o","  x","  o","  x--","--x","  o","  x","  o","  x--","--x","  o","  x","  o","  x","  o","E",null,{"$f":"ClashCount('Other league dates'!J$8:J$29,$A886:$V886)","v":""},{"$f":"ClashCount('Other league dates'!K$8:K$29,$A886:$V886)","v":""},{"$f":"ClashCount('Other league dates'!L$8:L$29,$A886:$V886)","v":""}]
["  x","  o","  x","  o","  x--","--x","  o","  x","  o","  x","  o--","--o","  x","  o","  x","  o--","--o","  x","  o","  x","  o","  x","F",null,{"$f":"ClashCount('Other league dates'!J$8:J$29,$A887:$V887)","v":""},{"$f":"ClashCount('Other league dates'!K$8:K$29,$A887:$V887)","v":""},{"$f":"ClashCount('Other league dates'!L$8:L$29,$A887:$V887)","v":""}]
["  o","  x","  o--","--o","  x","  o","  x","  o","  x","  o","  x--","--x","  o","  x--","--x","  o","  x","  o","  x","  o","  x","  o","G",null,{"$f":"ClashCount('Other league dates'!J$8:J$29,$A888:$V888)","v":""},{"$f":"ClashCount('Other league dates'!K$8:K$29,$A888:$V888)","v":""},{"$f":"ClashCount('Other league dates'!L$8:L$29,$A888:$V888)","v":""}]
["  x","  o","  x--","--x","  o","  x","  o","  x","  o","  x","  o--","--o","  x","  o--","--o","  x","  o","  x","  o","  x","  o","  x","H",null,{"$f":"ClashCount('Other league dates'!J$8:J$29,$A889:$V889)","v":""},{"$f":"ClashCount('Other league dates'!K$8:K$29,$A889:$V889)","v":""},{"$f":"ClashCount('Other league dates'!L$8:L$29,$A889:$V889)","v":""}]
["  o","  x--","--x","  o","  x","  o","  x","  o","  x","  o","  x--","--x","  o--","--o","  x","  o","  x","  o","  x","  o","  x","  o","I",null,{"$f":"ClashCount('Other league dates'!J$8:J$29,$A890:$V890)","v":""},{"$f":"ClashCount('Other league dates'!K$8:K$29,$A890:$V890)","v":""},{"$f":"ClashCount('Other league dates'!L$8:L$29,$A890:$V890)","v":""}]
["  x","  o--","--o","  x","  o","  x","  o","  x","  o","  x","  o--","--o","  x--","--x","  o","  x","  o","  x","  o","  x","  o","  x","J",null,{"$f":"ClashCount('Other league dates'!J$8:J$29,$A891:$V891)","v":""},{"$f":"ClashCount('Other league dates'!K$8:K$29,$A891:$V891)","v":""},{"$f":"ClashCount('Other league dates'!L$8:L$29,$A891:$V891)","v":""}]
["  o","  x","  o","  x","  o","  x","  o","  x","  o","  x","  o","  x","  o","  x","  o","  x","  o","  x","  o","  x","  o","  x","K",null,{"$f":"ClashCount('Other league dates'!J$8:J$29,$A892:$V892)","v":""},{"$f":"ClashCount('Other league dates'!K$8:K$29,$A892:$V892)","v":""},{"$f":"ClashCount('Other league dates'!L$8:L$29,$A892:$V892)","v":""}]
["  x","  o","  x","  o","  x","  o","  x","  o","  x","  o","  x","  o","  x","  o","  x","  o","  x","  o","  x","  o","  x","  o","L",null,{"$f":"ClashCount('Other league dates'!J$8:J$29,$A893:$V893)","v":""},{"$f":"ClashCount('Other league dates'!K$8:K$29,$A893:$V893)","v":""},{"$f":"ClashCount('Other league dates'!L$8:L$29,$A893:$V893)","v":""}]
[]
["Fit:","10donx",null,"14donx"]
[]
["12 Mid-Chesh",null,null,null,"Matched pairs play off in first two weeks"]
[]
["AB","BA","AD","BG","AF","BI","AL","BK","BE","AJ","AH","BC","AI","BJ","BD","AC","BL","AK","BH","AG","AE","BF"]
["CD","DC","CF","DA","CL","DG","CJ","DI","DK","CH","CB","DE","DF","CE","CA","DB","DJ","CI","DL","CK","DH","CG"]
["EF","FE","EL","FC","EJ","FA","EH","FG","FI","EB","ED","FK","EC","FD","FL","EK","FH","EG","FJ","EI","FB","EA"]
["GH","HG","GB","HI","GD","HK","GF","HE","HC","GL","GJ","HA","GK","HL","HJ","GI","GE","HF","GA","HB","GC","HD"]
["IJ","JI","IH","JK","IB","JE","ID","JC","JA","IF","IL","JG","JB","IA","IG","JH","IC","JD","IE","JF","IK","JL"]
["KL","LK","KJ","LE","KH","LC","KB","LA","LG","KD","KF","LI","LH","KG","KE","LF","KA","LB","KC","LD","LJ","KI"]
[1,2,3,4,5,6,7,8,9,10,11,12,13,14,15,16,17,18,19,20,21,22]
["RFx",1,null,3,null,5,null,7,null,9,null,11,null,13,null,15,null,17,null,19,null,21]
["  o","  x","  o","  x","  o","  x","  o","  x--","--x","  o--","--o","  x","  o","  x--","--x","  o","  x","  o","  x","  o--","--o","  x","A",null,{"$f":"ClashCount('Other league dates'!J$8:J$29,$A907:$V907)","v":""},{"$f":"ClashCount('Other league dates'!K$8:K$29,$A907:$V907)","v":""},{"$f":"ClashCount('Other league dates'!L$8:L$29,$A907:$V907)","v":""}]
["  x","  o","  x","  o","  x","  o","  x","  o--","--o","  x--","--x","  o","  x","  o--","--o","  x","  o","  x","  o","  x--","--x","  o","B",null,{"$f":"ClashCount('Other league dates'!J$8:J$29,$A908:$V908)","v":""},{"$f":"ClashCount('Other league dates'!K$8:K$29,$A908:$V908)","v":""},{"$f":"ClashCount('Other league dates'!L$8:L$29,$A908:$V908)","v":""}]
["  o","  x","  o","  x","  o","  x","  o","  x--","--x","  o--","--o","  x--","--x","  o--","--o","  x--","--x","  o","  x","  o","  x","  o","C",null,{"$f":"ClashCount('Other league dates'!J$8:J$29,$A909:$V909)","v":""},{"$f":"ClashCount('Other league dates'!K$8:K$29,$A909:$V909)","v":""},{"$f":"ClashCount('Other league dates'!L$8:L$29,$A909:$V909)","v":""}]
["  x","  o","  x","  o","  x","  o","  x","  o--","--o","  x--","--x","  o--","--o","  x--","--x","  o--","--o","  x","  o","  x","  o","  x","D",null,{"$f":"ClashCount('Other league dates'!J$8:J$29,$A910:$V910)","v":""},{"$f":"ClashCount('Other league dates'!K$8:K$29,$A910:$V910)","v":""},{"$f":"ClashCount('Other league dates'!L$8:L$29,$A910:$V910)","v":""}]
["  o","  x","  o","  x","  o","  x","  o","  x--","--x","  o--","--o","  x","  o","  x--","--x","  o","  x","  o","  x","  o","  x","  o","E",null,{"$f":"ClashCount('Other league dates'!J$8:J$29,$A911:$V911)","v":""},{"$f":"ClashCount('Other league dates'!K$8:K$29,$A911:$V911)","v":""},{"$f":"ClashCount('Other league dates'!L$8:L$29,$A911:$V911)","v":""}]
["  x","  o","  x","  o","  x","  o","  x","  o--","--o","  x--","--x","  o","  x","  o--","--o","  x","  o","  x","  o","  x","  o","  x","F",null,{"$f":"ClashCount('Other league dates'!J$8:J$29,$A912:$V912)","v":""},{"$f":"ClashCount('Other league dates'!K$8:K$29,$A912:$V912)","v":""},{"$f":"ClashCount('Other league dates'!L$8:L$29,$A912:$V912)","v":""}]
["  o","  x","  o","  x","  o","  x","  o","  x--","--x","  o--","--o","  x","  o","  x--","--x","  o--","--o","  x","  o","  x","  o","  x","G",null,{"$f":"ClashCount('Other league dates'!J$8:J$29,$A913:$V913)","v":""},{"$f":"ClashCount('Other league dates'!K$8:K$29,$A913:$V913)","v":""},{"$f":"ClashCount('Other league dates'!L$8:L$29,$A913:$V913)","v":""}]
["  x","  o","  x","  o","  x","  o","  x","  o--","--o","  x--","--x","  o","  x","  o--","--o","  x--","--x","  o","  x","  o","  x","  o","H",null,{"$f":"ClashCount('Other league dates'!J$8:J$29,$A914:$V914)","v":""},{"$f":"ClashCount('Other league dates'!K$8:K$29,$A914:$V914)","v":""},{"$f":"ClashCount('Other league dates'!L$8:L$29,$A914:$V914)","v":""}]
["  o","  x","  o","  x","  o","  x","  o","  x--","--x","  o--","--o","  x--","--x","  o--","--o","  x","  o","  x","  o","  x","  o","  x","I",null,{"$f":"ClashCount('Other league dates'!J$8:J$29,$A915:$V915)","v":""},{"$f":"ClashCount('Other league dates'!K$8:K$29,$A915:$V915)","v":""},{"$f":"ClashCount('Other league dates'!L$8:L$29,$A915:$V915)","v":""}]
["  x","  o","  x","  o","  x","  o","  x","  o--","--o","  x--","--x","  o--","--o","  x--","--x","  o","  x","  o","  x","  o","  x","  o","J",null,{"$f":"ClashCount('Other league dates'!J$8:J$29,$A916:$V916)","v":""},{"$f":"ClashCount('Other league dates'!K$8:K$29,$A916:$V916)","v":""},{"$f":"ClashCount('Other league dates'!L$8:L$29,$A916:$V916)","v":""}]
["  o","  x","  o","  x","  o","  x","  o","  x--","--x","  o--","--o","  x--","--x","  o--","--o","  x","  o","  x","  o","  x--","--x","  o","K",null,{"$f":"ClashCount('Other league dates'!J$8:J$29,$A917:$V917)","v":""},{"$f":"ClashCount('Other league dates'!K$8:K$29,$A917:$V917)","v":""},{"$f":"ClashCount('Other league dates'!L$8:L$29,$A917:$V917)","v":""}]
["  x","  o","  x","  o","  x","  o","  x","  o--","--o","  x--","--x","  o--","--o","  x--","--x","  o","  x","  o","  x","  o--","--o","  x","L",null,{"$f":"ClashCount('Other league dates'!J$8:J$29,$A918:$V918)","v":""},{"$f":"ClashCount('Other league dates'!K$8:K$29,$A918:$V918)","v":""},{"$f":"ClashCount('Other league dates'!L$8:L$29,$A918:$V918)","v":""}]
[]
[]
[]
["12primx"]
[]
["AL","KL","AH","IL","AD","GL","AK","EL","AG","CL","AC","AJ","KI","AF","IG","AB","GE","AI","EC","AE","CA","BK"]
["CJ","BI","CF","KG","CB","IE","CI","GC","CE","EA","DK","CH","BG","CD","KE","CK","IC","CG","GA","DB","EJ","DI"]
["EH","DG","ED","BE","EK","KC","EG","IA","FB","GJ","FI","EF","DE","EB","BC","EI","KA","FD","IJ","FK","GH","FG"]
["GF","FE","GB","DC","GI","BA","HD","KJ","HK","IH","HG","GD","FC","GK","DA","HF","BJ","HB","KH","HI","IF","HE"]
["ID","HC","IK","FA","JF","DJ","JB","BH","JI","KF","JE","IB","HA","JH","FJ","JD","DH","JK","BF","JG","KD","JC"]
["KB","JA","LJ","HJ","LH","FH","LF","DF","LD","BD","LB","LK","JL","LI","HL","LG","FL","LE","DL","LC","BL","LA"]
[1,2,3,4,5,6,7,8,9,10,11,12,13,14,15,16,17,18,19,20,21,22]
["RFx",null,null,null,null,null,null,null,null,null,null,2,3,4,5,6,7,8,9,10,11,1]
["  o","  x","  o","  x","  o","  x","  o","  x","  o","  x","  o--","--o","  x","  o","  x","  o","  x","  o","  x","  o","  x--","--x","A",null,{"$f":"ClashCount('Other league dates'!J$8:J$29,$A932:$V932)","v":""},{"$f":"ClashCount('Other league dates'!K$8:K$29,$A932:$V932)","v":""},{"$f":"ClashCount('Other league dates'!L$8:L$29,$A932:$V932)","v":""}]
["  x","  o","  x","  o","  x","  o","  x","  o","  x","  o","  x--","--x","  o","  x","  o","  x","  o","  x","  o","  x","  o--","--o","B",null,{"$f":"ClashCount('Other league dates'!J$8:J$29,$A933:$V933)","v":""},{"$f":"ClashCount('Other league dates'!K$8:K$29,$A933:$V933)","v":""},{"$f":"ClashCount('Other league dates'!L$8:L$29,$A933:$V933)","v":""}]
["  o","  x","  o","  x","  o","  x","  o","  x","  o--","--o","  x","  o","  x","  o","  x","  o","  x","  o","  x--","--x","  o","  x","C",null,{"$f":"ClashCount('Other league dates'!J$8:J$29,$A934:$V934)","v":""},{"$f":"ClashCount('Other league dates'!K$8:K$29,$A934:$V934)","v":""},{"$f":"ClashCount('Other league dates'!L$8:L$29,$A934:$V934)","v":""}]
["  x","  o","  x","  o","  x","  o","  x","  o","  x--","--x","  o","  x","  o","  x","  o","  x","  o","  x","  o--","--o","  x","  o","D",null,{"$f":"ClashCount('Other league dates'!J$8:J$29,$A935:$V935)","v":""},{"$f":"ClashCount('Other league dates'!K$8:K$29,$A935:$V935)","v":""},{"$f":"ClashCount('Other league dates'!L$8:L$29,$A935:$V935)","v":""}]
["  o","  x","  o","  x","  o","  x","  o--","--o","  x","  o","  x","  o","  x","  o","  x","  o","  x--","--x","  o","  x","  o","  x","E",null,{"$f":"ClashCount('Other league dates'!J$8:J$29,$A936:$V936)","v":""},{"$f":"ClashCount('Other league dates'!K$8:K$29,$A936:$V936)","v":""},{"$f":"ClashCount('Other league dates'!L$8:L$29,$A936:$V936)","v":""}]
["  x","  o","  x","  o","  x","  o","  x--","--x","  o","  x","  o","  x","  o","  x","  o","  x","  o--","--o","  x","  o","  x","  o","F",null,{"$f":"ClashCount('Other league dates'!J$8:J$29,$A937:$V937)","v":""},{"$f":"ClashCount('Other league dates'!K$8:K$29,$A937:$V937)","v":""},{"$f":"ClashCount('Other league dates'!L$8:L$29,$A937:$V937)","v":""}]
["  o","  x","  o","  x","  o--","--o","  x","  o","  x","  o","  x","  o","  x","  o","  x--","--x","  o","  x","  o","  x","  o","  x","G",null,{"$f":"ClashCount('Other league dates'!J$8:J$29,$A938:$V938)","v":""},{"$f":"ClashCount('Other league dates'!K$8:K$29,$A938:$V938)","v":""},{"$f":"ClashCount('Other league dates'!L$8:L$29,$A938:$V938)","v":""}]
["  x","  o","  x","  o","  x--","--x","  o","  x","  o","  x","  o","  x","  o","  x","  o--","--o","  x","  o","  x","  o","  x","  o","H",null,{"$f":"ClashCount('Other league dates'!J$8:J$29,$A939:$V939)","v":""},{"$f":"ClashCount('Other league dates'!K$8:K$29,$A939:$V939)","v":""},{"$f":"ClashCount('Other league dates'!L$8:L$29,$A939:$V939)","v":""}]
["  o","  x","  o--","--o","  x","  o","  x","  o","  x","  o","  x","  o","  x--","--x","  o","  x","  o","  x","  o","  x","  o","  x","I",null,{"$f":"ClashCount('Other league dates'!J$8:J$29,$A940:$V940)","v":""},{"$f":"ClashCount('Other league dates'!K$8:K$29,$A940:$V940)","v":""},{"$f":"ClashCount('Other league dates'!L$8:L$29,$A940:$V940)","v":""}]
["  x","  o","  x--","--x","  o","  x","  o","  x","  o","  x","  o","  x","  o--","--o","  x","  o","  x","  o","  x","  o","  x","  o","J",null,{"$f":"ClashCount('Other league dates'!J$8:J$29,$A941:$V941)","v":""},{"$f":"ClashCount('Other league dates'!K$8:K$29,$A941:$V941)","v":""},{"$f":"ClashCount('Other league dates'!L$8:L$29,$A941:$V941)","v":""}]
["  o--","--o","  x","  o","  x","  o","  x","  o","  x","  o","  x--","--x","  o","  x","  o","  x","  o","  x","  o","  x","  o","  x","K",null,{"$f":"ClashCount('Other league dates'!J$8:J$29,$A942:$V942)","v":""},{"$f":"ClashCount('Other league dates'!K$8:K$29,$A942:$V942)","v":""},{"$f":"ClashCount('Other league dates'!L$8:L$29,$A942:$V942)","v":""}]
["  x--","--x","  o","  x","  o","  x","  o","  x","  o","  x","  o--","--o","  x","  o","  x","  o","  x","  o","  x","  o","  x","  o","L",null,{"$f":"ClashCount('Other league dates'!J$8:J$29,$A943:$V943)","v":""},{"$f":"ClashCount('Other league dates'!K$8:K$29,$A943:$V943)","v":""},{"$f":"ClashCount('Other league dates'!L$8:L$29,$A943:$V943)","v":""}]
[]
[]
[]
["12rraa"]
[]
["AJ","BL","AH","BI","AF","BJ","AD","BG","AK","BH","AI","BE","AG","BF","AE","BC","AC","BD","AB","BA","BK","AL"]
["CH","DG","CF","DE","CD","DC","CK","DA","CI","DL","CG","DJ","CE","DH","CB","DF","DB","CA","DK","CL","DI","CJ"]
["EF","FE","ED","FC","EK","FA","EI","FL","EG","FJ","EB","FH","FB","EC","FD","EA","FK","EL","FI","EJ","FG","EH"]
["GD","HC","GK","HA","GI","HL","GB","HJ","HB","GE","HF","GC","HD","GA","HK","GL","HI","GJ","HG","GH","HE","GF"]
["IK","JA","IB","JL","JB","IG","JH","IE","JF","IC","JD","IA","JK","IL","JI","IJ","JG","IH","JE","IF","JC","ID"]
["LB","KI","LJ","KG","LH","KE","LF","KC","LD","KA","LK","KL","LI","KJ","LG","KH","LE","KF","LC","KD","LA","KB"]
[1,2,3,4,5,6,7,8,9,10,11,12,13,14,15,16,17,18,19,20,21,22]
["RFx",1,null,3,null,5,null,7,null,9,null,11,null,13,null,15,null,17,null,19,null,21]
["  o","  x","  o","  x","  o","  x","  o","  x","  o","  x","  o","  x","  o","  x","  o","  x","  o","  x","  o","  x--","--x","  o","A",null,{"$f":"ClashCount('Other league dates'!J$8:J$29,$A957:$V957)","v":""},{"$f":"ClashCount('Other league dates'!K$8:K$29,$A957:$V957)","v":""},{"$f":"ClashCount('Other league dates'!L$8:L$29,$A957:$V957)","v":""}]
["  x","  o","  x","  o","  x","  o","  x","  o","  x","  o","  x","  o","  x","  o","  x","  o","  x","  o","  x","  o--","--o","  x","B",null,{"$f":"ClashCount('Other league dates'!J$8:J$29,$A958:$V958)","v":""},{"$f":"ClashCount('Other league dates'!K$8:K$29,$A958:$V958)","v":""},{"$f":"ClashCount('Other league dates'!L$8:L$29,$A958:$V958)","v":""}]
["  o","  x","  o","  x","  o","  x","  o","  x","  o","  x","  o","  x","  o","  x","  o","  x--","--x","  o","  x","  o","  x","  o","C",null,{"$f":"ClashCount('Other league dates'!J$8:J$29,$A959:$V959)","v":""},{"$f":"ClashCount('Other league dates'!K$8:K$29,$A959:$V959)","v":""},{"$f":"ClashCount('Other league dates'!L$8:L$29,$A959:$V959)","v":""}]
["  x","  o","  x","  o","  x","  o","  x","  o","  x","  o","  x","  o","  x","  o","  x","  o--","--o","  x","  o","  x","  o","  x","D",null,{"$f":"ClashCount('Other league dates'!J$8:J$29,$A960:$V960)","v":""},{"$f":"ClashCount('Other league dates'!K$8:K$29,$A960:$V960)","v":""},{"$f":"ClashCount('Other league dates'!L$8:L$29,$A960:$V960)","v":""}]
["  o","  x","  o","  x","  o","  x","  o","  x","  o","  x","  o","  x--","--x","  o","  x","  o","  x","  o","  x","  o","  x","  o","E",null,{"$f":"ClashCount('Other league dates'!J$8:J$29,$A961:$V961)","v":""},{"$f":"ClashCount('Other league dates'!K$8:K$29,$A961:$V961)","v":""},{"$f":"ClashCount('Other league dates'!L$8:L$29,$A961:$V961)","v":""}]
["  x","  o","  x","  o","  x","  o","  x","  o","  x","  o","  x","  o--","--o","  x","  o","  x","  o","  x","  o","  x","  o","  x","F",null,{"$f":"ClashCount('Other league dates'!J$8:J$29,$A962:$V962)","v":""},{"$f":"ClashCount('Other league dates'!K$8:K$29,$A962:$V962)","v":""},{"$f":"ClashCount('Other league dates'!L$8:L$29,$A962:$V962)","v":""}]
["  o","  x","  o","  x","  o","  x","  o","  x--","--x","  o","  x","  o","  x","  o","  x","  o","  x","  o","  x","  o","  x","  o","G",null,{"$f":"ClashCount('Other league dates'!J$8:J$29,$A963:$V963)","v":""},{"$f":"ClashCount('Other league dates'!K$8:K$29,$A963:$V963)","v":""},{"$f":"ClashCount('Other league dates'!L$8:L$29,$A963:$V963)","v":""}]
["  x","  o","  x","  o","  x","  o","  x","  o--","--o","  x","  o","  x","  o","  x","  o","  x","  o","  x","  o","  x","  o","  x","H",null,{"$f":"ClashCount('Other league dates'!J$8:J$29,$A964:$V964)","v":""},{"$f":"ClashCount('Other league dates'!K$8:K$29,$A964:$V964)","v":""},{"$f":"ClashCount('Other league dates'!L$8:L$29,$A964:$V964)","v":""}]
["  o","  x","  o","  x--","--x","  o","  x","  o","  x","  o","  x","  o","  x","  o","  x","  o","  x","  o","  x","  o","  x","  o","I",null,{"$f":"ClashCount('Other league dates'!J$8:J$29,$A965:$V965)","v":""},{"$f":"ClashCount('Other league dates'!K$8:K$29,$A965:$V965)","v":""},{"$f":"ClashCount('Other league dates'!L$8:L$29,$A965:$V965)","v":""}]
["  x","  o","  x","  o--","--o","  x","  o","  x","  o","  x","  o","  x","  o","  x","  o","  x","  o","  x","  o","  x","  o","  x","J",null,{"$f":"ClashCount('Other league dates'!J$8:J$29,$A966:$V966)","v":""},{"$f":"ClashCount('Other league dates'!K$8:K$29,$A966:$V966)","v":""},{"$f":"ClashCount('Other league dates'!L$8:L$29,$A966:$V966)","v":""}]
["  x","  o","  x","  o","  x","  o","  x","  o","  x","  o","  x","  o","  x","  o","  x","  o","  x","  o","  x","  o","  x","  o","K",null,{"$f":"ClashCount('Other league dates'!J$8:J$29,$A967:$V967)","v":""},{"$f":"ClashCount('Other league dates'!K$8:K$29,$A967:$V967)","v":""},{"$f":"ClashCount('Other league dates'!L$8:L$29,$A967:$V967)","v":""}]
["  o","  x","  o","  x","  o","  x","  o","  x","  o","  x","  o","  x","  o","  x","  o","  x","  o","  x","  o","  x","  o","  x","L",null,{"$f":"ClashCount('Other league dates'!J$8:J$29,$A968:$V968)","v":""},{"$f":"ClashCount('Other league dates'!K$8:K$29,$A968:$V968)","v":""},{"$f":"ClashCount('Other league dates'!L$8:L$29,$A968:$V968)","v":""}]
[]
[]
[]
["12WNC"]
[]
["AL","JA","AH","FA","AD","BA","AK","IA","AG","EA","AC","HA","AF","DA","AB","KA","AI","GA","AE","CA","AJ","LA"]
["CJ","HC","CF","DC","CB","KC","CI","GC","CE","CL","JE","FC","CD","BC","CK","IC","CG","EC","LC","EJ","CH","JC"]
["EH","FE","ED","BE","EK","IE","EG","EL","JI","GJ","HG","DE","EB","KE","EI","GE","LE","IJ","JG","GH","EF","HE"]
["GF","DG","GB","KG","GI","GL","JB","KJ","HK","IH","FI","BG","GK","IG","LG","BJ","JK","KH","HI","IF","GD","FG"]
["ID","BI","IK","IL","JF","DJ","HD","BH","FB","KF","DK","KI","LI","FJ","JD","DH","HB","BF","FK","KD","IB","DI"]
["KB","KL","LJ","HJ","LH","FH","LF","DF","LD","BD","LB","JL","JH","HL","HF","FL","FD","DL","DB","BL","LK","BK"]
[1,2,3,4,5,6,7,8,9,10,11,12,13,14,15,16,17,18,19,20,21,22]
["RFx",null,null,null,null,null,null,null,null,null,null,3,4,5,6,7,8,9,10,11,2,1,null,"Numbers on Warrington/N.Cheshire web site"]
["  o","  x","  o","  x","  o","  x","  o","  x","  o","  x","  o","  x","  o","  x","  o","  x","  o","  x","  o","  x","  o","  x","A",1,{"$f":"ClashCount('Other league dates'!J$8:J$29,$A982:$V982)","v":""},{"$f":"ClashCount('Other league dates'!K$8:K$29,$A982:$V982)","v":""},{"$f":"ClashCount('Other league dates'!L$8:L$29,$A982:$V982)","v":""}]
["  x","  o","  x","  o","  x","  o","  x","  o","  x","  o","  x","  o","  x","  o","  x","  o","  x","  o","  x","  o","  x","  o","B",7,{"$f":"ClashCount('Other league dates'!J$8:J$29,$A983:$V983)","v":""},{"$f":"ClashCount('Other league dates'!K$8:K$29,$A983:$V983)","v":""},{"$f":"ClashCount('Other league dates'!L$8:L$29,$A983:$V983)","v":""}]
["  o","  x","  o","  x","  o","  x","  o","  x","  o--","--o","  x--","--x","  o","  x","  o","  x","  o","  x--","--x","  o--","--o","  x","C",2,{"$f":"ClashCount('Other league dates'!J$8:J$29,$A984:$V984)","v":""},{"$f":"ClashCount('Other league dates'!K$8:K$29,$A984:$V984)","v":""},{"$f":"ClashCount('Other league dates'!L$8:L$29,$A984:$V984)","v":""}]
["  x","  o","  x","  o","  x","  o","  x","  o","  x--","--x","  o--","--o","  x","  o","  x","  o","  x","  o--","--o","  x--","--x","  o","D",8,{"$f":"ClashCount('Other league dates'!J$8:J$29,$A985:$V985)","v":""},{"$f":"ClashCount('Other league dates'!K$8:K$29,$A985:$V985)","v":""},{"$f":"ClashCount('Other league dates'!L$8:L$29,$A985:$V985)","v":""}]
["  o","  x","  o","  x","  o","  x","  o--","--o","  x","  o","  x--","--x","  o","  x","  o","  x--","--x","  o","  x","  o--","--o","  x","E",3,{"$f":"ClashCount('Other league dates'!J$8:J$29,$A986:$V986)","v":""},{"$f":"ClashCount('Other league dates'!K$8:K$29,$A986:$V986)","v":""},{"$f":"ClashCount('Other league dates'!L$8:L$29,$A986:$V986)","v":""}]
["  x","  o","  x","  o","  x","  o","  x--","--x","  o","  x","  o--","--o","  x","  o","  x","  o--","--o","  x","  o","  x--","--x","  o","F",9,{"$f":"ClashCount('Other league dates'!J$8:J$29,$A987:$V987)","v":""},{"$f":"ClashCount('Other league dates'!K$8:K$29,$A987:$V987)","v":""},{"$f":"ClashCount('Other league dates'!L$8:L$29,$A987:$V987)","v":""}]
["  o","  x","  o","  x","  o--","--o","  x","  o","  x","  o","  x--","--x","  o","  x--","--x","  o","  x","  o","  x","  o--","--o","  x","G",4,{"$f":"ClashCount('Other league dates'!J$8:J$29,$A988:$V988)","v":""},{"$f":"ClashCount('Other league dates'!K$8:K$29,$A988:$V988)","v":""},{"$f":"ClashCount('Other league dates'!L$8:L$29,$A988:$V988)","v":""}]
["  x","  o","  x","  o","  x--","--x","  o","  x","  o","  x","  o--","--o","  x","  o--","--o","  x","  o","  x","  o","  x--","--x","  o","H",10,{"$f":"ClashCount('Other league dates'!J$8:J$29,$A989:$V989)","v":""},{"$f":"ClashCount('Other league dates'!K$8:K$29,$A989:$V989)","v":""},{"$f":"ClashCount('Other league dates'!L$8:L$29,$A989:$V989)","v":""}]
["  o","  x","  o--","--o","  x","  o","  x","  o","  x","  o","  x--","--x--","--x","  o","  x","  o","  x","  o","  x","  o--","--o","  x","I",5,{"$f":"ClashCount('Other league dates'!J$8:J$29,$A990:$V990)","v":""},{"$f":"ClashCount('Other league dates'!K$8:K$29,$A990:$V990)","v":""},{"$f":"ClashCount('Other league dates'!L$8:L$29,$A990:$V990)","v":""}]
["  x","  o","  x--","--x","  o","  x","  o","  x","  o","  x","  o--","--o--","--o","  x","  o","  x","  o","  x","  o","  x--","--x","  o","J",11,{"$f":"ClashCount('Other league dates'!J$8:J$29,$A991:$V991)","v":""},{"$f":"ClashCount('Other league dates'!K$8:K$29,$A991:$V991)","v":""},{"$f":"ClashCount('Other league dates'!L$8:L$29,$A991:$V991)","v":""}]
["  o--","--o","  x","  o","  x","  o","  x","  o","  x","  o","  x","  o","  x","  o","  x","  o","  x","  o","  x","  o","  x--","--x","K",6,{"$f":"ClashCount('Other league dates'!J$8:J$29,$A992:$V992)","v":""},{"$f":"ClashCount('Other league dates'!K$8:K$29,$A992:$V992)","v":""},{"$f":"ClashCount('Other league dates'!L$8:L$29,$A992:$V992)","v":""}]
["  x--","--x","  o","  x","  o","  x","  o","  x","  o","  x","  o","  x","  o","  x","  o","  x","  o","  x","  o","  x","  o--","--o","L",12,{"$f":"ClashCount('Other league dates'!J$8:J$29,$A993:$V993)","v":""},{"$f":"ClashCount('Other league dates'!K$8:K$29,$A993:$V993)","v":""},{"$f":"ClashCount('Other league dates'!L$8:L$29,$A993:$V993)","v":""}]
[]
["Fit:","08WNC"]
[]
["12Berger"]
[]
["KB","BL","IB","BJ","GB","BH","EB","BF","CB","BD","AB","BA","DB","BC","FB","BE","HB","BG","JB","BI","LB","BK"]
["ID","JA","GK","HL","EI","FJ","CG","DH","AE","KF","LC","CL","FK","EA","HD","GC","JF","IE","LH","KG","AJ","DI"]
["GF","HC","ED","FA","CK","DL","AI","KJ","LG","IH","JE","EJ","HI","GL","JK","IA","LD","KC","AF","DE","CH","FG"]
["EH","FE","CF","DC","AD","KA","LK","IL","JI","GJ","HG","GH","JG","IJ","LI","KL","AK","DA","CD","FC","EF","HE"]
["CJ","DG","AH","KE","LF","IC","JD","GA","HK","EL","FI","IF","LE","KH","AG","DJ","CI","FL","EK","HA","GD","JC"]
["AL","KI","LJ","IG","JH","GE","HF","EC","FD","CA","DK","KD","AC","DF","CE","FH","EG","HJ","GI","JL","IK","LA"]
[1,2,3,4,5,6,7,8,9,10,11,12,13,14,15,16,17,18,19,20,21,22]
["RFx",null,null,null,null,null,null,null,null,null,null,11,10,9,8,7,6,5,4,3,2,1]
["  o","  x","  o","  x","  o","  x","  o","  x","  o","  x","  o","  x","  o","  x","  o","  x","  o","  x","  o","  x","  o","  x","A",null,{"$f":"ClashCount('Other league dates'!J$8:J$29,$A1007:$V1007)","v":""},{"$f":"ClashCount('Other league dates'!K$8:K$29,$A1007:$V1007)","v":""},{"$f":"ClashCount('Other league dates'!L$8:L$29,$A1007:$V1007)","v":""}]
["  x","  o","  x","  o","  x","  o","  x","  o","  x","  o","  x","  o","  x","  o","  x","  o","  x","  o","  x","  o","  x","  o","B",null,{"$f":"ClashCount('Other league dates'!J$8:J$29,$A1008:$V1008)","v":""},{"$f":"ClashCount('Other league dates'!K$8:K$29,$A1008:$V1008)","v":""},{"$f":"ClashCount('Other league dates'!L$8:L$29,$A1008:$V1008)","v":""}]
["  o","  x","  o","  x","  o","  x","  o","  x","  o--","--o","  x","  o","  x--","--x","  o","  x","  o","  x","  o","  x","  o","  x","C",null,{"$f":"ClashCount('Other league dates'!J$8:J$29,$A1009:$V1009)","v":""},{"$f":"ClashCount('Other league dates'!K$8:K$29,$A1009:$V1009)","v":""},{"$f":"ClashCount('Other league dates'!L$8:L$29,$A1009:$V1009)","v":""}]
["  x","  o","  x","  o","  x","  o","  x","  o","  x--","--x","  o","  x","  o--","--o","  x","  o","  x","  o","  x","  o","  x","  o","D",null,{"$f":"ClashCount('Other league dates'!J$8:J$29,$A1010:$V1010)","v":""},{"$f":"ClashCount('Other league dates'!K$8:K$29,$A1010:$V1010)","v":""},{"$f":"ClashCount('Other league dates'!L$8:L$29,$A1010:$V1010)","v":""}]
["  o","  x","  o","  x","  o","  x","  o--","--o","  x","  o","  x","  o","  x","  o","  x--","--x","  o","  x","  o","  x","  o","  x","E",null,{"$f":"ClashCount('Other league dates'!J$8:J$29,$A1011:$V1011)","v":""},{"$f":"ClashCount('Other league dates'!K$8:K$29,$A1011:$V1011)","v":""},{"$f":"ClashCount('Other league dates'!L$8:L$29,$A1011:$V1011)","v":""}]
["  x","  o","  x","  o","  x","  o","  x--","--x","  o","  x","  o","  x","  o","  x","  o--","--o","  x","  o","  x","  o","  x","  o","F",null,{"$f":"ClashCount('Other league dates'!J$8:J$29,$A1012:$V1012)","v":""},{"$f":"ClashCount('Other league dates'!K$8:K$29,$A1012:$V1012)","v":""},{"$f":"ClashCount('Other league dates'!L$8:L$29,$A1012:$V1012)","v":""}]
["  o","  x","  o","  x","  o--","--o","  x","  o","  x","  o","  x","  o","  x","  o","  x","  o","  x--","--x","  o","  x","  o","  x","G",null,{"$f":"ClashCount('Other league dates'!J$8:J$29,$A1013:$V1013)","v":""},{"$f":"ClashCount('Other league dates'!K$8:K$29,$A1013:$V1013)","v":""},{"$f":"ClashCount('Other league dates'!L$8:L$29,$A1013:$V1013)","v":""}]
["  x","  o","  x","  o","  x--","--x","  o","  x","  o","  x","  o","  x","  o","  x","  o","  x","  o--","--o","  x","  o","  x","  o","H",null,{"$f":"ClashCount('Other league dates'!J$8:J$29,$A1014:$V1014)","v":""},{"$f":"ClashCount('Other league dates'!K$8:K$29,$A1014:$V1014)","v":""},{"$f":"ClashCount('Other league dates'!L$8:L$29,$A1014:$V1014)","v":""}]
["  o","  x","  o--","--o","  x","  o","  x","  o","  x","  o","  x","  o","  x","  o","  x","  o","  x","  o","  x--","--x","  o","  x","I",null,{"$f":"ClashCount('Other league dates'!J$8:J$29,$A1015:$V1015)","v":""},{"$f":"ClashCount('Other league dates'!K$8:K$29,$A1015:$V1015)","v":""},{"$f":"ClashCount('Other league dates'!L$8:L$29,$A1015:$V1015)","v":""}]
["  x","  o","  x--","--x","  o","  x","  o","  x","  o","  x","  o","  x","  o","  x","  o","  x","  o","  x","  o--","--o","  x","  o","J",null,{"$f":"ClashCount('Other league dates'!J$8:J$29,$A1016:$V1016)","v":""},{"$f":"ClashCount('Other league dates'!K$8:K$29,$A1016:$V1016)","v":""},{"$f":"ClashCount('Other league dates'!L$8:L$29,$A1016:$V1016)","v":""}]
["  o--","--o","  x","  o","  x","  o","  x","  o","  x","  o","  x","  o","  x","  o","  x","  o","  x","  o","  x","  o","  x--","--x","K",null,{"$f":"ClashCount('Other league dates'!J$8:J$29,$A1017:$V1017)","v":""},{"$f":"ClashCount('Other league dates'!K$8:K$29,$A1017:$V1017)","v":""},{"$f":"ClashCount('Other league dates'!L$8:L$29,$A1017:$V1017)","v":""}]
["  x--","--x","  o","  x","  o","  x","  o","  x","  o","  x","  o","  x","  o","  x","  o","  x","  o","  x","  o","  x","  o--","--o","L",null,{"$f":"ClashCount('Other league dates'!J$8:J$29,$A1018:$V1018)","v":""},{"$f":"ClashCount('Other league dates'!K$8:K$29,$A1018:$V1018)","v":""},{"$f":"ClashCount('Other league dates'!L$8:L$29,$A1018:$V1018)","v":""}]
[]
["Fit:","04Berger",null,"06Berger",null,"08Berger",null,"10Berger",null,"14Berger",null,"16Berger",null,"18Berger"]
[]
["14aaaa"]
[]
["AL","BI","AH","BE","AD","BA","AK","BL","AG","BH","AC","BD","BM","BK","AJ","BG","AF","BC","AB","BN","AI","BJ","AE","BF","AM","AN"]
["CJ","DG","CF","DC","CB","DN","CI","DJ","CE","DF","DM","CN","DK","DI","CH","DE","CD","DA","CK","DL","CG","DH","CM","CA","DB","CL"]
["EH","FE","ED","FA","EK","FL","EG","FH","FM","EA","FB","EL","FI","FG","EF","FC","EB","FN","EI","FJ","EM","EC","FD","EN","FK","EJ"]
["GF","HC","GB","HN","GI","HJ","HM","GC","HD","GN","HK","GJ","HG","HE","GD","HA","GK","HL","GM","GE","HF","GA","HB","GL","HI","GH"]
["ID","JA","IK","JL","JM","IE","JF","IA","JB","IL","JI","IH","JE","JC","IB","JN","IM","IG","JH","IC","JD","IN","JK","IJ","JG","IF"]
["KB","LN","LM","KG","LH","KC","LD","KN","LK","KJ","LG","KF","LC","LA","KM","KI","LJ","KE","LF","KA","LB","KL","LI","KH","LE","KD"]
["NM","MK","NJ","MI","NF","MG","NB","ME","NI","MC","NE","MA","NA","MN","NL","ML","NH","MJ","ND","MH","NK","MF","NG","MD","NC","MB"]
[1,2,3,4,5,6,7,8,9,10,11,12,13,14,15,16,17,18,19,20,21,22,23,24,25,26]
["RFx",null,null,null,null,null,null,null,null,null,null,null,null,1,2,3,4,5,6,7,8,9,10,11,12,13]
["  o","  x","  o","  x","  o","  x","  o","  x","  o","  x","  o","  x--","--x--","--x","  o","  x","  o","  x","  o","  x","  o","  x","  o","  x","  o--","--o","A",null,{"$f":"ClashCount('Other league dates'!J$6:J$31,$A1033:$Z1033)","v":""},{"$f":"ClashCount('Other league dates'!K$6:K$31,$A1033:$Z1033)","v":""},{"$f":"ClashCount('Other league dates'!L$6:L$31,$A1033:$Z1033)","v":""}]
["  x","  o","  x","  o","  x","  o","  x","  o","  x","  o","  x","  o--","--o--","--o","  x","  o","  x","  o","  x","  o","  x","  o","  x","  o","  x--","--x","B",null,{"$f":"ClashCount('Other league dates'!J$6:J$31,$A1034:$Z1034)","v":""},{"$f":"ClashCount('Other league dates'!K$6:K$31,$A1034:$Z1034)","v":""},{"$f":"ClashCount('Other league dates'!L$6:L$31,$A1034:$Z1034)","v":""}]
["  o","  x","  o","  x","  o","  x","  o","  x","  o","  x--","--x","  o","  x--","--x","  o","  x","  o","  x","  o","  x","  o","  x","  o--","--o","  x","  o","C",null,{"$f":"ClashCount('Other league dates'!J$6:J$31,$A1035:$Z1035)","v":""},{"$f":"ClashCount('Other league dates'!K$6:K$31,$A1035:$Z1035)","v":""},{"$f":"ClashCount('Other league dates'!L$6:L$31,$A1035:$Z1035)","v":""}]
["  x","  o","  x","  o","  x","  o","  x","  o","  x","  o--","--o","  x","  o--","--o","  x","  o","  x","  o","  x","  o","  x","  o","  x--","--x","  o","  x","D",null,{"$f":"ClashCount('Other league dates'!J$6:J$31,$A1036:$Z1036)","v":""},{"$f":"ClashCount('Other league dates'!K$6:K$31,$A1036:$Z1036)","v":""},{"$f":"ClashCount('Other league dates'!L$6:L$31,$A1036:$Z1036)","v":""}]
["  o","  x","  o","  x","  o","  x","  o","  x--","--x","  o","  x","  o","  x--","--x","  o","  x","  o","  x","  o","  x","  o--","--o","  x","  o","  x","  o","E",null,{"$f":"ClashCount('Other league dates'!J$6:J$31,$A1037:$Z1037)","v":""},{"$f":"ClashCount('Other league dates'!K$6:K$31,$A1037:$Z1037)","v":""},{"$f":"ClashCount('Other league dates'!L$6:L$31,$A1037:$Z1037)","v":""}]
["  x","  o","  x","  o","  x","  o","  x","  o--","--o","  x","  o","  x","  o--","--o","  x","  o","  x","  o","  x","  o","  x--","--x","  o","  x","  o","  x","F",null,{"$f":"ClashCount('Other league dates'!J$6:J$31,$A1038:$Z1038)","v":""},{"$f":"ClashCount('Other league dates'!K$6:K$31,$A1038:$Z1038)","v":""},{"$f":"ClashCount('Other league dates'!L$6:L$31,$A1038:$Z1038)","v":""}]
["  o","  x","  o","  x","  o","  x--","--x","  o","  x","  o","  x","  o","  x--","--x","  o","  x","  o","  x","  o--","--o","  x","  o","  x","  o","  x","  o","G",null,{"$f":"ClashCount('Other league dates'!J$6:J$31,$A1039:$Z1039)","v":""},{"$f":"ClashCount('Other league dates'!K$6:K$31,$A1039:$Z1039)","v":""},{"$f":"ClashCount('Other league dates'!L$6:L$31,$A1039:$Z1039)","v":""}]
["  x","  o","  x","  o","  x","  o--","--o","  x","  o","  x","  o","  x","  o--","--o","  x","  o","  x","  o","  x--","--x","  o","  x","  o","  x","  o","  x","H",null,{"$f":"ClashCount('Other league dates'!J$6:J$31,$A1040:$Z1040)","v":""},{"$f":"ClashCount('Other league dates'!K$6:K$31,$A1040:$Z1040)","v":""},{"$f":"ClashCount('Other league dates'!L$6:L$31,$A1040:$Z1040)","v":""}]
["  o","  x","  o","  x--","--x","  o","  x","  o","  x","  o","  x","  o","  x--","--x","  o","  x","  o--","--o","  x","  o","  x","  o","  x","  o","  x","  o","I",null,{"$f":"ClashCount('Other league dates'!J$6:J$31,$A1041:$Z1041)","v":""},{"$f":"ClashCount('Other league dates'!K$6:K$31,$A1041:$Z1041)","v":""},{"$f":"ClashCount('Other league dates'!L$6:L$31,$A1041:$Z1041)","v":""}]
["  x","  o","  x","  o--","--o","  x","  o","  x","  o","  x","  o","  x","  o--","--o","  x","  o","  x--","--x","  o","  x","  o","  x","  o","  x","  o","  x","J",null,{"$f":"ClashCount('Other league dates'!J$6:J$31,$A1042:$Z1042)","v":""},{"$f":"ClashCount('Other league dates'!K$6:K$31,$A1042:$Z1042)","v":""},{"$f":"ClashCount('Other league dates'!L$6:L$31,$A1042:$Z1042)","v":""}]
["  o","  x--","--x","  o","  x","  o","  x","  o","  x","  o","  x","  o","  x--","--x","  o--","--o","  x","  o","  x","  o","  x","  o","  x","  o","  x","  o","K",null,{"$f":"ClashCount('Other league dates'!J$6:J$31,$A1043:$Z1043)","v":""},{"$f":"ClashCount('Other league dates'!K$6:K$31,$A1043:$Z1043)","v":""},{"$f":"ClashCount('Other league dates'!L$6:L$31,$A1043:$Z1043)","v":""}]
["  x","  o--","--o","  x","  o","  x","  o","  x","  o","  x","  o","  x","  o--","--o","  x--","--x","  o","  x","  o","  x","  o","  x","  o","  x","  o","  x","L",null,{"$f":"ClashCount('Other league dates'!J$6:J$31,$A1044:$Z1044)","v":""},{"$f":"ClashCount('Other league dates'!K$6:K$31,$A1044:$Z1044)","v":""},{"$f":"ClashCount('Other league dates'!L$6:L$31,$A1044:$Z1044)","v":""}]
["  x","  o","  x","  o","  x","  o","  x","  o","  x","  o","  x","  o","  x","  o","  x","  o","  x","  o","  x","  o","  x","  o","  x","  o","  x","  o","M",null,{"$f":"ClashCount('Other league dates'!J$6:J$31,$A1045:$Z1045)","v":""},{"$f":"ClashCount('Other league dates'!K$6:K$31,$A1045:$Z1045)","v":""},{"$f":"ClashCount('Other league dates'!L$6:L$31,$A1045:$Z1045)","v":""}]
["  o","  x","  o","  x","  o","  x","  o","  x","  o","  x","  o","  x","  o","  x","  o","  x","  o","  x","  o","  x","  o","  x","  o","  x","  o","  x","N",null,{"$f":"ClashCount('Other league dates'!J$6:J$31,$A1046:$Z1046)","v":""},{"$f":"ClashCount('Other league dates'!K$6:K$31,$A1046:$Z1046)","v":""},{"$f":"ClashCount('Other league dates'!L$6:L$31,$A1046:$Z1046)","v":""}]
[]
[]
[]
["14acaa"]
[]
["AL","BI","AH","BE","AD","BA","AK","BL","AG","BH","AC","BD","BM","BG","AF","BC","AB","BN","AI","BJ","AE","BF","AM","AN","BK","AJ"]
["CJ","DG","CF","DC","CB","DN","CI","DJ","CE","DF","DM","CN","DK","DE","CD","DA","CK","DL","CG","DH","CM","CA","DB","CL","DI","CH"]
["EH","FE","ED","FA","EK","FL","EG","FH","FM","EA","FB","EL","FI","FC","EB","FN","EI","FJ","EM","EC","FD","EN","FK","EJ","FG","EF"]
["GF","HC","GB","HN","GI","HJ","HM","GC","HD","GN","HK","GJ","HG","HA","GK","HL","GM","GE","HF","GA","HB","GL","HI","GH","HE","GD"]
["ID","JA","IK","JL","JM","IE","JF","IA","JB","IL","JI","IH","JE","JN","IM","IG","JH","IC","JD","IN","JK","IJ","JG","IF","JC","IB"]
["KB","LN","LM","KG","LH","KC","LD","KN","LK","KJ","LG","KF","LC","KI","LJ","KE","LF","KA","LB","KL","LI","KH","LE","KD","LA","KM"]
["NM","MK","NJ","MI","NF","MG","NB","ME","NI","MC","NE","MA","NA","ML","NH","MJ","ND","MH","NK","MF","NG","MD","NC","MB","MN","NL"]
[1,2,3,4,5,6,7,8,9,10,11,12,13,14,15,16,17,18,19,20,21,22,23,24,25,26]
["RFx",null,null,null,null,null,null,null,null,null,null,null,null,3,4,5,6,7,8,9,10,11,12,13,1,2]
["  o","  x","  o","  x","  o","  x","  o","  x","  o","  x","  o","  x--","--x--","--x","  o","  x","  o","  x","  o","  x","  o","  x","  o--","--o","  x","  o","A",null,{"$f":"ClashCount('Other league dates'!J$6:J$31,$A1061:$Z1061)","v":""},{"$f":"ClashCount('Other league dates'!K$6:K$31,$A1061:$Z1061)","v":""},{"$f":"ClashCount('Other league dates'!L$6:L$31,$A1061:$Z1061)","v":""}]
["  x","  o","  x","  o","  x","  o","  x","  o","  x","  o","  x","  o--","--o--","--o","  x","  o","  x","  o","  x","  o","  x","  o","  x--","--x","  o","  x","B",null,{"$f":"ClashCount('Other league dates'!J$6:J$31,$A1062:$Z1062)","v":""},{"$f":"ClashCount('Other league dates'!K$6:K$31,$A1062:$Z1062)","v":""},{"$f":"ClashCount('Other league dates'!L$6:L$31,$A1062:$Z1062)","v":""}]
["  o","  x","  o","  x","  o","  x","  o","  x","  o","  x--","--x","  o","  x--","--x","  o","  x","  o","  x","  o","  x","  o--","--o","  x","  o","  x","  o","C",null,{"$f":"ClashCount('Other league dates'!J$6:J$31,$A1063:$Z1063)","v":""},{"$f":"ClashCount('Other league dates'!K$6:K$31,$A1063:$Z1063)","v":""},{"$f":"ClashCount('Other league dates'!L$6:L$31,$A1063:$Z1063)","v":""}]
["  x","  o","  x","  o","  x","  o","  x","  o","  x","  o--","--o","  x","  o--","--o","  x","  o","  x","  o","  x","  o","  x--","--x","  o","  x","  o","  x","D",null,{"$f":"ClashCount('Other league dates'!J$6:J$31,$A1064:$Z1064)","v":""},{"$f":"ClashCount('Other league dates'!K$6:K$31,$A1064:$Z1064)","v":""},{"$f":"ClashCount('Other league dates'!L$6:L$31,$A1064:$Z1064)","v":""}]
["  o","  x","  o","  x","  o","  x","  o","  x--","--x","  o","  x","  o","  x--","--x","  o","  x","  o","  x","  o--","--o","  x","  o","  x","  o","  x","  o","E",null,{"$f":"ClashCount('Other league dates'!J$6:J$31,$A1065:$Z1065)","v":""},{"$f":"ClashCount('Other league dates'!K$6:K$31,$A1065:$Z1065)","v":""},{"$f":"ClashCount('Other league dates'!L$6:L$31,$A1065:$Z1065)","v":""}]
["  x","  o","  x","  o","  x","  o","  x","  o--","--o","  x","  o","  x","  o--","--o","  x","  o","  x","  o","  x--","--x","  o","  x","  o","  x","  o","  x","F",null,{"$f":"ClashCount('Other league dates'!J$6:J$31,$A1066:$Z1066)","v":""},{"$f":"ClashCount('Other league dates'!K$6:K$31,$A1066:$Z1066)","v":""},{"$f":"ClashCount('Other league dates'!L$6:L$31,$A1066:$Z1066)","v":""}]
["  o","  x","  o","  x","  o","  x--","--x","  o","  x","  o","  x","  o","  x--","--x","  o","  x","  o--","--o","  x","  o","  x","  o","  x","  o","  x","  o","G",null,{"$f":"ClashCount('Other league dates'!J$6:J$31,$A1067:$Z1067)","v":""},{"$f":"ClashCount('Other league dates'!K$6:K$31,$A1067:$Z1067)","v":""},{"$f":"ClashCount('Other league dates'!L$6:L$31,$A1067:$Z1067)","v":""}]
["  x","  o","  x","  o","  x","  o--","--o","  x","  o","  x","  o","  x","  o--","--o","  x","  o","  x--","--x","  o","  x","  o","  x","  o","  x","  o","  x","H",null,{"$f":"ClashCount('Other league dates'!J$6:J$31,$A1068:$Z1068)","v":""},{"$f":"ClashCount('Other league dates'!K$6:K$31,$A1068:$Z1068)","v":""},{"$f":"ClashCount('Other league dates'!L$6:L$31,$A1068:$Z1068)","v":""}]
["  o","  x","  o","  x--","--x","  o","  x","  o","  x","  o","  x","  o","  x--","--x","  o--","--o","  x","  o","  x","  o","  x","  o","  x","  o","  x","  o","I",null,{"$f":"ClashCount('Other league dates'!J$6:J$31,$A1069:$Z1069)","v":""},{"$f":"ClashCount('Other league dates'!K$6:K$31,$A1069:$Z1069)","v":""},{"$f":"ClashCount('Other league dates'!L$6:L$31,$A1069:$Z1069)","v":""}]
["  x","  o","  x","  o--","--o","  x","  o","  x","  o","  x","  o","  x","  o--","--o","  x--","--x","  o","  x","  o","  x","  o","  x","  o","  x","  o","  x","J",null,{"$f":"ClashCount('Other league dates'!J$6:J$31,$A1070:$Z1070)","v":""},{"$f":"ClashCount('Other league dates'!K$6:K$31,$A1070:$Z1070)","v":""},{"$f":"ClashCount('Other league dates'!L$6:L$31,$A1070:$Z1070)","v":""}]
["  o","  x--","--x","  o","  x","  o","  x","  o","  x","  o","  x","  o","  x","  o","  x","  o","  x","  o","  x","  o","  x","  o","  x","  o","  x","  o","K",null,{"$f":"ClashCount('Other league dates'!J$6:J$31,$A1071:$Z1071)","v":""},{"$f":"ClashCount('Other league dates'!K$6:K$31,$A1071:$Z1071)","v":""},{"$f":"ClashCount('Other league dates'!L$6:L$31,$A1071:$Z1071)","v":""}]
["  x","  o--","--o","  x","  o","  x","  o","  x","  o","  x","  o","  x","  o","  x","  o","  x","  o","  x","  o","  x","  o","  x","  o","  x","  o","  x","L",null,{"$f":"ClashCount('Other league dates'!J$6:J$31,$A1072:$Z1072)","v":""},{"$f":"ClashCount('Other league dates'!K$6:K$31,$A1072:$Z1072)","v":""},{"$f":"ClashCount('Other league dates'!L$6:L$31,$A1072:$Z1072)","v":""}]
["  x","  o","  x","  o","  x","  o","  x","  o","  x","  o","  x","  o","  x","  o","  x","  o","  x","  o","  x","  o","  x","  o","  x","  o--","--o","  x","M",null,{"$f":"ClashCount('Other league dates'!J$6:J$31,$A1073:$Z1073)","v":""},{"$f":"ClashCount('Other league dates'!K$6:K$31,$A1073:$Z1073)","v":""},{"$f":"ClashCount('Other league dates'!L$6:L$31,$A1073:$Z1073)","v":""}]
["  o","  x","  o","  x","  o","  x","  o","  x","  o","  x","  o","  x","  o","  x","  o","  x","  o","  x","  o","  x","  o","  x","  o","  x--","--x","  o","N",null,{"$f":"ClashCount('Other league dates'!J$6:J$31,$A1074:$Z1074)","v":""},{"$f":"ClashCount('Other league dates'!K$6:K$31,$A1074:$Z1074)","v":""},{"$f":"ClashCount('Other league dates'!L$6:L$31,$A1074:$Z1074)","v":""}]
[]
["Fit:","12aaaa",null,"12asm"]
[]
["14alanx",null,null,"Use J for Open date, to avoid successive away matches for other teams"]
[]
["AM","MJ","AC","KJ","AG","CJ","AB","EJ","AL","GJ","AF","IJ","AJ","BI","CK","AI","EC","AN","GE","AD","IG","AH","AE","KM","AK","MA"]
["NI","KA","MK","CM","ME","EK","MI","GC","MN","IE","MD","BG","MH","NG","EM","MG","GK","MB","IC","ML","BE","MF","MC","CA","NB","KH"]
["LG","CH","LB","EA","KC","GM","KG","IK","KB","BC","KL","NE","KF","LE","GA","KE","IM","KI","BK","KN","NC","KD","LN","EH","LI","CF"]
["DE","EF","DI","GH","DN","IA","CE","BM","CI","NK","CN","LC","CD","DC","IH","DL","BA","CG","NM","CB","LK","CL","DB","GF","DG","ED"]
["FC","GD","FG","IF","FB","BH","FL","NA","EG","LM","EB","DK","EL","FK","BF","FN","NH","FD","LA","EI","DM","EN","FI","ID","FE","GL"]
["HK","IL","HE","BD","HI","NF","HN","LH","HD","DA","GI","FM","GN","HM","ND","HB","LF","HL","DH","HF","FA","GB","HG","BL","HC","IN"]
["JB","BN","JN","NL","JL","LD","JD","DF","JF","FH","JH","HA","IB","JA","LJ","JC","DJ","JE","FJ","JG","HJ","JI","JK","NJ","JM","BJ"]
[1,2,3,4,5,6,7,8,9,10,11,12,13,14,15,16,17,18,19,20,21,22,23,24,25,26]
["RFx",null,null,null,null,null,null,null,null,null,null,null,null,13,5,6,7,8,9,10,11,12,4,3,2,1]
["  o","  x","  o","  x","  o","  x","  o","  x","  o","  x","  o","  x","  o","  x--","--x","  o","  x","  o","  x","  o","  x","  o--","--o","  x","  o","  x","A",null,{"$f":"ClashCount('Other league dates'!J$6:J$31,$A1089:$Z1089)","v":""},{"$f":"ClashCount('Other league dates'!K$6:K$31,$A1089:$Z1089)","v":""},{"$f":"ClashCount('Other league dates'!L$6:L$31,$A1089:$Z1089)","v":""}]
["  x","  o","  x","  o","  x","  o","  x","  o","  x","  o","  x","  o","  x","  o--","--o","  x","  o","  x","  o","  x","  o","  x--","--x","  o","  x","  o","B",null,{"$f":"ClashCount('Other league dates'!J$6:J$31,$A1090:$Z1090)","v":""},{"$f":"ClashCount('Other league dates'!K$6:K$31,$A1090:$Z1090)","v":""},{"$f":"ClashCount('Other league dates'!L$6:L$31,$A1090:$Z1090)","v":""}]
["  x","  o","  x","  o","  x","  o--","--o","  x","  o","  x","  o","  x","  o","  x","  o","  x--","--x","  o","  x","  o","  x","  o","  x","  o","  x","  o","C",null,{"$f":"ClashCount('Other league dates'!J$6:J$31,$A1091:$Z1091)","v":""},{"$f":"ClashCount('Other league dates'!K$6:K$31,$A1091:$Z1091)","v":""},{"$f":"ClashCount('Other league dates'!L$6:L$31,$A1091:$Z1091)","v":""}]
["  o","  x","  o","  x","  o","  x--","--x","  o","  x","  o","  x","  o","  x","  o","  x","  o--","--o","  x","  o","  x","  o","  x","  o","  x","  o","  x","D",null,{"$f":"ClashCount('Other league dates'!J$6:J$31,$A1092:$Z1092)","v":""},{"$f":"ClashCount('Other league dates'!K$6:K$31,$A1092:$Z1092)","v":""},{"$f":"ClashCount('Other league dates'!L$6:L$31,$A1092:$Z1092)","v":""}]
["  x","  o","  x","  o","  x","  o","  x","  o--","--o","  x","  o","  x","  o","  x","  o","  x","  o","  x--","--x","  o","  x","  o","  x","  o","  x","  o","E",null,{"$f":"ClashCount('Other league dates'!J$6:J$31,$A1093:$Z1093)","v":""},{"$f":"ClashCount('Other league dates'!K$6:K$31,$A1093:$Z1093)","v":""},{"$f":"ClashCount('Other league dates'!L$6:L$31,$A1093:$Z1093)","v":""}]
["  o","  x","  o","  x","  o","  x","  o","  x--","--x","  o","  x","  o","  x","  o","  x","  o","  x","  o--","--o","  x","  o","  x","  o","  x","  o","  x","F",null,{"$f":"ClashCount('Other league dates'!J$6:J$31,$A1094:$Z1094)","v":""},{"$f":"ClashCount('Other league dates'!K$6:K$31,$A1094:$Z1094)","v":""},{"$f":"ClashCount('Other league dates'!L$6:L$31,$A1094:$Z1094)","v":""}]
["  x","  o","  x","  o","  x","  o","  x","  o","  x","  o--","--o","  x","  o","  x","  o","  x","  o","  x","  o","  x--","--x","  o","  x","  o","  x","  o","G",null,{"$f":"ClashCount('Other league dates'!J$6:J$31,$A1095:$Z1095)","v":""},{"$f":"ClashCount('Other league dates'!K$6:K$31,$A1095:$Z1095)","v":""},{"$f":"ClashCount('Other league dates'!L$6:L$31,$A1095:$Z1095)","v":""}]
["  o","  x","  o","  x","  o","  x","  o","  x","  o","  x--","--x","  o","  x","  o","  x","  o","  x","  o","  x","  o--","--o","  x","  o","  x","  o","  x","H",null,{"$f":"ClashCount('Other league dates'!J$6:J$31,$A1096:$Z1096)","v":""},{"$f":"ClashCount('Other league dates'!K$6:K$31,$A1096:$Z1096)","v":""},{"$f":"ClashCount('Other league dates'!L$6:L$31,$A1096:$Z1096)","v":""}]
["  x","  o","  x","  o","  x","  o","  x","  o","  x","  o","  x","  o--","--o","  x","  o","  x","  o","  x","  o","  x","  o","  x--","--x","  o","  x","  o","I",null,{"$f":"ClashCount('Other league dates'!J$6:J$31,$A1097:$Z1097)","v":""},{"$f":"ClashCount('Other league dates'!K$6:K$31,$A1097:$Z1097)","v":""},{"$f":"ClashCount('Other league dates'!L$6:L$31,$A1097:$Z1097)","v":""}]
["  o","  x","  o","  x","  o","  x","  o","  x","  o","  x","  o","  x--","--x","  o","  x","  o","  x","  o","  x","  o","  x","  o--","--o","  x","  o","  x","J",null,{"$f":"ClashCount('Other league dates'!J$6:J$31,$A1098:$Z1098)","v":""},{"$f":"ClashCount('Other league dates'!K$6:K$31,$A1098:$Z1098)","v":""},{"$f":"ClashCount('Other league dates'!L$6:L$31,$A1098:$Z1098)","v":""}]
["  x","  o","  x","  o--","--o","  x","  o","  x","  o","  x","  o","  x","  o","  x--","--x","  o","  x","  o","  x","  o","  x","  o","  x","  o","  x","  o","K",null,{"$f":"ClashCount('Other league dates'!J$6:J$31,$A1099:$Z1099)","v":""},{"$f":"ClashCount('Other league dates'!K$6:K$31,$A1099:$Z1099)","v":""},{"$f":"ClashCount('Other league dates'!L$6:L$31,$A1099:$Z1099)","v":""}]
["  o","  x","  o","  x--","--x","  o","  x","  o","  x","  o","  x","  o","  x","  o--","--o","  x","  o","  x","  o","  x","  o","  x","  o","  x","  o","  x","L",null,{"$f":"ClashCount('Other league dates'!J$6:J$31,$A1100:$Z1100)","v":""},{"$f":"ClashCount('Other league dates'!K$6:K$31,$A1100:$Z1100)","v":""},{"$f":"ClashCount('Other league dates'!L$6:L$31,$A1100:$Z1100)","v":""}]
["  x","  o--","--o","  x","  o","  x","  o","  x","  o","  x","  o","  x","  o","  x--","--x","  o","  x","  o","  x","  o","  x","  o--","--o","  x--","--x","  o","M",null,{"$f":"ClashCount('Other league dates'!J$6:J$31,$A1101:$Z1101)","v":""},{"$f":"ClashCount('Other league dates'!K$6:K$31,$A1101:$Z1101)","v":""},{"$f":"ClashCount('Other league dates'!L$6:L$31,$A1101:$Z1101)","v":""}]
["  o","  x--","--x","  o","  x","  o","  x","  o","  x","  o","  x","  o","  x","  o--","--o","  x","  o","  x","  o","  x","  o","  x--","--x","  o--","--o","  x","N",null,{"$f":"ClashCount('Other league dates'!J$6:J$31,$A1102:$Z1102)","v":""},{"$f":"ClashCount('Other league dates'!K$6:K$31,$A1102:$Z1102)","v":""},{"$f":"ClashCount('Other league dates'!L$6:L$31,$A1102:$Z1102)","v":""}]
[]
["Fit:","10alanx",null,"12alanx"]
[]
["14amaa"]
[]
["AL","BI","AH","BE","AD","BA","AK","BL","AG","BH","AC","BD","BM","AN","BK","AJ","BG","AF","BC","AB","BN","AI","BJ","AE","BF","AM"]
["CJ","DG","CF","DC","CB","DN","CI","DJ","CE","DF","DM","CN","DK","CL","DI","CH","DE","CD","DA","CK","DL","CG","DH","CM","CA","DB"]
["EH","FE","ED","FA","EK","FL","EG","FH","FM","EA","FB","EL","FI","EJ","FG","EF","FC","EB","FN","EI","FJ","EM","EC","FD","EN","FK"]
["GF","HC","GB","HN","GI","HJ","HM","GC","HD","GN","HK","GJ","HG","GH","HE","GD","HA","GK","HL","GM","GE","HF","GA","HB","GL","HI"]
["ID","JA","IK","JL","JM","IE","JF","IA","JB","IL","JI","IH","JE","IF","JC","IB","JN","IM","IG","JH","IC","JD","IN","JK","IJ","JG"]
["KB","LN","LM","KG","LH","KC","LD","KN","LK","KJ","LG","KF","LC","KD","LA","KM","KI","LJ","KE","LF","KA","LB","KL","LI","KH","LE"]
["NM","MK","NJ","MI","NF","MG","NB","ME","NI","MC","NE","MA","NA","MB","MN","NL","ML","NH","MJ","ND","MH","NK","MF","NG","MD","NC"]
[1,2,3,4,5,6,7,8,9,10,11,12,13,14,15,16,17,18,19,20,21,22,23,24,25,26]
["RFx",null,null,null,null,null,null,null,null,null,null,null,null,13,1,2,3,4,5,6,7,8,9,10,11,12]
["  o","  x","  o","  x","  o","  x","  o","  x","  o","  x","  o","  x--","--x","  o","  x","  o","  x","  o","  x","  o","  x","  o","  x","  o","  x","  o","A",null,{"$f":"ClashCount('Other league dates'!J$6:J$31,$A1117:$Z1117)","v":""},{"$f":"ClashCount('Other league dates'!K$6:K$31,$A1117:$Z1117)","v":""},{"$f":"ClashCount('Other league dates'!L$6:L$31,$A1117:$Z1117)","v":""}]
["  x","  o","  x","  o","  x","  o","  x","  o","  x","  o","  x","  o--","--o","  x","  o","  x","  o","  x","  o","  x","  o","  x","  o","  x","  o","  x","B",null,{"$f":"ClashCount('Other league dates'!J$6:J$31,$A1118:$Z1118)","v":""},{"$f":"ClashCount('Other league dates'!K$6:K$31,$A1118:$Z1118)","v":""},{"$f":"ClashCount('Other league dates'!L$6:L$31,$A1118:$Z1118)","v":""}]
["  o","  x","  o","  x","  o","  x","  o","  x","  o","  x--","--x","  o","  x","  o","  x","  o","  x","  o","  x","  o","  x","  o","  x","  o--","--o","  x","C",null,{"$f":"ClashCount('Other league dates'!J$6:J$31,$A1119:$Z1119)","v":""},{"$f":"ClashCount('Other league dates'!K$6:K$31,$A1119:$Z1119)","v":""},{"$f":"ClashCount('Other league dates'!L$6:L$31,$A1119:$Z1119)","v":""}]
["  x","  o","  x","  o","  x","  o","  x","  o","  x","  o--","--o","  x","  o","  x","  o","  x","  o","  x","  o","  x","  o","  x","  o","  x--","--x","  o","D",null,{"$f":"ClashCount('Other league dates'!J$6:J$31,$A1120:$Z1120)","v":""},{"$f":"ClashCount('Other league dates'!K$6:K$31,$A1120:$Z1120)","v":""},{"$f":"ClashCount('Other league dates'!L$6:L$31,$A1120:$Z1120)","v":""}]
["  o","  x","  o","  x","  o","  x","  o","  x--","--x","  o","  x","  o","  x","  o","  x","  o","  x","  o","  x","  o","  x","  o--","--o","  x","  o","  x","E",null,{"$f":"ClashCount('Other league dates'!J$6:J$31,$A1121:$Z1121)","v":""},{"$f":"ClashCount('Other league dates'!K$6:K$31,$A1121:$Z1121)","v":""},{"$f":"ClashCount('Other league dates'!L$6:L$31,$A1121:$Z1121)","v":""}]
["  x","  o","  x","  o","  x","  o","  x","  o--","--o","  x","  o","  x","  o","  x","  o","  x","  o","  x","  o","  x","  o","  x--","--x","  o","  x","  o","F",null,{"$f":"ClashCount('Other league dates'!J$6:J$31,$A1122:$Z1122)","v":""},{"$f":"ClashCount('Other league dates'!K$6:K$31,$A1122:$Z1122)","v":""},{"$f":"ClashCount('Other league dates'!L$6:L$31,$A1122:$Z1122)","v":""}]
["  o","  x","  o","  x","  o","  x--","--x","  o","  x","  o","  x","  o","  x","  o","  x","  o","  x","  o","  x","  o--","--o","  x","  o","  x","  o","  x","G",null,{"$f":"ClashCount('Other league dates'!J$6:J$31,$A1123:$Z1123)","v":""},{"$f":"ClashCount('Other league dates'!K$6:K$31,$A1123:$Z1123)","v":""},{"$f":"ClashCount('Other league dates'!L$6:L$31,$A1123:$Z1123)","v":""}]
["  x","  o","  x","  o","  x","  o--","--o","  x","  o","  x","  o","  x","  o","  x","  o","  x","  o","  x","  o","  x--","--x","  o","  x","  o","  x","  o","H",null,{"$f":"ClashCount('Other league dates'!J$6:J$31,$A1124:$Z1124)","v":""},{"$f":"ClashCount('Other league dates'!K$6:K$31,$A1124:$Z1124)","v":""},{"$f":"ClashCount('Other league dates'!L$6:L$31,$A1124:$Z1124)","v":""}]
["  o","  x","  o","  x--","--x","  o","  x","  o","  x","  o","  x","  o","  x","  o","  x","  o","  x","  o--","--o","  x","  o","  x","  o","  x","  o","  x","I",null,{"$f":"ClashCount('Other league dates'!J$6:J$31,$A1125:$Z1125)","v":""},{"$f":"ClashCount('Other league dates'!K$6:K$31,$A1125:$Z1125)","v":""},{"$f":"ClashCount('Other league dates'!L$6:L$31,$A1125:$Z1125)","v":""}]
["  x","  o","  x","  o--","--o","  x","  o","  x","  o","  x","  o","  x","  o","  x","  o","  x","  o","  x--","--x","  o","  x","  o","  x","  o","  x","  o","J",null,{"$f":"ClashCount('Other league dates'!J$6:J$31,$A1126:$Z1126)","v":""},{"$f":"ClashCount('Other league dates'!K$6:K$31,$A1126:$Z1126)","v":""},{"$f":"ClashCount('Other league dates'!L$6:L$31,$A1126:$Z1126)","v":""}]
["  o","  x--","--x","  o","  x","  o","  x","  o","  x","  o","  x","  o","  x","  o","  x","  o--","--o","  x","  o","  x","  o","  x","  o","  x","  o","  x","K",null,{"$f":"ClashCount('Other league dates'!J$6:J$31,$A1127:$Z1127)","v":""},{"$f":"ClashCount('Other league dates'!K$6:K$31,$A1127:$Z1127)","v":""},{"$f":"ClashCount('Other league dates'!L$6:L$31,$A1127:$Z1127)","v":""}]
["  x","  o--","--o","  x","  o","  x","  o","  x","  o","  x","  o","  x","  o","  x","  o","  x--","--x","  o","  x","  o","  x","  o","  x","  o","  x","  o","L",null,{"$f":"ClashCount('Other league dates'!J$6:J$31,$A1128:$Z1128)","v":""},{"$f":"ClashCount('Other league dates'!K$6:K$31,$A1128:$Z1128)","v":""},{"$f":"ClashCount('Other league dates'!L$6:L$31,$A1128:$Z1128)","v":""}]
["  x","  o","  x","  o","  x","  o","  x","  o","  x","  o","  x","  o","  x","  o--","--o","  x","  o","  x","  o","  x","  o","  x","  o","  x","  o","  x","M",null,{"$f":"ClashCount('Other league dates'!J$6:J$31,$A1129:$Z1129)","v":""},{"$f":"ClashCount('Other league dates'!K$6:K$31,$A1129:$Z1129)","v":""},{"$f":"ClashCount('Other league dates'!L$6:L$31,$A1129:$Z1129)","v":""}]
["  o","  x","  o","  x","  o","  x","  o","  x","  o","  x","  o","  x","  o","  x--","--x","  o","  x","  o","  x","  o","  x","  o","  x","  o","  x","  o","N",null,{"$f":"ClashCount('Other league dates'!J$6:J$31,$A1130:$Z1130)","v":""},{"$f":"ClashCount('Other league dates'!K$6:K$31,$A1130:$Z1130)","v":""},{"$f":"ClashCount('Other league dates'!L$6:L$31,$A1130:$Z1130)","v":""}]
[]
[]
[]
["14amba"]
[]
["AL","BI","AH","BE","AD","BA","AK","BL","AG","BH","AC","BD","BM","AN","BG","AF","BC","AB","BN","AI","BJ","AE","BF","AM","AJ","BK"]
["CJ","DG","CF","DC","CB","DN","CI","DJ","CE","DF","DM","CN","DK","CL","DE","CD","DA","CK","DL","CG","DH","CM","CA","DB","CH","DI"]
["EH","FE","ED","FA","EK","FL","EG","FH","FM","EA","FB","EL","FI","EJ","FC","EB","FN","EI","FJ","EM","EC","FD","EN","FK","EF","FG"]
["GF","HC","GB","HN","GI","HJ","HM","GC","HD","GN","HK","GJ","HG","GH","HA","GK","HL","GM","GE","HF","GA","HB","GL","HI","GD","HE"]
["ID","JA","IK","JL","JM","IE","JF","IA","JB","IL","JI","IH","JE","IF","JN","IM","IG","JH","IC","JD","IN","JK","IJ","JG","IB","JC"]
["KB","LN","LM","KG","LH","KC","LD","KN","LK","KJ","LG","KF","LC","KD","KI","LJ","KE","LF","KA","LB","KL","LI","KH","LE","KM","LA"]
["NM","MK","NJ","MI","NF","MG","NB","ME","NI","MC","NE","MA","NA","MB","ML","NH","MJ","ND","MH","NK","MF","NG","MD","NC","NL","MN"]
[1,2,3,4,5,6,7,8,9,10,11,12,13,14,15,16,17,18,19,20,21,22,23,24,25,26]
["RFx",null,null,null,null,null,null,null,null,null,null,null,null,13,3,4,5,6,7,8,9,10,11,12,2,1]
["  o","  x","  o","  x","  o","  x","  o","  x","  o","  x","  o","  x--","--x","  o","  x","  o","  x","  o","  x","  o","  x","  o","  x","  o--","--o","  x","A",null,{"$f":"ClashCount('Other league dates'!J$6:J$31,$A1145:$Z1145)","v":""},{"$f":"ClashCount('Other league dates'!K$6:K$31,$A1145:$Z1145)","v":""},{"$f":"ClashCount('Other league dates'!L$6:L$31,$A1145:$Z1145)","v":""}]
["  x","  o","  x","  o","  x","  o","  x","  o","  x","  o","  x","  o--","--o","  x","  o","  x","  o","  x","  o","  x","  o","  x","  o","  x--","--x","  o","B",null,{"$f":"ClashCount('Other league dates'!J$6:J$31,$A1146:$Z1146)","v":""},{"$f":"ClashCount('Other league dates'!K$6:K$31,$A1146:$Z1146)","v":""},{"$f":"ClashCount('Other league dates'!L$6:L$31,$A1146:$Z1146)","v":""}]
["  o","  x","  o","  x","  o","  x","  o","  x","  o","  x--","--x","  o","  x","  o","  x","  o","  x","  o","  x","  o","  x","  o--","--o","  x","  o","  x","C",null,{"$f":"ClashCount('Other league dates'!J$6:J$31,$A1147:$Z1147)","v":""},{"$f":"ClashCount('Other league dates'!K$6:K$31,$A1147:$Z1147)","v":""},{"$f":"ClashCount('Other league dates'!L$6:L$31,$A1147:$Z1147)","v":""}]
["  x","  o","  x","  o","  x","  o","  x","  o","  x","  o--","--o","  x","  o","  x","  o","  x","  o","  x","  o","  x","  o","  x--","--x","  o","  x","  o","D",null,{"$f":"ClashCount('Other league dates'!J$6:J$31,$A1148:$Z1148)","v":""},{"$f":"ClashCount('Other league dates'!K$6:K$31,$A1148:$Z1148)","v":""},{"$f":"ClashCount('Other league dates'!L$6:L$31,$A1148:$Z1148)","v":""}]
["  o","  x","  o","  x","  o","  x","  o","  x--","--x","  o","  x","  o","  x","  o","  x","  o","  x","  o","  x","  o--","--o","  x","  o","  x","  o","  x","E",null,{"$f":"ClashCount('Other league dates'!J$6:J$31,$A1149:$Z1149)","v":""},{"$f":"ClashCount('Other league dates'!K$6:K$31,$A1149:$Z1149)","v":""},{"$f":"ClashCount('Other league dates'!L$6:L$31,$A1149:$Z1149)","v":""}]
["  x","  o","  x","  o","  x","  o","  x","  o--","--o","  x","  o","  x","  o","  x","  o","  x","  o","  x","  o","  x--","--x","  o","  x","  o","  x","  o","F",null,{"$f":"ClashCount('Other league dates'!J$6:J$31,$A1150:$Z1150)","v":""},{"$f":"ClashCount('Other league dates'!K$6:K$31,$A1150:$Z1150)","v":""},{"$f":"ClashCount('Other league dates'!L$6:L$31,$A1150:$Z1150)","v":""}]
["  o","  x","  o","  x","  o","  x--","--x","  o","  x","  o","  x","  o","  x","  o","  x","  o","  x","  o--","--o","  x","  o","  x","  o","  x","  o","  x","G",null,{"$f":"ClashCount('Other league dates'!J$6:J$31,$A1151:$Z1151)","v":""},{"$f":"ClashCount('Other league dates'!K$6:K$31,$A1151:$Z1151)","v":""},{"$f":"ClashCount('Other league dates'!L$6:L$31,$A1151:$Z1151)","v":""}]
["  x","  o","  x","  o","  x","  o--","--o","  x","  o","  x","  o","  x","  o","  x","  o","  x","  o","  x--","--x","  o","  x","  o","  x","  o","  x","  o","H",null,{"$f":"ClashCount('Other league dates'!J$6:J$31,$A1152:$Z1152)","v":""},{"$f":"ClashCount('Other league dates'!K$6:K$31,$A1152:$Z1152)","v":""},{"$f":"ClashCount('Other league dates'!L$6:L$31,$A1152:$Z1152)","v":""}]
["  o","  x","  o","  x--","--x","  o","  x","  o","  x","  o","  x","  o","  x","  o","  x","  o--","--o","  x","  o","  x","  o","  x","  o","  x","  o","  x","I",null,{"$f":"ClashCount('Other league dates'!J$6:J$31,$A1153:$Z1153)","v":""},{"$f":"ClashCount('Other league dates'!K$6:K$31,$A1153:$Z1153)","v":""},{"$f":"ClashCount('Other league dates'!L$6:L$31,$A1153:$Z1153)","v":""}]
["  x","  o","  x","  o--","--o","  x","  o","  x","  o","  x","  o","  x","  o","  x","  o","  x--","--x","  o","  x","  o","  x","  o","  x","  o","  x","  o","J",null,{"$f":"ClashCount('Other league dates'!J$6:J$31,$A1154:$Z1154)","v":""},{"$f":"ClashCount('Other league dates'!K$6:K$31,$A1154:$Z1154)","v":""},{"$f":"ClashCount('Other league dates'!L$6:L$31,$A1154:$Z1154)","v":""}]
["  o","  x--","--x","  o","  x","  o","  x","  o","  x","  o","  x","  o","  x","  o--","--o","  x","  o","  x","  o","  x","  o","  x","  o","  x","  o","  x","K",null,{"$f":"ClashCount('Other league dates'!J$6:J$31,$A1155:$Z1155)","v":""},{"$f":"ClashCount('Other league dates'!K$6:K$31,$A1155:$Z1155)","v":""},{"$f":"ClashCount('Other league dates'!L$6:L$31,$A1155:$Z1155)","v":""}]
["  x","  o--","--o","  x","  o","  x","  o","  x","  o","  x","  o","  x","  o","  x--","--x","  o","  x","  o","  x","  o","  x","  o","  x","  o","  x","  o","L",null,{"$f":"ClashCount('Other league dates'!J$6:J$31,$A1156:$Z1156)","v":""},{"$f":"ClashCount('Other league dates'!K$6:K$31,$A1156:$Z1156)","v":""},{"$f":"ClashCount('Other league dates'!L$6:L$31,$A1156:$Z1156)","v":""}]
["  x","  o","  x","  o","  x","  o","  x","  o","  x","  o","  x","  o","  x","  o--","--o","  x","  o","  x","  o","  x","  o","  x","  o","  x--","--x","  o","M",null,{"$f":"ClashCount('Other league dates'!J$6:J$31,$A1157:$Z1157)","v":""},{"$f":"ClashCount('Other league dates'!K$6:K$31,$A1157:$Z1157)","v":""},{"$f":"ClashCount('Other league dates'!L$6:L$31,$A1157:$Z1157)","v":""}]
["  o","  x","  o","  x","  o","  x","  o","  x","  o","  x","  o","  x","  o","  x--","--x","  o","  x","  o","  x","  o","  x","  o","  x","  o--","--o","  x","N",null,{"$f":"ClashCount('Other league dates'!J$6:J$31,$A1158:$Z1158)","v":""},{"$f":"ClashCount('Other league dates'!K$6:K$31,$A1158:$Z1158)","v":""},{"$f":"ClashCount('Other league dates'!L$6:L$31,$A1158:$Z1158)","v":""}]
[]
["Fit:","12akaa",null,"12akaaz",null,"14ambax"]
[]
["14ambax",null,null,"ERK addition. Swops weeks 2 and 26 to get MN pair played off early."]
[]
["AL","BK","AH","BE","AD","BA","AK","BL","AG","BH","AC","BD","BM","AN","BG","AF","BC","AB","BN","AI","BJ","AE","BF","AM","AJ","BI"]
["CJ","DI","CF","DC","CB","DN","CI","DJ","CE","DF","DM","CN","DK","CL","DE","CD","DA","CK","DL","CG","DH","CM","CA","DB","CH","DG"]
["EH","FG","ED","FA","EK","FL","EG","FH","FM","EA","FB","EL","FI","EJ","FC","EB","FN","EI","FJ","EM","EC","FD","EN","FK","EF","FE"]
["GF","HE","GB","HN","GI","HJ","HM","GC","HD","GN","HK","GJ","HG","GH","HA","GK","HL","GM","GE","HF","GA","HB","GL","HI","GD","HC"]
["ID","JC","IK","JL","JM","IE","JF","IA","JB","IL","JI","IH","JE","IF","JN","IM","IG","JH","IC","JD","IN","JK","IJ","JG","IB","JA"]
["KB","LA","LM","KG","LH","KC","LD","KN","LK","KJ","LG","KF","LC","KD","KI","LJ","KE","LF","KA","LB","KL","LI","KH","LE","KM","LN"]
["NM","MN","NJ","MI","NF","MG","NB","ME","NI","MC","NE","MA","NA","MB","ML","NH","MJ","ND","MH","NK","MF","NG","MD","NC","NL","MK"]
[1,2,3,4,5,6,7,8,9,10,11,12,13,14,15,16,17,18,19,20,21,22,23,24,25,26]
["RFx",1,null,null,null,null,null,null,null,null,null,null,null,13,3,4,5,6,7,8,9,10,11,12,null,25]
["  o","  x","  o","  x","  o","  x","  o","  x","  o","  x","  o","  x--","--x","  o","  x","  o","  x","  o","  x","  o","  x","  o","  x","  o--","--o","  x","A",null,{"$f":"ClashCount('Other league dates'!J$6:J$31,$A1173:$Z1173)","v":""},{"$f":"ClashCount('Other league dates'!K$6:K$31,$A1173:$Z1173)","v":""},{"$f":"ClashCount('Other league dates'!L$6:L$31,$A1173:$Z1173)","v":""}]
["  x","  o","  x","  o","  x","  o","  x","  o","  x","  o","  x","  o--","--o","  x","  o","  x","  o","  x","  o","  x","  o","  x","  o","  x--","--x","  o","B",null,{"$f":"ClashCount('Other league dates'!J$6:J$31,$A1174:$Z1174)","v":""},{"$f":"ClashCount('Other league dates'!K$6:K$31,$A1174:$Z1174)","v":""},{"$f":"ClashCount('Other league dates'!L$6:L$31,$A1174:$Z1174)","v":""}]
["  o","  x","  o","  x","  o","  x","  o","  x","  o","  x--","--x","  o","  x","  o","  x","  o","  x","  o","  x","  o","  x","  o--","--o","  x","  o","  x","C",null,{"$f":"ClashCount('Other league dates'!J$6:J$31,$A1175:$Z1175)","v":""},{"$f":"ClashCount('Other league dates'!K$6:K$31,$A1175:$Z1175)","v":""},{"$f":"ClashCount('Other league dates'!L$6:L$31,$A1175:$Z1175)","v":""}]
["  x","  o","  x","  o","  x","  o","  x","  o","  x","  o--","--o","  x","  o","  x","  o","  x","  o","  x","  o","  x","  o","  x--","--x","  o","  x","  o","D",null,{"$f":"ClashCount('Other league dates'!J$6:J$31,$A1176:$Z1176)","v":""},{"$f":"ClashCount('Other league dates'!K$6:K$31,$A1176:$Z1176)","v":""},{"$f":"ClashCount('Other league dates'!L$6:L$31,$A1176:$Z1176)","v":""}]
["  o","  x","  o","  x","  o","  x","  o","  x--","--x","  o","  x","  o","  x","  o","  x","  o","  x","  o","  x","  o--","--o","  x","  o","  x","  o","  x","E",null,{"$f":"ClashCount('Other league dates'!J$6:J$31,$A1177:$Z1177)","v":""},{"$f":"ClashCount('Other league dates'!K$6:K$31,$A1177:$Z1177)","v":""},{"$f":"ClashCount('Other league dates'!L$6:L$31,$A1177:$Z1177)","v":""}]
["  x","  o","  x","  o","  x","  o","  x","  o--","--o","  x","  o","  x","  o","  x","  o","  x","  o","  x","  o","  x--","--x","  o","  x","  o","  x","  o","F",null,{"$f":"ClashCount('Other league dates'!J$6:J$31,$A1178:$Z1178)","v":""},{"$f":"ClashCount('Other league dates'!K$6:K$31,$A1178:$Z1178)","v":""},{"$f":"ClashCount('Other league dates'!L$6:L$31,$A1178:$Z1178)","v":""}]
["  o","  x","  o","  x","  o","  x--","--x","  o","  x","  o","  x","  o","  x","  o","  x","  o","  x","  o--","--o","  x","  o","  x","  o","  x","  o","  x","G",null,{"$f":"ClashCount('Other league dates'!J$6:J$31,$A1179:$Z1179)","v":""},{"$f":"ClashCount('Other league dates'!K$6:K$31,$A1179:$Z1179)","v":""},{"$f":"ClashCount('Other league dates'!L$6:L$31,$A1179:$Z1179)","v":""}]
["  x","  o","  x","  o","  x","  o--","--o","  x","  o","  x","  o","  x","  o","  x","  o","  x","  o","  x--","--x","  o","  x","  o","  x","  o","  x","  o","H",null,{"$f":"ClashCount('Other league dates'!J$6:J$31,$A1180:$Z1180)","v":""},{"$f":"ClashCount('Other league dates'!K$6:K$31,$A1180:$Z1180)","v":""},{"$f":"ClashCount('Other league dates'!L$6:L$31,$A1180:$Z1180)","v":""}]
["  o","  x","  o","  x--","--x","  o","  x","  o","  x","  o","  x","  o","  x","  o","  x","  o--","--o","  x","  o","  x","  o","  x","  o","  x","  o","  x","I",null,{"$f":"ClashCount('Other league dates'!J$6:J$31,$A1181:$Z1181)","v":""},{"$f":"ClashCount('Other league dates'!K$6:K$31,$A1181:$Z1181)","v":""},{"$f":"ClashCount('Other league dates'!L$6:L$31,$A1181:$Z1181)","v":""}]
["  x","  o","  x","  o--","--o","  x","  o","  x","  o","  x","  o","  x","  o","  x","  o","  x--","--x","  o","  x","  o","  x","  o","  x","  o","  x","  o","J",null,{"$f":"ClashCount('Other league dates'!J$6:J$31,$A1182:$Z1182)","v":""},{"$f":"ClashCount('Other league dates'!K$6:K$31,$A1182:$Z1182)","v":""},{"$f":"ClashCount('Other league dates'!L$6:L$31,$A1182:$Z1182)","v":""}]
["  o","  x--","--x","  o","  x","  o","  x","  o","  x","  o","  x","  o","  x","  o--","--o","  x","  o","  x","  o","  x","  o","  x","  o","  x","  o","  x","K",null,{"$f":"ClashCount('Other league dates'!J$6:J$31,$A1183:$Z1183)","v":""},{"$f":"ClashCount('Other league dates'!K$6:K$31,$A1183:$Z1183)","v":""},{"$f":"ClashCount('Other league dates'!L$6:L$31,$A1183:$Z1183)","v":""}]
["  x","  o--","--o","  x","  o","  x","  o","  x","  o","  x","  o","  x","  o","  x--","--x","  o","  x","  o","  x","  o","  x","  o","  x","  o","  x","  o","L",null,{"$f":"ClashCount('Other league dates'!J$6:J$31,$A1184:$Z1184)","v":""},{"$f":"ClashCount('Other league dates'!K$6:K$31,$A1184:$Z1184)","v":""},{"$f":"ClashCount('Other league dates'!L$6:L$31,$A1184:$Z1184)","v":""}]
["  x","  o","  x","  o","  x","  o","  x","  o","  x","  o","  x","  o","  x","  o--","--o","  x","  o","  x","  o","  x","  o","  x","  o","  x--","--x","  o","M",null,{"$f":"ClashCount('Other league dates'!J$6:J$31,$A1185:$Z1185)","v":""},{"$f":"ClashCount('Other league dates'!K$6:K$31,$A1185:$Z1185)","v":""},{"$f":"ClashCount('Other league dates'!L$6:L$31,$A1185:$Z1185)","v":""}]
["  o","  x","  o","  x","  o","  x","  o","  x","  o","  x","  o","  x","  o","  x--","--x","  o","  x","  o","  x","  o","  x","  o","  x","  o--","--o","  x","N",null,{"$f":"ClashCount('Other league dates'!J$6:J$31,$A1186:$Z1186)","v":""},{"$f":"ClashCount('Other league dates'!K$6:K$31,$A1186:$Z1186)","v":""},{"$f":"ClashCount('Other league dates'!L$6:L$31,$A1186:$Z1186)","v":""}]
[]
["Fit:","12akaa",null,"12akaaz",null,"14amba"]
[]
["14amda"]
[]
["AL","BI","AH","BE","AD","BA","AK","BL","AG","BH","AC","BD","BM","AN","BN","AI","BJ","AE","BF","AM","AJ","BK","AF","BG","AB","BC"]
["CJ","DG","CF","DC","CB","DN","CI","DJ","CE","DF","DM","CN","DK","CL","DL","CG","DH","CM","CA","DB","CH","DI","CD","DE","CK","DA"]
["EH","FE","ED","FA","EK","FL","EG","FH","FM","EA","FB","EL","FI","EJ","FJ","EM","EC","FD","EN","FK","EF","FG","EB","FC","EI","FN"]
["GF","HC","GB","HN","GI","HJ","HM","GC","HD","GN","HK","GJ","HG","GH","GE","HF","GA","HB","GL","HI","GD","HE","GK","HA","GM","HL"]
["ID","JA","IK","JL","JM","IE","JF","IA","JB","IL","JI","IH","JE","IF","IC","JD","IN","JK","IJ","JG","IB","JC","IM","JN","JH","IG"]
["KB","LN","LM","KG","LH","KC","LD","KN","LK","KJ","LG","KF","LC","KD","KA","LB","KL","LI","KH","LE","KM","LA","LJ","KI","LF","KE"]
["NM","MK","NJ","MI","NF","MG","NB","ME","NI","MC","NE","MA","NA","MB","MH","NK","MF","NG","MD","NC","NL","MN","NH","ML","ND","MJ"]
[1,2,3,4,5,6,7,8,9,10,11,12,13,14,15,16,17,18,19,20,21,22,23,24,25,26]
["RFx",null,null,null,null,null,null,null,null,null,null,null,null,13,7,8,9,10,11,12,2,1,4,3,6,5]
["  o","  x","  o","  x","  o","  x","  o","  x","  o","  x","  o","  x--","--x","  o","  x","  o","  x","  o","  x","  o--","--o","  x","  o","  x","  o","  x","A",null,{"$f":"ClashCount('Other league dates'!J$6:J$31,$A1201:$Z1201)","v":""},{"$f":"ClashCount('Other league dates'!K$6:K$31,$A1201:$Z1201)","v":""},{"$f":"ClashCount('Other league dates'!L$6:L$31,$A1201:$Z1201)","v":""}]
["  x","  o","  x","  o","  x","  o","  x","  o","  x","  o","  x","  o--","--o","  x","  o","  x","  o","  x","  o","  x--","--x","  o","  x","  o","  x","  o","B",null,{"$f":"ClashCount('Other league dates'!J$6:J$31,$A1202:$Z1202)","v":""},{"$f":"ClashCount('Other league dates'!K$6:K$31,$A1202:$Z1202)","v":""},{"$f":"ClashCount('Other league dates'!L$6:L$31,$A1202:$Z1202)","v":""}]
["  o","  x","  o","  x","  o","  x","  o","  x","  o","  x--","--x","  o","  x","  o","  x","  o","  x","  o--","--o","  x","  o","  x","  o","  x","  o","  x","C",null,{"$f":"ClashCount('Other league dates'!J$6:J$31,$A1203:$Z1203)","v":""},{"$f":"ClashCount('Other league dates'!K$6:K$31,$A1203:$Z1203)","v":""},{"$f":"ClashCount('Other league dates'!L$6:L$31,$A1203:$Z1203)","v":""}]
["  x","  o","  x","  o","  x","  o","  x","  o","  x","  o--","--o","  x","  o","  x","  o","  x","  o","  x--","--x","  o","  x","  o","  x","  o","  x","  o","D",null,{"$f":"ClashCount('Other league dates'!J$6:J$31,$A1204:$Z1204)","v":""},{"$f":"ClashCount('Other league dates'!K$6:K$31,$A1204:$Z1204)","v":""},{"$f":"ClashCount('Other league dates'!L$6:L$31,$A1204:$Z1204)","v":""}]
["  o","  x","  o","  x","  o","  x","  o","  x--","--x","  o","  x","  o","  x","  o","  x","  o--","--o","  x","  o","  x","  o","  x","  o","  x","  o","  x","E",null,{"$f":"ClashCount('Other league dates'!J$6:J$31,$A1205:$Z1205)","v":""},{"$f":"ClashCount('Other league dates'!K$6:K$31,$A1205:$Z1205)","v":""},{"$f":"ClashCount('Other league dates'!L$6:L$31,$A1205:$Z1205)","v":""}]
["  x","  o","  x","  o","  x","  o","  x","  o--","--o","  x","  o","  x","  o","  x","  o","  x--","--x","  o","  x","  o","  x","  o","  x","  o","  x","  o","F",null,{"$f":"ClashCount('Other league dates'!J$6:J$31,$A1206:$Z1206)","v":""},{"$f":"ClashCount('Other league dates'!K$6:K$31,$A1206:$Z1206)","v":""},{"$f":"ClashCount('Other league dates'!L$6:L$31,$A1206:$Z1206)","v":""}]
["  o","  x","  o","  x","  o","  x--","--x","  o","  x","  o","  x","  o","  x","  o--","--o","  x","  o","  x","  o","  x","  o","  x","  o","  x","  o","  x","G",null,{"$f":"ClashCount('Other league dates'!J$6:J$31,$A1207:$Z1207)","v":""},{"$f":"ClashCount('Other league dates'!K$6:K$31,$A1207:$Z1207)","v":""},{"$f":"ClashCount('Other league dates'!L$6:L$31,$A1207:$Z1207)","v":""}]
["  x","  o","  x","  o","  x","  o--","--o","  x","  o","  x","  o","  x","  o","  x--","--x","  o","  x","  o","  x","  o","  x","  o","  x","  o","  x","  o","H",null,{"$f":"ClashCount('Other league dates'!J$6:J$31,$A1208:$Z1208)","v":""},{"$f":"ClashCount('Other league dates'!K$6:K$31,$A1208:$Z1208)","v":""},{"$f":"ClashCount('Other league dates'!L$6:L$31,$A1208:$Z1208)","v":""}]
["  o","  x","  o","  x--","--x","  o","  x","  o","  x","  o","  x","  o","  x","  o--","--o","  x","  o","  x","  o","  x","  o","  x","  o","  x--","--x","  o","I",null,{"$f":"ClashCount('Other league dates'!J$6:J$31,$A1209:$Z1209)","v":""},{"$f":"ClashCount('Other league dates'!K$6:K$31,$A1209:$Z1209)","v":""},{"$f":"ClashCount('Other league dates'!L$6:L$31,$A1209:$Z1209)","v":""}]
["  x","  o","  x","  o--","--o","  x","  o","  x","  o","  x","  o","  x","  o","  x--","--x","  o","  x","  o","  x","  o","  x","  o","  x","  o--","--o","  x","J",null,{"$f":"ClashCount('Other league dates'!J$6:J$31,$A1210:$Z1210)","v":""},{"$f":"ClashCount('Other league dates'!K$6:K$31,$A1210:$Z1210)","v":""},{"$f":"ClashCount('Other league dates'!L$6:L$31,$A1210:$Z1210)","v":""}]
["  o","  x--","--x","  o","  x","  o","  x","  o","  x","  o","  x","  o","  x","  o--","--o","  x","  o","  x","  o","  x","  o","  x--","--x","  o","  x","  o","K",null,{"$f":"ClashCount('Other league dates'!J$6:J$31,$A1211:$Z1211)","v":""},{"$f":"ClashCount('Other league dates'!K$6:K$31,$A1211:$Z1211)","v":""},{"$f":"ClashCount('Other league dates'!L$6:L$31,$A1211:$Z1211)","v":""}]
["  x","  o--","--o","  x","  o","  x","  o","  x","  o","  x","  o","  x","  o","  x--","--x","  o","  x","  o","  x","  o","  x","  o--","--o","  x","  o","  x","L",null,{"$f":"ClashCount('Other league dates'!J$6:J$31,$A1212:$Z1212)","v":""},{"$f":"ClashCount('Other league dates'!K$6:K$31,$A1212:$Z1212)","v":""},{"$f":"ClashCount('Other league dates'!L$6:L$31,$A1212:$Z1212)","v":""}]
["  x","  o","  x","  o","  x","  o","  x","  o","  x","  o","  x","  o","  x","  o--","--o","  x","  o","  x","  o","  x--","--x","  o","  x","  o","  x","  o","M",null,{"$f":"ClashCount('Other league dates'!J$6:J$31,$A1213:$Z1213)","v":""},{"$f":"ClashCount('Other league dates'!K$6:K$31,$A1213:$Z1213)","v":""},{"$f":"ClashCount('Other league dates'!L$6:L$31,$A1213:$Z1213)","v":""}]
["  o","  x","  o","  x","  o","  x","  o","  x","  o","  x","  o","  x","  o","  x--","--x","  o","  x","  o","  x","  o--","--o","  x","  o","  x","  o","  x","N",null,{"$f":"ClashCount('Other league dates'!J$6:J$31,$A1214:$Z1214)","v":""},{"$f":"ClashCount('Other league dates'!K$6:K$31,$A1214:$Z1214)","v":""},{"$f":"ClashCount('Other league dates'!L$6:L$31,$A1214:$Z1214)","v":""}]
[]
["Fit:","08agaa",null,"08agab"]
[]
["14amea"]
[]
["AL","BI","AH","BE","AD","BA","AK","BL","AG","BH","AC","BD","BM","MB","KA","LB","GA","HB","CA","DB","AB","DA","EB","HA","IB","LA"]
["CJ","DG","CF","DC","CB","DN","CI","DJ","CE","DF","DM","CN","DK","KD","IC","JD","EC","FD","MD","NC","ND","BC","CD","FC","GD","JC"]
["EH","FE","ED","FA","EK","FL","EG","FH","FM","EA","FB","EL","FI","IF","GE","HF","MF","AE","BF","LE","LF","KE","AF","DE","EF","HE"]
["GF","HC","GB","HN","GI","HJ","HM","GC","HD","GN","HK","GJ","HG","GH","MH","CG","DH","NG","KH","JG","JH","IG","NH","BG","CH","FG"]
["ID","JA","IK","JL","JM","IE","JF","IA","JB","IL","JI","IH","JE","EJ","FJ","AI","BJ","LI","IJ","HI","EI","MJ","LJ","KI","AJ","DI"]
["KB","LN","LM","KG","LH","KC","LD","KN","LK","KJ","LG","KF","LC","CL","DL","NK","KL","JK","GL","FK","CK","HL","GK","ML","NL","BK"]
["NM","MK","NJ","MI","NF","MG","NB","ME","NI","MC","NE","MA","NA","AN","BN","EM","IN","CM","EN","AM","GM","FN","IM","JN","KM","MN"]
[1,2,3,4,5,6,7,8,9,10,11,12,13,14,15,16,17,18,19,20,21,22,23,24,25,26]
["RFx",null,null,null,null,null,null,null,null,null,null,null,null,13,7,8,9,10,11,12,6,5,4,3,2,1]
["  o","  x","  o","  x","  o","  x","  o","  x","  o","  x","  o","  x--","--x","  o","  x","  o","  x","  o","  x","  o--","--o","  x","  o","  x","  o","  x","A",null,{"$f":"ClashCount('Other league dates'!J$6:J$31,$A1229:$Z1229)","v":""},{"$f":"ClashCount('Other league dates'!K$6:K$31,$A1229:$Z1229)","v":""},{"$f":"ClashCount('Other league dates'!L$6:L$31,$A1229:$Z1229)","v":""}]
["  x","  o","  x","  o","  x","  o","  x","  o","  x","  o","  x","  o--","--o","  x","  o","  x","  o","  x","  o","  x--","--x","  o","  x","  o","  x","  o","B",null,{"$f":"ClashCount('Other league dates'!J$6:J$31,$A1230:$Z1230)","v":""},{"$f":"ClashCount('Other league dates'!K$6:K$31,$A1230:$Z1230)","v":""},{"$f":"ClashCount('Other league dates'!L$6:L$31,$A1230:$Z1230)","v":""}]
["  o","  x","  o","  x","  o","  x","  o","  x","  o","  x--","--x","  o","  x","  o","  x","  o","  x","  o--","--o","  x","  o","  x","  o","  x","  o","  x","C",null,{"$f":"ClashCount('Other league dates'!J$6:J$31,$A1231:$Z1231)","v":""},{"$f":"ClashCount('Other league dates'!K$6:K$31,$A1231:$Z1231)","v":""},{"$f":"ClashCount('Other league dates'!L$6:L$31,$A1231:$Z1231)","v":""}]
["  x","  o","  x","  o","  x","  o","  x","  o","  x","  o--","--o","  x","  o","  x","  o","  x","  o","  x--","--x","  o","  x","  o","  x","  o","  x","  o","D",null,{"$f":"ClashCount('Other league dates'!J$6:J$31,$A1232:$Z1232)","v":""},{"$f":"ClashCount('Other league dates'!K$6:K$31,$A1232:$Z1232)","v":""},{"$f":"ClashCount('Other league dates'!L$6:L$31,$A1232:$Z1232)","v":""}]
["  o","  x","  o","  x","  o","  x","  o","  x--","--x","  o","  x","  o","  x","  o","  x","  o--","--o","  x","  o","  x","  o","  x","  o","  x","  o","  x","E",null,{"$f":"ClashCount('Other league dates'!J$6:J$31,$A1233:$Z1233)","v":""},{"$f":"ClashCount('Other league dates'!K$6:K$31,$A1233:$Z1233)","v":""},{"$f":"ClashCount('Other league dates'!L$6:L$31,$A1233:$Z1233)","v":""}]
["  x","  o","  x","  o","  x","  o","  x","  o--","--o","  x","  o","  x","  o","  x","  o","  x--","--x","  o","  x","  o","  x","  o","  x","  o","  x","  o","F",null,{"$f":"ClashCount('Other league dates'!J$6:J$31,$A1234:$Z1234)","v":""},{"$f":"ClashCount('Other league dates'!K$6:K$31,$A1234:$Z1234)","v":""},{"$f":"ClashCount('Other league dates'!L$6:L$31,$A1234:$Z1234)","v":""}]
["  o","  x","  o","  x","  o","  x--","--x","  o","  x","  o","  x","  o","  x","  o--","--o","  x","  o","  x","  o","  x","  o","  x","  o","  x","  o","  x","G",null,{"$f":"ClashCount('Other league dates'!J$6:J$31,$A1235:$Z1235)","v":""},{"$f":"ClashCount('Other league dates'!K$6:K$31,$A1235:$Z1235)","v":""},{"$f":"ClashCount('Other league dates'!L$6:L$31,$A1235:$Z1235)","v":""}]
["  x","  o","  x","  o","  x","  o--","--o","  x","  o","  x","  o","  x","  o","  x--","--x","  o","  x","  o","  x","  o","  x","  o","  x","  o","  x","  o","H",null,{"$f":"ClashCount('Other league dates'!J$6:J$31,$A1236:$Z1236)","v":""},{"$f":"ClashCount('Other league dates'!K$6:K$31,$A1236:$Z1236)","v":""},{"$f":"ClashCount('Other league dates'!L$6:L$31,$A1236:$Z1236)","v":""}]
["  o","  x","  o","  x--","--x","  o","  x","  o","  x","  o","  x","  o","  x","  o--","--o","  x","  o","  x","  o","  x--","--x","  o--","--o","  x","  o","  x","I",null,{"$f":"ClashCount('Other league dates'!J$6:J$31,$A1237:$Z1237)","v":""},{"$f":"ClashCount('Other league dates'!K$6:K$31,$A1237:$Z1237)","v":""},{"$f":"ClashCount('Other league dates'!L$6:L$31,$A1237:$Z1237)","v":""}]
["  x","  o","  x","  o--","--o","  x","  o","  x","  o","  x","  o","  x","  o","  x--","--x","  o","  x","  o","  x","  o--","--o","  x--","--x","  o","  x","  o","J",null,{"$f":"ClashCount('Other league dates'!J$6:J$31,$A1238:$Z1238)","v":""},{"$f":"ClashCount('Other league dates'!K$6:K$31,$A1238:$Z1238)","v":""},{"$f":"ClashCount('Other league dates'!L$6:L$31,$A1238:$Z1238)","v":""}]
["  o","  x--","--x","  o","  x","  o","  x","  o","  x","  o","  x","  o","  x","  o--","--o","  x","  o","  x","  o","  x--","--x","  o","  x","  o--","--o","  x","K",null,{"$f":"ClashCount('Other league dates'!J$6:J$31,$A1239:$Z1239)","v":""},{"$f":"ClashCount('Other league dates'!K$6:K$31,$A1239:$Z1239)","v":""},{"$f":"ClashCount('Other league dates'!L$6:L$31,$A1239:$Z1239)","v":""}]
["  x","  o--","--o","  x","  o","  x","  o","  x","  o","  x","  o","  x","  o","  x--","--x","  o","  x","  o","  x","  o--","--o","  x","  o","  x--","--x","  o","L",null,{"$f":"ClashCount('Other league dates'!J$6:J$31,$A1240:$Z1240)","v":""},{"$f":"ClashCount('Other league dates'!K$6:K$31,$A1240:$Z1240)","v":""},{"$f":"ClashCount('Other league dates'!L$6:L$31,$A1240:$Z1240)","v":""}]
["  x","  o","  x","  o","  x","  o","  x","  o","  x","  o","  x","  o","  x","  o--","--o","  x","  o","  x","  o","  x--","--x","  o","  x","  o","  x","  o","M",null,{"$f":"ClashCount('Other league dates'!J$6:J$31,$A1241:$Z1241)","v":""},{"$f":"ClashCount('Other league dates'!K$6:K$31,$A1241:$Z1241)","v":""},{"$f":"ClashCount('Other league dates'!L$6:L$31,$A1241:$Z1241)","v":""}]
["  o","  x","  o","  x","  o","  x","  o","  x","  o","  x","  o","  x","  o","  x--","--x","  o","  x","  o","  x","  o--","--o","  x","  o","  x","  o","  x","N",null,{"$f":"ClashCount('Other league dates'!J$6:J$31,$A1242:$Z1242)","v":""},{"$f":"ClashCount('Other league dates'!K$6:K$31,$A1242:$Z1242)","v":""},{"$f":"ClashCount('Other league dates'!L$6:L$31,$A1242:$Z1242)","v":""}]
[]
["Fit:","08agaa",null,"08agab",null,"10aiba",null,"12akda"]
[]
["14anaa"]
[]
["AL","BI","AH","BE","AD","BA","AK","BL","AG","BH","AC","BD","BM","AN","AM","BF","AE","BJ","AI","BN","AB","BC","AF","BG","AJ","BK"]
["CJ","DG","CF","DC","CB","DN","CI","DJ","CE","DF","DM","CN","DK","CL","DB","CA","CM","DH","CG","DL","CK","DA","CD","DE","CH","DI"]
["EH","FE","ED","FA","EK","FL","EG","FH","FM","EA","FB","EL","FI","EJ","FK","EN","FD","EC","EM","FJ","EI","FN","EB","FC","EF","FG"]
["GF","HC","GB","HN","GI","HJ","HM","GC","HD","GN","HK","GJ","HG","GH","HI","GL","HB","GA","HF","GE","GM","HL","GK","HA","GD","HE"]
["ID","JA","IK","JL","JM","IE","JF","IA","JB","IL","JI","IH","JE","IF","JG","IJ","JK","IN","JD","IC","JH","IG","IM","JN","IB","JC"]
["KB","LN","LM","KG","LH","KC","LD","KN","LK","KJ","LG","KF","LC","KD","LE","KH","LI","KL","LB","KA","LF","KE","LJ","KI","KM","LA"]
["NM","MK","NJ","MI","NF","MG","NB","ME","NI","MC","NE","MA","NA","MB","NC","MD","NG","MF","NK","MH","ND","MJ","NH","ML","NL","MN"]
[1,2,3,4,5,6,7,8,9,10,11,12,13,14,15,16,17,18,19,20,21,22,23,24,25,26]
["RFx",null,null,null,null,null,null,null,null,null,null,null,null,13,12,11,10,9,8,7,6,5,4,3,2,1]
["  o","  x","  o","  x","  o","  x","  o","  x","  o","  x","  o","  x--","--x","  o--","--o","  x","  o","  x","  o","  x","  o","  x","  o","  x","  o","  x","A",null,{"$f":"ClashCount('Other league dates'!J$6:J$31,$A1257:$Z1257)","v":""},{"$f":"ClashCount('Other league dates'!K$6:K$31,$A1257:$Z1257)","v":""},{"$f":"ClashCount('Other league dates'!L$6:L$31,$A1257:$Z1257)","v":""}]
["  x","  o","  x","  o","  x","  o","  x","  o","  x","  o","  x","  o--","--o","  x--","--x","  o","  x","  o","  x","  o","  x","  o","  x","  o","  x","  o","B",null,{"$f":"ClashCount('Other league dates'!J$6:J$31,$A1258:$Z1258)","v":""},{"$f":"ClashCount('Other league dates'!K$6:K$31,$A1258:$Z1258)","v":""},{"$f":"ClashCount('Other league dates'!L$6:L$31,$A1258:$Z1258)","v":""}]
["  o","  x","  o","  x","  o","  x","  o","  x","  o","  x--","--x","  o","  x","  o","  x","  o--","--o","  x","  o","  x","  o","  x","  o","  x","  o","  x","C",null,{"$f":"ClashCount('Other league dates'!J$6:J$31,$A1259:$Z1259)","v":""},{"$f":"ClashCount('Other league dates'!K$6:K$31,$A1259:$Z1259)","v":""},{"$f":"ClashCount('Other league dates'!L$6:L$31,$A1259:$Z1259)","v":""}]
["  x","  o","  x","  o","  x","  o","  x","  o","  x","  o--","--o","  x","  o","  x","  o","  x--","--x","  o","  x","  o","  x","  o","  x","  o","  x","  o","D",null,{"$f":"ClashCount('Other league dates'!J$6:J$31,$A1260:$Z1260)","v":""},{"$f":"ClashCount('Other league dates'!K$6:K$31,$A1260:$Z1260)","v":""},{"$f":"ClashCount('Other league dates'!L$6:L$31,$A1260:$Z1260)","v":""}]
["  o","  x","  o","  x","  o","  x","  o","  x--","--x","  o","  x","  o","  x","  o","  x","  o","  x","  o--","--o","  x","  o","  x","  o","  x","  o","  x","E",null,{"$f":"ClashCount('Other league dates'!J$6:J$31,$A1261:$Z1261)","v":""},{"$f":"ClashCount('Other league dates'!K$6:K$31,$A1261:$Z1261)","v":""},{"$f":"ClashCount('Other league dates'!L$6:L$31,$A1261:$Z1261)","v":""}]
["  x","  o","  x","  o","  x","  o","  x","  o--","--o","  x","  o","  x","  o","  x","  o","  x","  o","  x--","--x","  o","  x","  o","  x","  o","  x","  o","F",null,{"$f":"ClashCount('Other league dates'!J$6:J$31,$A1262:$Z1262)","v":""},{"$f":"ClashCount('Other league dates'!K$6:K$31,$A1262:$Z1262)","v":""},{"$f":"ClashCount('Other league dates'!L$6:L$31,$A1262:$Z1262)","v":""}]
["  o","  x","  o","  x","  o","  x--","--x","  o","  x","  o","  x","  o","  x","  o","  x","  o","  x","  o","  x","  o--","--o","  x","  o","  x","  o","  x","G",null,{"$f":"ClashCount('Other league dates'!J$6:J$31,$A1263:$Z1263)","v":""},{"$f":"ClashCount('Other league dates'!K$6:K$31,$A1263:$Z1263)","v":""},{"$f":"ClashCount('Other league dates'!L$6:L$31,$A1263:$Z1263)","v":""}]
["  x","  o","  x","  o","  x","  o--","--o","  x","  o","  x","  o","  x","  o","  x","  o","  x","  o","  x","  o","  x--","--x","  o","  x","  o","  x","  o","H",null,{"$f":"ClashCount('Other league dates'!J$6:J$31,$A1264:$Z1264)","v":""},{"$f":"ClashCount('Other league dates'!K$6:K$31,$A1264:$Z1264)","v":""},{"$f":"ClashCount('Other league dates'!L$6:L$31,$A1264:$Z1264)","v":""}]
["  o","  x","  o","  x--","--x","  o","  x","  o","  x","  o","  x","  o","  x","  o","  x","  o","  x","  o","  x","  o","  x","  o--","--o","  x","  o","  x","I",null,{"$f":"ClashCount('Other league dates'!J$6:J$31,$A1265:$Z1265)","v":""},{"$f":"ClashCount('Other league dates'!K$6:K$31,$A1265:$Z1265)","v":""},{"$f":"ClashCount('Other league dates'!L$6:L$31,$A1265:$Z1265)","v":""}]
["  x","  o","  x","  o--","--o","  x","  o","  x","  o","  x","  o","  x","  o","  x","  o","  x","  o","  x","  o","  x","  o","  x--","--x","  o","  x","  o","J",null,{"$f":"ClashCount('Other league dates'!J$6:J$31,$A1266:$Z1266)","v":""},{"$f":"ClashCount('Other league dates'!K$6:K$31,$A1266:$Z1266)","v":""},{"$f":"ClashCount('Other league dates'!L$6:L$31,$A1266:$Z1266)","v":""}]
["  o","  x--","--x","  o","  x","  o","  x","  o","  x","  o","  x","  o","  x","  o","  x","  o","  x","  o","  x","  o","  x","  o","  x","  o--","--o","  x","K",null,{"$f":"ClashCount('Other league dates'!J$6:J$31,$A1267:$Z1267)","v":""},{"$f":"ClashCount('Other league dates'!K$6:K$31,$A1267:$Z1267)","v":""},{"$f":"ClashCount('Other league dates'!L$6:L$31,$A1267:$Z1267)","v":""}]
["  x","  o--","--o","  x","  o","  x","  o","  x","  o","  x","  o","  x","  o","  x","  o","  x","  o","  x","  o","  x","  o","  x","  o","  x--","--x","  o","L",null,{"$f":"ClashCount('Other league dates'!J$6:J$31,$A1268:$Z1268)","v":""},{"$f":"ClashCount('Other league dates'!K$6:K$31,$A1268:$Z1268)","v":""},{"$f":"ClashCount('Other league dates'!L$6:L$31,$A1268:$Z1268)","v":""}]
["  x","  o","  x","  o","  x","  o","  x","  o","  x","  o","  x","  o","  x","  o","  x","  o","  x","  o","  x","  o","  x","  o","  x","  o","  x","  o","M",null,{"$f":"ClashCount('Other league dates'!J$6:J$31,$A1269:$Z1269)","v":""},{"$f":"ClashCount('Other league dates'!K$6:K$31,$A1269:$Z1269)","v":""},{"$f":"ClashCount('Other league dates'!L$6:L$31,$A1269:$Z1269)","v":""}]
["  o","  x","  o","  x","  o","  x","  o","  x","  o","  x","  o","  x","  o","  x","  o","  x","  o","  x","  o","  x","  o","  x","  o","  x","  o","  x","N",null,{"$f":"ClashCount('Other league dates'!J$6:J$31,$A1270:$Z1270)","v":""},{"$f":"ClashCount('Other league dates'!K$6:K$31,$A1270:$Z1270)","v":""},{"$f":"ClashCount('Other league dates'!L$6:L$31,$A1270:$Z1270)","v":""}]
[]
["Fit:","06ataa",null,"08ataa",null,"08ataax",null,"10araa",null,"12apaa"]
[]
["14bbaa"]
[]
["AN","BI","AJ","BE","AF","BA","AM","BL","AI","BH","AE","BD","BM","AL","BG","AH","BC","AB","BN","AK","BJ","AG","BF","AC","AD","BK"]
["CL","DN","CH","DL","CB","DJ","CK","DH","CG","DF","CD","CA","DA","CJ","DK","CF","DI","CM","DG","CI","DE","CE","DC","DB","CN","DM"]
["EJ","FG","EF","FC","EM","FN","EI","FJ","ED","EC","FB","EN","FK","EH","FE","EB","FA","EK","FL","EG","FH","FD","EA","FM","EL","FI"]
["GH","HE","GB","HA","GK","HL","GD","GE","HF","GA","HM","GL","HI","GF","HC","GM","HN","GI","HJ","HD","GC","HB","GN","HK","GJ","HG"]
["IF","JC","IM","JN","ID","IG","JH","IC","JB","IN","JK","IJ","JG","IB","JA","IK","JL","JD","IE","JF","IA","JM","IL","JI","IH","JE"]
["KB","LA","KD","KI","LJ","KE","LF","KA","LM","KL","LI","KH","LE","KM","LN","LD","KG","LH","KC","LB","KN","LK","KJ","LG","KF","LC"]
["MD","MK","NL","MG","NH","MC","NB","MN","NK","MJ","NG","MF","NC","ND","MI","NJ","ME","NF","MA","NM","ML","NI","MH","NE","MB","NA"]
[1,2,3,4,5,6,7,8,9,10,11,12,13,14,15,16,17,18,19,20,21,22,23,24,25,26]
["RFx",null,null,null,null,null,null,null,null,null,null,null,null,2,3,4,5,6,7,8,9,10,11,12,13,1]
["  o","  x","  o","  x","  o","  x","  o","  x","  o","  x","  o","  x--","--x","  o","  x","  o","  x","  o","  x","  o","  x","  o","  x","  o--","--o","  x","A",null,{"$f":"ClashCount('Other league dates'!J$6:J$31,$A1285:$Z1285)","v":""},{"$f":"ClashCount('Other league dates'!K$6:K$31,$A1285:$Z1285)","v":""},{"$f":"ClashCount('Other league dates'!L$6:L$31,$A1285:$Z1285)","v":""}]
["  x","  o","  x","  o","  x","  o","  x","  o","  x","  o","  x","  o--","--o","  x","  o","  x","  o","  x","  o","  x","  o","  x","  o","  x--","--x","  o","B",null,{"$f":"ClashCount('Other league dates'!J$6:J$31,$A1286:$Z1286)","v":""},{"$f":"ClashCount('Other league dates'!K$6:K$31,$A1286:$Z1286)","v":""},{"$f":"ClashCount('Other league dates'!L$6:L$31,$A1286:$Z1286)","v":""}]
["  o","  x","  o","  x","  o","  x","  o","  x","  o","  x","  o--","--o","  x","  o","  x","  o","  x","  o","  x","  o","  x","  o","  x--","--x","  o","  x","C",null,{"$f":"ClashCount('Other league dates'!J$6:J$31,$A1287:$Z1287)","v":""},{"$f":"ClashCount('Other league dates'!K$6:K$31,$A1287:$Z1287)","v":""},{"$f":"ClashCount('Other league dates'!L$6:L$31,$A1287:$Z1287)","v":""}]
["  x","  o","  x","  o","  x","  o","  x","  o","  x","  o","  x--","--x","  o","  x","  o","  x","  o","  x","  o","  x","  o","  x","  o--","--o","  x","  o","D",null,{"$f":"ClashCount('Other league dates'!J$6:J$31,$A1288:$Z1288)","v":""},{"$f":"ClashCount('Other league dates'!K$6:K$31,$A1288:$Z1288)","v":""},{"$f":"ClashCount('Other league dates'!L$6:L$31,$A1288:$Z1288)","v":""}]
["  o","  x","  o","  x","  o","  x","  o","  x","  o--","--o","  x","  o","  x","  o","  x","  o","  x","  o","  x","  o","  x--","--x","  o","  x","  o","  x","E",null,{"$f":"ClashCount('Other league dates'!J$6:J$31,$A1289:$Z1289)","v":""},{"$f":"ClashCount('Other league dates'!K$6:K$31,$A1289:$Z1289)","v":""},{"$f":"ClashCount('Other league dates'!L$6:L$31,$A1289:$Z1289)","v":""}]
["  x","  o","  x","  o","  x","  o","  x","  o","  x--","--x","  o","  x","  o","  x","  o","  x","  o","  x","  o","  x","  o--","--o","  x","  o","  x","  o","F",null,{"$f":"ClashCount('Other league dates'!J$6:J$31,$A1290:$Z1290)","v":""},{"$f":"ClashCount('Other league dates'!K$6:K$31,$A1290:$Z1290)","v":""},{"$f":"ClashCount('Other league dates'!L$6:L$31,$A1290:$Z1290)","v":""}]
["  o","  x","  o","  x","  o","  x","  o--","--o","  x","  o","  x","  o","  x","  o","  x","  o","  x","  o","  x--","--x","  o","  x","  o","  x","  o","  x","G",null,{"$f":"ClashCount('Other league dates'!J$6:J$31,$A1291:$Z1291)","v":""},{"$f":"ClashCount('Other league dates'!K$6:K$31,$A1291:$Z1291)","v":""},{"$f":"ClashCount('Other league dates'!L$6:L$31,$A1291:$Z1291)","v":""}]
["  x","  o","  x","  o","  x","  o","  x--","--x","  o","  x","  o","  x","  o","  x","  o","  x","  o","  x","  o--","--o","  x","  o","  x","  o","  x","  o","H",null,{"$f":"ClashCount('Other league dates'!J$6:J$31,$A1292:$Z1292)","v":""},{"$f":"ClashCount('Other league dates'!K$6:K$31,$A1292:$Z1292)","v":""},{"$f":"ClashCount('Other league dates'!L$6:L$31,$A1292:$Z1292)","v":""}]
["  o","  x","  o","  x","  o--","--o","  x","  o","  x","  o","  x","  o","  x","  o","  x","  o","  x--","--x","  o","  x","  o","  x","  o","  x","  o","  x","I",null,{"$f":"ClashCount('Other league dates'!J$6:J$31,$A1293:$Z1293)","v":""},{"$f":"ClashCount('Other league dates'!K$6:K$31,$A1293:$Z1293)","v":""},{"$f":"ClashCount('Other league dates'!L$6:L$31,$A1293:$Z1293)","v":""}]
["  x","  o","  x","  o","  x--","--x","  o","  x","  o","  x","  o","  x","  o","  x","  o","  x","  o--","--o","  x","  o","  x","  o","  x","  o","  x","  o","J",null,{"$f":"ClashCount('Other league dates'!J$6:J$31,$A1294:$Z1294)","v":""},{"$f":"ClashCount('Other league dates'!K$6:K$31,$A1294:$Z1294)","v":""},{"$f":"ClashCount('Other league dates'!L$6:L$31,$A1294:$Z1294)","v":""}]
["  o","  x","  o--","--o","  x","  o","  x","  o","  x","  o","  x","  o","  x","  o","  x--","--x","  o","  x","  o","  x","  o","  x","  o","  x","  o","  x","K",null,{"$f":"ClashCount('Other league dates'!J$6:J$31,$A1295:$Z1295)","v":""},{"$f":"ClashCount('Other league dates'!K$6:K$31,$A1295:$Z1295)","v":""},{"$f":"ClashCount('Other league dates'!L$6:L$31,$A1295:$Z1295)","v":""}]
["  x","  o","  x--","--x","  o","  x","  o","  x","  o","  x","  o","  x","  o","  x","  o--","--o","  x","  o","  x","  o","  x","  o","  x","  o","  x","  o","L",null,{"$f":"ClashCount('Other league dates'!J$6:J$31,$A1296:$Z1296)","v":""},{"$f":"ClashCount('Other league dates'!K$6:K$31,$A1296:$Z1296)","v":""},{"$f":"ClashCount('Other league dates'!L$6:L$31,$A1296:$Z1296)","v":""}]
["  o--","--o","  x","  o","  x","  o","  x","  o","  x","  o","  x","  o","  x--","--x","  o","  x","  o","  x","  o","  x","  o","  x","  o","  x","  o","  x","M",null,{"$f":"ClashCount('Other league dates'!J$6:J$31,$A1297:$Z1297)","v":""},{"$f":"ClashCount('Other league dates'!K$6:K$31,$A1297:$Z1297)","v":""},{"$f":"ClashCount('Other league dates'!L$6:L$31,$A1297:$Z1297)","v":""}]
["  x--","--x","  o","  x","  o","  x","  o","  x","  o","  x","  o","  x","  o--","--o","  x","  o","  x","  o","  x","  o","  x","  o","  x","  o","  x","  o","N",null,{"$f":"ClashCount('Other league dates'!J$6:J$31,$A1298:$Z1298)","v":""},{"$f":"ClashCount('Other league dates'!K$6:K$31,$A1298:$Z1298)","v":""},{"$f":"ClashCount('Other league dates'!L$6:L$31,$A1298:$Z1298)","v":""}]
[]
[]
[]
["14bdaa"]
[]
["AN","BI","AJ","BE","AF","BA","AM","BL","AI","BH","AE","BD","BM","AH","BC","AB","BN","AK","BJ","AG","BF","AC","AD","BK","AL","BG"]
["CL","DN","CH","DL","CB","DJ","CK","DH","CG","DF","CD","CA","DA","CF","DI","CM","DG","CI","DE","CE","DC","DB","CN","DM","CJ","DK"]
["EJ","FG","EF","FC","EM","FN","EI","FJ","ED","EC","FB","EN","FK","EB","FA","EK","FL","EG","FH","FD","EA","FM","EL","FI","EH","FE"]
["GH","HE","GB","HA","GK","HL","GD","GE","HF","GA","HM","GL","HI","GM","HN","GI","HJ","HD","GC","HB","GN","HK","GJ","HG","GF","HC"]
["IF","JC","IM","JN","ID","IG","JH","IC","JB","IN","JK","IJ","JG","IK","JL","JD","IE","JF","IA","JM","IL","JI","IH","JE","IB","JA"]
["KB","LA","KD","KI","LJ","KE","LF","KA","LM","KL","LI","KH","LE","LD","KG","LH","KC","LB","KN","LK","KJ","LG","KF","LC","KM","LN"]
["MD","MK","NL","MG","NH","MC","NB","MN","NK","MJ","NG","MF","NC","NJ","ME","NF","MA","NM","ML","NI","MH","NE","MB","NA","ND","MI"]
[1,2,3,4,5,6,7,8,9,10,11,12,13,14,15,16,17,18,19,20,21,22,23,24,25,26]
["RFx",null,null,null,null,null,null,null,null,null,null,null,null,4,5,6,7,8,9,10,11,12,13,1,2,3]
["  o","  x","  o","  x","  o","  x","  o","  x","  o","  x","  o","  x--","--x","  o","  x","  o","  x","  o","  x","  o","  x","  o--","--o","  x","  o","  x","A",null,{"$f":"ClashCount('Other league dates'!J$6:J$31,$A1313:$Z1313)","v":""},{"$f":"ClashCount('Other league dates'!K$6:K$31,$A1313:$Z1313)","v":""},{"$f":"ClashCount('Other league dates'!L$6:L$31,$A1313:$Z1313)","v":""}]
["  x","  o","  x","  o","  x","  o","  x","  o","  x","  o","  x","  o--","--o","  x","  o","  x","  o","  x","  o","  x","  o","  x--","--x","  o","  x","  o","B",null,{"$f":"ClashCount('Other league dates'!J$6:J$31,$A1314:$Z1314)","v":""},{"$f":"ClashCount('Other league dates'!K$6:K$31,$A1314:$Z1314)","v":""},{"$f":"ClashCount('Other league dates'!L$6:L$31,$A1314:$Z1314)","v":""}]
["  o","  x","  o","  x","  o","  x","  o","  x","  o","  x","  o--","--o","  x","  o","  x","  o","  x","  o","  x","  o","  x--","--x","  o","  x","  o","  x","C",null,{"$f":"ClashCount('Other league dates'!J$6:J$31,$A1315:$Z1315)","v":""},{"$f":"ClashCount('Other league dates'!K$6:K$31,$A1315:$Z1315)","v":""},{"$f":"ClashCount('Other league dates'!L$6:L$31,$A1315:$Z1315)","v":""}]
["  x","  o","  x","  o","  x","  o","  x","  o","  x","  o","  x--","--x","  o","  x","  o","  x","  o","  x","  o","  x","  o--","--o","  x","  o","  x","  o","D",null,{"$f":"ClashCount('Other league dates'!J$6:J$31,$A1316:$Z1316)","v":""},{"$f":"ClashCount('Other league dates'!K$6:K$31,$A1316:$Z1316)","v":""},{"$f":"ClashCount('Other league dates'!L$6:L$31,$A1316:$Z1316)","v":""}]
["  o","  x","  o","  x","  o","  x","  o","  x","  o--","--o","  x","  o","  x","  o","  x","  o","  x","  o","  x--","--x","  o","  x","  o","  x","  o","  x","E",null,{"$f":"ClashCount('Other league dates'!J$6:J$31,$A1317:$Z1317)","v":""},{"$f":"ClashCount('Other league dates'!K$6:K$31,$A1317:$Z1317)","v":""},{"$f":"ClashCount('Other league dates'!L$6:L$31,$A1317:$Z1317)","v":""}]
["  x","  o","  x","  o","  x","  o","  x","  o","  x--","--x","  o","  x","  o","  x","  o","  x","  o","  x","  o--","--o","  x","  o","  x","  o","  x","  o","F",null,{"$f":"ClashCount('Other league dates'!J$6:J$31,$A1318:$Z1318)","v":""},{"$f":"ClashCount('Other league dates'!K$6:K$31,$A1318:$Z1318)","v":""},{"$f":"ClashCount('Other league dates'!L$6:L$31,$A1318:$Z1318)","v":""}]
["  o","  x","  o","  x","  o","  x","  o--","--o","  x","  o","  x","  o","  x","  o","  x","  o","  x--","--x","  o","  x","  o","  x","  o","  x","  o","  x","G",null,{"$f":"ClashCount('Other league dates'!J$6:J$31,$A1319:$Z1319)","v":""},{"$f":"ClashCount('Other league dates'!K$6:K$31,$A1319:$Z1319)","v":""},{"$f":"ClashCount('Other league dates'!L$6:L$31,$A1319:$Z1319)","v":""}]
["  x","  o","  x","  o","  x","  o","  x--","--x","  o","  x","  o","  x","  o","  x","  o","  x","  o--","--o","  x","  o","  x","  o","  x","  o","  x","  o","H",null,{"$f":"ClashCount('Other league dates'!J$6:J$31,$A1320:$Z1320)","v":""},{"$f":"ClashCount('Other league dates'!K$6:K$31,$A1320:$Z1320)","v":""},{"$f":"ClashCount('Other league dates'!L$6:L$31,$A1320:$Z1320)","v":""}]
["  o","  x","  o","  x","  o--","--o","  x","  o","  x","  o","  x","  o","  x","  o","  x--","--x","  o","  x","  o","  x","  o","  x","  o","  x","  o","  x","I",null,{"$f":"ClashCount('Other league dates'!J$6:J$31,$A1321:$Z1321)","v":""},{"$f":"ClashCount('Other league dates'!K$6:K$31,$A1321:$Z1321)","v":""},{"$f":"ClashCount('Other league dates'!L$6:L$31,$A1321:$Z1321)","v":""}]
["  x","  o","  x","  o","  x--","--x","  o","  x","  o","  x","  o","  x","  o","  x","  o--","--o","  x","  o","  x","  o","  x","  o","  x","  o","  x","  o","J",null,{"$f":"ClashCount('Other league dates'!J$6:J$31,$A1322:$Z1322)","v":""},{"$f":"ClashCount('Other league dates'!K$6:K$31,$A1322:$Z1322)","v":""},{"$f":"ClashCount('Other league dates'!L$6:L$31,$A1322:$Z1322)","v":""}]
["  o","  x","  o--","--o","  x","  o","  x","  o","  x","  o","  x","  o","  x--","--x","  o","  x","  o","  x","  o","  x","  o","  x","  o","  x","  o","  x","K",null,{"$f":"ClashCount('Other league dates'!J$6:J$31,$A1323:$Z1323)","v":""},{"$f":"ClashCount('Other league dates'!K$6:K$31,$A1323:$Z1323)","v":""},{"$f":"ClashCount('Other league dates'!L$6:L$31,$A1323:$Z1323)","v":""}]
["  x","  o","  x--","--x","  o","  x","  o","  x","  o","  x","  o","  x","  o--","--o","  x","  o","  x","  o","  x","  o","  x","  o","  x","  o","  x","  o","L",null,{"$f":"ClashCount('Other league dates'!J$6:J$31,$A1324:$Z1324)","v":""},{"$f":"ClashCount('Other league dates'!K$6:K$31,$A1324:$Z1324)","v":""},{"$f":"ClashCount('Other league dates'!L$6:L$31,$A1324:$Z1324)","v":""}]
["  o--","--o","  x","  o","  x","  o","  x","  o","  x","  o","  x","  o","  x--","--x","  o","  x","  o","  x","  o","  x","  o","  x","  o","  x--","--x","  o","M",null,{"$f":"ClashCount('Other league dates'!J$6:J$31,$A1325:$Z1325)","v":""},{"$f":"ClashCount('Other league dates'!K$6:K$31,$A1325:$Z1325)","v":""},{"$f":"ClashCount('Other league dates'!L$6:L$31,$A1325:$Z1325)","v":""}]
["  x--","--x","  o","  x","  o","  x","  o","  x","  o","  x","  o","  x","  o--","--o","  x","  o","  x","  o","  x","  o","  x","  o","  x","  o--","--o","  x","N",null,{"$f":"ClashCount('Other league dates'!J$6:J$31,$A1326:$Z1326)","v":""},{"$f":"ClashCount('Other league dates'!K$6:K$31,$A1326:$Z1326)","v":""},{"$f":"ClashCount('Other league dates'!L$6:L$31,$A1326:$Z1326)","v":""}]
[]
["Fit:","12bbaa"]
[]
["14cnaa"]
[]
["AJ","BI","AF","BE","AB","BN","AK","BJ","AG","BF","AC","AN","BM","AL","BC","BD","AE","BH","AI","BL","AM","BA","AD","BG","AH","BK"]
["CM","DG","CK","DA","CI","DL","CG","DH","CE","DC","DB","CB","DK","CN","DM","CA","CD","DF","CF","DJ","CH","DN","CJ","DE","CL","DI"]
["EH","FE","ED","FN","EM","FJ","EI","FC","FD","EA","FM","EL","FI","EJ","FK","EN","FB","EC","EG","FH","EK","FL","EB","FA","EF","FG"]
["GF","HA","GB","HL","GK","HC","HF","GE","HB","GN","HK","GJ","HG","GH","HI","GL","HM","GA","HD","GC","GI","HJ","GM","HN","GD","HE"]
["ID","JN","IM","JC","JH","IG","JD","IA","JM","IL","JI","IH","JE","IF","JG","IJ","JK","IN","JB","IE","JF","IC","IK","JL","IB","JA"]
["KB","LC","LJ","KI","LF","KE","LB","KN","LK","KJ","LG","KF","LA","KD","LE","KH","LI","KL","LM","KA","LD","KG","LH","KC","KM","LN"]
["NL","MK","NH","MG","ND","MA","NM","ML","NI","MH","NE","MD","NC","MB","NA","MF","NG","MJ","NK","MN","NB","ME","NF","MI","NJ","MC"]
[1,2,3,4,5,6,7,8,9,10,11,12,13,14,15,16,17,18,19,20,21,22,23,24,25,26]
["RFx",null,null,null,null,null,null,null,null,null,null,null,null,13,12,11,10,9,8,7,6,5,4,3,2,1]
["  o","  x","  o","  x","  o","  x","  o","  x","  o","  x","  o--","--o","  x","  o","  x--","--x","  o","  x","  o","  x","  o","  x","  o","  x","  o","  x","A",null,{"$f":"ClashCount('Other league dates'!J$6:J$31,$A1341:$Z1341)","v":""},{"$f":"ClashCount('Other league dates'!K$6:K$31,$A1341:$Z1341)","v":""},{"$f":"ClashCount('Other league dates'!L$6:L$31,$A1341:$Z1341)","v":""}]
["  x","  o","  x","  o","  x","  o","  x","  o","  x","  o","  x--","--x","  o","  x","  o--","--o","  x","  o","  x","  o","  x","  o","  x","  o","  x","  o","B",null,{"$f":"ClashCount('Other league dates'!J$6:J$31,$A1342:$Z1342)","v":""},{"$f":"ClashCount('Other league dates'!K$6:K$31,$A1342:$Z1342)","v":""},{"$f":"ClashCount('Other league dates'!L$6:L$31,$A1342:$Z1342)","v":""}]
["  o","  x","  o","  x","  o","  x","  o","  x","  o","  x--","--x","  o","  x","  o","  x","  o--","--o","  x","  o","  x","  o","  x","  o","  x","  o","  x","C",null,{"$f":"ClashCount('Other league dates'!J$6:J$31,$A1343:$Z1343)","v":""},{"$f":"ClashCount('Other league dates'!K$6:K$31,$A1343:$Z1343)","v":""},{"$f":"ClashCount('Other league dates'!L$6:L$31,$A1343:$Z1343)","v":""}]
["  x","  o","  x","  o","  x","  o","  x","  o","  x","  o--","--o","  x","  o","  x","  o","  x--","--x","  o","  x","  o","  x","  o","  x","  o","  x","  o","D",null,{"$f":"ClashCount('Other league dates'!J$6:J$31,$A1344:$Z1344)","v":""},{"$f":"ClashCount('Other league dates'!K$6:K$31,$A1344:$Z1344)","v":""},{"$f":"ClashCount('Other league dates'!L$6:L$31,$A1344:$Z1344)","v":""}]
["  o","  x","  o","  x","  o","  x","  o","  x--","--x","  o","  x","  o","  x","  o","  x","  o","  x","  o--","--o","  x","  o","  x","  o","  x","  o","  x","E",null,{"$f":"ClashCount('Other league dates'!J$6:J$31,$A1345:$Z1345)","v":""},{"$f":"ClashCount('Other league dates'!K$6:K$31,$A1345:$Z1345)","v":""},{"$f":"ClashCount('Other league dates'!L$6:L$31,$A1345:$Z1345)","v":""}]
["  x","  o","  x","  o","  x","  o","  x","  o--","--o","  x","  o","  x","  o","  x","  o","  x","  o","  x--","--x","  o","  x","  o","  x","  o","  x","  o","F",null,{"$f":"ClashCount('Other league dates'!J$6:J$31,$A1346:$Z1346)","v":""},{"$f":"ClashCount('Other league dates'!K$6:K$31,$A1346:$Z1346)","v":""},{"$f":"ClashCount('Other league dates'!L$6:L$31,$A1346:$Z1346)","v":""}]
["  o","  x","  o","  x","  o","  x--","--x","  o","  x","  o","  x","  o","  x","  o","  x","  o","  x","  o","  x","  o--","--o","  x","  o","  x","  o","  x","G",null,{"$f":"ClashCount('Other league dates'!J$6:J$31,$A1347:$Z1347)","v":""},{"$f":"ClashCount('Other league dates'!K$6:K$31,$A1347:$Z1347)","v":""},{"$f":"ClashCount('Other league dates'!L$6:L$31,$A1347:$Z1347)","v":""}]
["  x","  o","  x","  o","  x","  o--","--o","  x","  o","  x","  o","  x","  o","  x","  o","  x","  o","  x","  o","  x--","--x","  o","  x","  o","  x","  o","H",null,{"$f":"ClashCount('Other league dates'!J$6:J$31,$A1348:$Z1348)","v":""},{"$f":"ClashCount('Other league dates'!K$6:K$31,$A1348:$Z1348)","v":""},{"$f":"ClashCount('Other league dates'!L$6:L$31,$A1348:$Z1348)","v":""}]
["  o","  x","  o","  x--","--x","  o","  x","  o","  x","  o","  x","  o","  x","  o","  x","  o","  x","  o","  x","  o","  x","  o--","--o","  x","  o","  x","I",null,{"$f":"ClashCount('Other league dates'!J$6:J$31,$A1349:$Z1349)","v":""},{"$f":"ClashCount('Other league dates'!K$6:K$31,$A1349:$Z1349)","v":""},{"$f":"ClashCount('Other league dates'!L$6:L$31,$A1349:$Z1349)","v":""}]
["  x","  o","  x","  o--","--o","  x","  o","  x","  o","  x","  o","  x","  o","  x","  o","  x","  o","  x","  o","  x","  o","  x--","--x","  o","  x","  o","J",null,{"$f":"ClashCount('Other league dates'!J$6:J$31,$A1350:$Z1350)","v":""},{"$f":"ClashCount('Other league dates'!K$6:K$31,$A1350:$Z1350)","v":""},{"$f":"ClashCount('Other league dates'!L$6:L$31,$A1350:$Z1350)","v":""}]
["  o","  x--","--x","  o","  x","  o","  x","  o","  x","  o","  x","  o","  x","  o","  x","  o","  x","  o","  x","  o","  x","  o","  x","  o--","--o","  x","K",null,{"$f":"ClashCount('Other league dates'!J$6:J$31,$A1351:$Z1351)","v":""},{"$f":"ClashCount('Other league dates'!K$6:K$31,$A1351:$Z1351)","v":""},{"$f":"ClashCount('Other league dates'!L$6:L$31,$A1351:$Z1351)","v":""}]
["  x","  o--","--o","  x","  o","  x","  o","  x","  o","  x","  o","  x","  o","  x","  o","  x","  o","  x","  o","  x","  o","  x","  o","  x--","--x","  o","L",null,{"$f":"ClashCount('Other league dates'!J$6:J$31,$A1352:$Z1352)","v":""},{"$f":"ClashCount('Other league dates'!K$6:K$31,$A1352:$Z1352)","v":""},{"$f":"ClashCount('Other league dates'!L$6:L$31,$A1352:$Z1352)","v":""}]
["  x","  o","  x","  o","  x","  o","  x","  o","  x","  o","  x","  o","  x","  o","  x","  o","  x","  o","  x","  o","  x","  o","  x","  o","  x","  o","M",null,{"$f":"ClashCount('Other league dates'!J$6:J$31,$A1353:$Z1353)","v":""},{"$f":"ClashCount('Other league dates'!K$6:K$31,$A1353:$Z1353)","v":""},{"$f":"ClashCount('Other league dates'!L$6:L$31,$A1353:$Z1353)","v":""}]
["  o","  x","  o","  x","  o","  x","  o","  x","  o","  x","  o","  x","  o","  x","  o","  x","  o","  x","  o","  x","  o","  x","  o","  x","  o","  x","N",null,{"$f":"ClashCount('Other league dates'!J$6:J$31,$A1354:$Z1354)","v":""},{"$f":"ClashCount('Other league dates'!K$6:K$31,$A1354:$Z1354)","v":""},{"$f":"ClashCount('Other league dates'!L$6:L$31,$A1354:$Z1354)","v":""}]
[]
[]
[]
["14donx",null,null,"Use J for Open date, to avoid successive away matches for other teams"]
[]
["NJ","KN","KJ","JI","KF","GJ","KB","EJ","KL","CJ","KG","AJ","KC","LI","KH","IG","KD","GE","KM","EC","KI","CA","KE","AN","KA","NK"]
["AK","MI","NH","LG","ND","IE","NM","GC","NI","EA","NE","CN","NA","MG","NF","LE","NB","IC","NL","GA","NG","EN","NC","CK","ML","AH"]
["CH","BG","AF","ME","AB","LC","AL","IA","AG","GN","AC","EK","BL","BE","AD","MC","AM","LA","AI","IN","AE","GK","BM","EH","BI","CF"]
["EF","DE","CD","BC","CM","MA","CI","LN","CE","IK","DM","GH","DI","DC","CB","BA","CL","MN","CG","LK","DB","IH","DL","GF","DG","ED"]
["GD","FC","EB","DA","EL","BN","EG","MK","FB","LH","FL","IF","FG","FA","EM","DN","EI","BK","FD","MH","FM","LF","FI","ID","FE","GB"]
["IB","HA","GM","FN","GI","DK","HD","BH","HM","MF","HI","LD","HE","HN","GL","FK","HF","DH","HB","BF","HL","MD","HG","LB","HC","IM"]
["LM","JL","IL","HK","JH","FH","JF","DF","JD","BD","JB","MB","JM","JK","IJ","HJ","JG","FJ","JE","DJ","JC","BJ","JA","MJ","JN","LJ"]
[1,2,3,4,5,6,7,8,9,10,11,12,13,14,15,16,17,18,19,20,21,22,23,24,25,26]
["RFx",null,null,null,null,null,null,null,null,null,null,null,null,3,4,5,6,7,8,9,10,11,12,13,1,2]
["  o","  x","  o","  x","  o","  x","  o","  x","  o","  x","  o--","--o","  x--","--x","  o","  x","  o","  x","  o","  x","  o","  x--","--x","  o","  x","  o","A",null,{"$f":"ClashCount('Other league dates'!J$6:J$31,$A1369:$Z1369)","v":""},{"$f":"ClashCount('Other league dates'!K$6:K$31,$A1369:$Z1369)","v":""},{"$f":"ClashCount('Other league dates'!L$6:L$31,$A1369:$Z1369)","v":""}]
["  x","  o","  x","  o","  x","  o","  x","  o","  x","  o","  x--","--x","  o--","--o","  x","  o","  x","  o","  x","  o","  x","  o--","--o","  x","  o","  x","B",null,{"$f":"ClashCount('Other league dates'!J$6:J$31,$A1370:$Z1370)","v":""},{"$f":"ClashCount('Other league dates'!K$6:K$31,$A1370:$Z1370)","v":""},{"$f":"ClashCount('Other league dates'!L$6:L$31,$A1370:$Z1370)","v":""}]
["  o","  x","  o","  x","  o","  x","  o","  x","  o--","--o","  x","  o","  x--","--x","  o","  x","  o","  x","  o","  x--","--x","  o","  x","  o","  x","  o","C",null,{"$f":"ClashCount('Other league dates'!J$6:J$31,$A1371:$Z1371)","v":""},{"$f":"ClashCount('Other league dates'!K$6:K$31,$A1371:$Z1371)","v":""},{"$f":"ClashCount('Other league dates'!L$6:L$31,$A1371:$Z1371)","v":""}]
["  x","  o","  x","  o","  x","  o","  x","  o","  x--","--x","  o","  x","  o--","--o","  x","  o","  x","  o","  x","  o--","--o","  x","  o","  x","  o","  x","D",null,{"$f":"ClashCount('Other league dates'!J$6:J$31,$A1372:$Z1372)","v":""},{"$f":"ClashCount('Other league dates'!K$6:K$31,$A1372:$Z1372)","v":""},{"$f":"ClashCount('Other league dates'!L$6:L$31,$A1372:$Z1372)","v":""}]
["  o","  x","  o","  x","  o","  x","  o--","--o","  x","  o","  x","  o","  x--","--x","  o","  x","  o","  x--","--x","  o","  x","  o","  x","  o","  x","  o","E",null,{"$f":"ClashCount('Other league dates'!J$6:J$31,$A1373:$Z1373)","v":""},{"$f":"ClashCount('Other league dates'!K$6:K$31,$A1373:$Z1373)","v":""},{"$f":"ClashCount('Other league dates'!L$6:L$31,$A1373:$Z1373)","v":""}]
["  x","  o","  x","  o","  x","  o","  x--","--x","  o","  x","  o","  x","  o--","--o","  x","  o","  x","  o--","--o","  x","  o","  x","  o","  x","  o","  x","F",null,{"$f":"ClashCount('Other league dates'!J$6:J$31,$A1374:$Z1374)","v":""},{"$f":"ClashCount('Other league dates'!K$6:K$31,$A1374:$Z1374)","v":""},{"$f":"ClashCount('Other league dates'!L$6:L$31,$A1374:$Z1374)","v":""}]
["  o","  x","  o","  x","  o--","--o","  x","  o","  x","  o","  x","  o","  x--","--x","  o","  x--","--x","  o","  x","  o","  x","  o","  x","  o","  x","  o","G",null,{"$f":"ClashCount('Other league dates'!J$6:J$31,$A1375:$Z1375)","v":""},{"$f":"ClashCount('Other league dates'!K$6:K$31,$A1375:$Z1375)","v":""},{"$f":"ClashCount('Other league dates'!L$6:L$31,$A1375:$Z1375)","v":""}]
["  x","  o","  x","  o","  x--","--x","  o","  x","  o","  x","  o","  x","  o--","--o","  x","  o--","--o","  x","  o","  x","  o","  x","  o","  x","  o","  x","H",null,{"$f":"ClashCount('Other league dates'!J$6:J$31,$A1376:$Z1376)","v":""},{"$f":"ClashCount('Other league dates'!K$6:K$31,$A1376:$Z1376)","v":""},{"$f":"ClashCount('Other league dates'!L$6:L$31,$A1376:$Z1376)","v":""}]
["  o","  x","  o","  x--","--x","  o","  x","  o","  x","  o","  x","  o","  x--","--x","  o--","--o","  x","  o","  x","  o","  x","  o","  x","  o","  x","  o","I",null,{"$f":"ClashCount('Other league dates'!J$6:J$31,$A1377:$Z1377)","v":""},{"$f":"ClashCount('Other league dates'!K$6:K$31,$A1377:$Z1377)","v":""},{"$f":"ClashCount('Other league dates'!L$6:L$31,$A1377:$Z1377)","v":""}]
["  x","  o","  x","  o--","--o","  x","  o","  x","  o","  x","  o","  x","  o--","--o","  x--","--x","  o","  x","  o","  x","  o","  x","  o","  x","  o","  x","J",null,{"$f":"ClashCount('Other league dates'!J$6:J$31,$A1378:$Z1378)","v":""},{"$f":"ClashCount('Other league dates'!K$6:K$31,$A1378:$Z1378)","v":""},{"$f":"ClashCount('Other league dates'!L$6:L$31,$A1378:$Z1378)","v":""}]
["  x","  o--","--o","  x","  o","  x","  o","  x","  o","  x","  o","  x","  o","  x","  o","  x","  o","  x","  o","  x","  o","  x","  o","  x","  o","  x","K",null,{"$f":"ClashCount('Other league dates'!J$6:J$31,$A1379:$Z1379)","v":""},{"$f":"ClashCount('Other league dates'!K$6:K$31,$A1379:$Z1379)","v":""},{"$f":"ClashCount('Other league dates'!L$6:L$31,$A1379:$Z1379)","v":""}]
["  o","  x--","--x","  o","  x","  o","  x","  o","  x","  o","  x","  o","  x","  o","  x","  o","  x","  o","  x","  o","  x","  o","  x","  o","  x","  o","L",null,{"$f":"ClashCount('Other league dates'!J$6:J$31,$A1380:$Z1380)","v":""},{"$f":"ClashCount('Other league dates'!K$6:K$31,$A1380:$Z1380)","v":""},{"$f":"ClashCount('Other league dates'!L$6:L$31,$A1380:$Z1380)","v":""}]
["  x","  o","  x","  o","  x","  o","  x","  o","  x","  o","  x","  o","  x","  o","  x","  o","  x","  o","  x","  o","  x","  o","  x","  o--","--o","  x","M",null,{"$f":"ClashCount('Other league dates'!J$6:J$31,$A1381:$Z1381)","v":""},{"$f":"ClashCount('Other league dates'!K$6:K$31,$A1381:$Z1381)","v":""},{"$f":"ClashCount('Other league dates'!L$6:L$31,$A1381:$Z1381)","v":""}]
["  o","  x","  o","  x","  o","  x","  o","  x","  o","  x","  o","  x","  o","  x","  o","  x","  o","  x","  o","  x","  o","  x","  o","  x--","--x","  o","N",null,{"$f":"ClashCount('Other league dates'!J$6:J$31,$A1382:$Z1382)","v":""},{"$f":"ClashCount('Other league dates'!K$6:K$31,$A1382:$Z1382)","v":""},{"$f":"ClashCount('Other league dates'!L$6:L$31,$A1382:$Z1382)","v":""}]
[]
["Fit:","10donx",null,"12donx"]
[]
["14primx"]
[]
["AN","MN","AJ","KN","AF","IN","AB","GN","AK","EN","AG","CN","AC","AL","MK","AH","KI","AD","IG","AM","GE","AI","EC","AE","CA","BM"]
["CL","BK","CH","MI","CD","KG","CM","IE","CI","GC","CE","EA","DM","CJ","BI","CF","MG","CB","KE","CK","IC","CG","GA","DB","EL","DK"]
["EJ","DI","EF","BG","EB","ME","EK","KC","EG","IA","FB","GL","FK","EH","DG","ED","BE","EM","MC","EI","KA","FD","IL","FM","GJ","FI"]
["GH","FG","GD","DE","GM","BC","GI","MA","HD","KL","HM","IJ","HI","GF","FE","GB","DC","GK","BA","HF","ML","HB","KJ","HK","IH","HG"]
["IF","HE","IB","FC","IK","DA","JF","BL","JB","MJ","JK","KH","JG","ID","HC","IM","FA","JH","DL","JD","BJ","JM","MH","JI","KF","JE"]
["KD","JC","KM","HA","LH","FL","LD","DJ","LM","BH","LI","MF","LE","KB","JA","LJ","HL","LF","FJ","LB","DH","LK","BF","LG","MD","LC"]
["MB","LA","NL","JL","NJ","HJ","NH","FH","NF","DF","ND","BD","NB","NM","LN","NK","JN","NI","HN","NG","FN","NE","DN","NC","BN","NA"]
[1,2,3,4,5,6,7,8,9,10,11,12,13,14,15,16,17,18,19,20,21,22,23,24,25,26]
["RFx",null,null,null,null,null,null,null,null,null,null,null,null,2,3,4,5,6,7,8,9,10,11,12,13,1]
["  o","  x","  o","  x","  o","  x","  o","  x","  o","  x","  o","  x","  o--","--o","  x","  o","  x","  o","  x","  o","  x","  o","  x","  o","  x--","--x","A",null,{"$f":"ClashCount('Other league dates'!J$6:J$31,$A1397:$Z1397)","v":""},{"$f":"ClashCount('Other league dates'!K$6:K$31,$A1397:$Z1397)","v":""},{"$f":"ClashCount('Other league dates'!L$6:L$31,$A1397:$Z1397)","v":""}]
["  x","  o","  x","  o","  x","  o","  x","  o","  x","  o","  x","  o","  x--","--x","  o","  x","  o","  x","  o","  x","  o","  x","  o","  x","  o--","--o","B",null,{"$f":"ClashCount('Other league dates'!J$6:J$31,$A1398:$Z1398)","v":""},{"$f":"ClashCount('Other league dates'!K$6:K$31,$A1398:$Z1398)","v":""},{"$f":"ClashCount('Other league dates'!L$6:L$31,$A1398:$Z1398)","v":""}]
["  o","  x","  o","  x","  o","  x","  o","  x","  o","  x","  o--","--o","  x","  o","  x","  o","  x","  o","  x","  o","  x","  o","  x--","--x","  o","  x","C",null,{"$f":"ClashCount('Other league dates'!J$6:J$31,$A1399:$Z1399)","v":""},{"$f":"ClashCount('Other league dates'!K$6:K$31,$A1399:$Z1399)","v":""},{"$f":"ClashCount('Other league dates'!L$6:L$31,$A1399:$Z1399)","v":""}]
["  x","  o","  x","  o","  x","  o","  x","  o","  x","  o","  x--","--x","  o","  x","  o","  x","  o","  x","  o","  x","  o","  x","  o--","--o","  x","  o","D",null,{"$f":"ClashCount('Other league dates'!J$6:J$31,$A1400:$Z1400)","v":""},{"$f":"ClashCount('Other league dates'!K$6:K$31,$A1400:$Z1400)","v":""},{"$f":"ClashCount('Other league dates'!L$6:L$31,$A1400:$Z1400)","v":""}]
["  o","  x","  o","  x","  o","  x","  o","  x","  o--","--o","  x","  o","  x","  o","  x","  o","  x","  o","  x","  o","  x--","--x","  o","  x","  o","  x","E",null,{"$f":"ClashCount('Other league dates'!J$6:J$31,$A1401:$Z1401)","v":""},{"$f":"ClashCount('Other league dates'!K$6:K$31,$A1401:$Z1401)","v":""},{"$f":"ClashCount('Other league dates'!L$6:L$31,$A1401:$Z1401)","v":""}]
["  x","  o","  x","  o","  x","  o","  x","  o","  x--","--x","  o","  x","  o","  x","  o","  x","  o","  x","  o","  x","  o--","--o","  x","  o","  x","  o","F",null,{"$f":"ClashCount('Other league dates'!J$6:J$31,$A1402:$Z1402)","v":""},{"$f":"ClashCount('Other league dates'!K$6:K$31,$A1402:$Z1402)","v":""},{"$f":"ClashCount('Other league dates'!L$6:L$31,$A1402:$Z1402)","v":""}]
["  o","  x","  o","  x","  o","  x","  o--","--o","  x","  o","  x","  o","  x","  o","  x","  o","  x","  o","  x--","--x","  o","  x","  o","  x","  o","  x","G",null,{"$f":"ClashCount('Other league dates'!J$6:J$31,$A1403:$Z1403)","v":""},{"$f":"ClashCount('Other league dates'!K$6:K$31,$A1403:$Z1403)","v":""},{"$f":"ClashCount('Other league dates'!L$6:L$31,$A1403:$Z1403)","v":""}]
["  x","  o","  x","  o","  x","  o","  x--","--x","  o","  x","  o","  x","  o","  x","  o","  x","  o","  x","  o--","--o","  x","  o","  x","  o","  x","  o","H",null,{"$f":"ClashCount('Other league dates'!J$6:J$31,$A1404:$Z1404)","v":""},{"$f":"ClashCount('Other league dates'!K$6:K$31,$A1404:$Z1404)","v":""},{"$f":"ClashCount('Other league dates'!L$6:L$31,$A1404:$Z1404)","v":""}]
["  o","  x","  o","  x","  o--","--o","  x","  o","  x","  o","  x","  o","  x","  o","  x","  o","  x--","--x","  o","  x","  o","  x","  o","  x","  o","  x","I",null,{"$f":"ClashCount('Other league dates'!J$6:J$31,$A1405:$Z1405)","v":""},{"$f":"ClashCount('Other league dates'!K$6:K$31,$A1405:$Z1405)","v":""},{"$f":"ClashCount('Other league dates'!L$6:L$31,$A1405:$Z1405)","v":""}]
["  x","  o","  x","  o","  x--","--x","  o","  x","  o","  x","  o","  x","  o","  x","  o","  x","  o--","--o","  x","  o","  x","  o","  x","  o","  x","  o","J",null,{"$f":"ClashCount('Other league dates'!J$6:J$31,$A1406:$Z1406)","v":""},{"$f":"ClashCount('Other league dates'!K$6:K$31,$A1406:$Z1406)","v":""},{"$f":"ClashCount('Other league dates'!L$6:L$31,$A1406:$Z1406)","v":""}]
["  o","  x","  o--","--o","  x","  o","  x","  o","  x","  o","  x","  o","  x","  o","  x--","--x","  o","  x","  o","  x","  o","  x","  o","  x","  o","  x","K",null,{"$f":"ClashCount('Other league dates'!J$6:J$31,$A1407:$Z1407)","v":""},{"$f":"ClashCount('Other league dates'!K$6:K$31,$A1407:$Z1407)","v":""},{"$f":"ClashCount('Other league dates'!L$6:L$31,$A1407:$Z1407)","v":""}]
["  x","  o","  x--","--x","  o","  x","  o","  x","  o","  x","  o","  x","  o","  x","  o--","--o","  x","  o","  x","  o","  x","  o","  x","  o","  x","  o","L",null,{"$f":"ClashCount('Other league dates'!J$6:J$31,$A1408:$Z1408)","v":""},{"$f":"ClashCount('Other league dates'!K$6:K$31,$A1408:$Z1408)","v":""},{"$f":"ClashCount('Other league dates'!L$6:L$31,$A1408:$Z1408)","v":""}]
["  o--","--o","  x","  o","  x","  o","  x","  o","  x","  o","  x","  o","  x--","--x","  o","  x","  o","  x","  o","  x","  o","  x","  o","  x","  o","  x","M",null,{"$f":"ClashCount('Other league dates'!J$6:J$31,$A1409:$Z1409)","v":""},{"$f":"ClashCount('Other league dates'!K$6:K$31,$A1409:$Z1409)","v":""},{"$f":"ClashCount('Other league dates'!L$6:L$31,$A1409:$Z1409)","v":""}]
["  x--","--x","  o","  x","  o","  x","  o","  x","  o","  x","  o","  x","  o--","--o","  x","  o","  x","  o","  x","  o","  x","  o","  x","  o","  x","  o","N",null,{"$f":"ClashCount('Other league dates'!J$6:J$31,$A1410:$Z1410)","v":""},{"$f":"ClashCount('Other league dates'!K$6:K$31,$A1410:$Z1410)","v":""},{"$f":"ClashCount('Other league dates'!L$6:L$31,$A1410:$Z1410)","v":""}]
[]
[]
[]
["14rraa"]
[]
["AL","BK","AJ","BI","AH","BG","AF","BE","AD","BC","AB","BA","AK","BN","AI","BL","AG","BJ","AE","BH","AC","BF","AM","BD","BM","AN"]
["CJ","DI","CH","DG","CF","DE","CD","DC","CB","DA","CK","DN","CI","DL","CG","DJ","CE","DH","CM","DF","DM","CA","DB","CN","DK","CL"]
["EH","FG","EF","FE","ED","FC","EB","FA","EK","FN","EI","FL","EG","FJ","EM","FH","FM","EC","FD","EA","FB","EN","FK","EL","FI","EJ"]
["GF","HE","GD","HC","GB","HA","GK","HN","GI","HL","GM","HJ","HM","GE","HF","GC","HD","GA","HB","GN","HK","GL","HI","GJ","HG","GH"]
["ID","JC","IB","JA","IK","JN","IM","JL","JM","IG","JH","IE","JF","IC","JD","IA","JB","IN","JK","IL","JI","IJ","JG","IH","JE","IF"]
["KB","LA","KM","LN","LM","KI","LJ","KG","LH","KE","LF","KC","LD","KA","LB","KN","LK","KL","LI","KJ","LG","KH","LE","KF","LC","KD"]
["NM","MN","NL","MK","NJ","ML","NH","MI","NF","MJ","ND","MG","NB","MH","NK","ME","NI","MF","NG","MC","NE","MD","NC","MA","NA","MB"]
[1,2,3,4,5,6,7,8,9,10,11,12,13,14,15,16,17,18,19,20,21,22,23,24,25,26]
["RFx",1,null,3,null,5,null,7,null,9,null,11,null,13,null,15,null,17,null,19,null,21,null,23,null,25]
["  o","  x","  o","  x","  o","  x","  o","  x","  o","  x","  o","  x","  o","  x","  o","  x","  o","  x","  o","  x","  o","  x","  o","  x--","--x","  o","A",null,{"$f":"ClashCount('Other league dates'!J$6:J$31,$A1425:$Z1425)","v":""},{"$f":"ClashCount('Other league dates'!K$6:K$31,$A1425:$Z1425)","v":""},{"$f":"ClashCount('Other league dates'!L$6:L$31,$A1425:$Z1425)","v":""}]
["  x","  o","  x","  o","  x","  o","  x","  o","  x","  o","  x","  o","  x","  o","  x","  o","  x","  o","  x","  o","  x","  o","  x","  o--","--o","  x","B",null,{"$f":"ClashCount('Other league dates'!J$6:J$31,$A1426:$Z1426)","v":""},{"$f":"ClashCount('Other league dates'!K$6:K$31,$A1426:$Z1426)","v":""},{"$f":"ClashCount('Other league dates'!L$6:L$31,$A1426:$Z1426)","v":""}]
["  o","  x","  o","  x","  o","  x","  o","  x","  o","  x","  o","  x","  o","  x","  o","  x","  o","  x","  o","  x--","--x","  o","  x","  o","  x","  o","C",null,{"$f":"ClashCount('Other league dates'!J$6:J$31,$A1427:$Z1427)","v":""},{"$f":"ClashCount('Other league dates'!K$6:K$31,$A1427:$Z1427)","v":""},{"$f":"ClashCount('Other league dates'!L$6:L$31,$A1427:$Z1427)","v":""}]
["  x","  o","  x","  o","  x","  o","  x","  o","  x","  o","  x","  o","  x","  o","  x","  o","  x","  o","  x","  o--","--o","  x","  o","  x","  o","  x","D",null,{"$f":"ClashCount('Other league dates'!J$6:J$31,$A1428:$Z1428)","v":""},{"$f":"ClashCount('Other league dates'!K$6:K$31,$A1428:$Z1428)","v":""},{"$f":"ClashCount('Other league dates'!L$6:L$31,$A1428:$Z1428)","v":""}]
["  o","  x","  o","  x","  o","  x","  o","  x","  o","  x","  o","  x","  o","  x","  o","  x--","--x","  o","  x","  o","  x","  o","  x","  o","  x","  o","E",null,{"$f":"ClashCount('Other league dates'!J$6:J$31,$A1429:$Z1429)","v":""},{"$f":"ClashCount('Other league dates'!K$6:K$31,$A1429:$Z1429)","v":""},{"$f":"ClashCount('Other league dates'!L$6:L$31,$A1429:$Z1429)","v":""}]
["  x","  o","  x","  o","  x","  o","  x","  o","  x","  o","  x","  o","  x","  o","  x","  o--","--o","  x","  o","  x","  o","  x","  o","  x","  o","  x","F",null,{"$f":"ClashCount('Other league dates'!J$6:J$31,$A1430:$Z1430)","v":""},{"$f":"ClashCount('Other league dates'!K$6:K$31,$A1430:$Z1430)","v":""},{"$f":"ClashCount('Other league dates'!L$6:L$31,$A1430:$Z1430)","v":""}]
["  o","  x","  o","  x","  o","  x","  o","  x","  o","  x","  o","  x--","--x","  o","  x","  o","  x","  o","  x","  o","  x","  o","  x","  o","  x","  o","G",null,{"$f":"ClashCount('Other league dates'!J$6:J$31,$A1431:$Z1431)","v":""},{"$f":"ClashCount('Other league dates'!K$6:K$31,$A1431:$Z1431)","v":""},{"$f":"ClashCount('Other league dates'!L$6:L$31,$A1431:$Z1431)","v":""}]
["  x","  o","  x","  o","  x","  o","  x","  o","  x","  o","  x","  o--","--o","  x","  o","  x","  o","  x","  o","  x","  o","  x","  o","  x","  o","  x","H",null,{"$f":"ClashCount('Other league dates'!J$6:J$31,$A1432:$Z1432)","v":""},{"$f":"ClashCount('Other league dates'!K$6:K$31,$A1432:$Z1432)","v":""},{"$f":"ClashCount('Other league dates'!L$6:L$31,$A1432:$Z1432)","v":""}]
["  o","  x","  o","  x","  o","  x","  o","  x--","--x","  o","  x","  o","  x","  o","  x","  o","  x","  o","  x","  o","  x","  o","  x","  o","  x","  o","I",null,{"$f":"ClashCount('Other league dates'!J$6:J$31,$A1433:$Z1433)","v":""},{"$f":"ClashCount('Other league dates'!K$6:K$31,$A1433:$Z1433)","v":""},{"$f":"ClashCount('Other league dates'!L$6:L$31,$A1433:$Z1433)","v":""}]
["  x","  o","  x","  o","  x","  o","  x","  o--","--o","  x","  o","  x","  o","  x","  o","  x","  o","  x","  o","  x","  o","  x","  o","  x","  o","  x","J",null,{"$f":"ClashCount('Other league dates'!J$6:J$31,$A1434:$Z1434)","v":""},{"$f":"ClashCount('Other league dates'!K$6:K$31,$A1434:$Z1434)","v":""},{"$f":"ClashCount('Other league dates'!L$6:L$31,$A1434:$Z1434)","v":""}]
["  o","  x","  o","  x--","--x","  o","  x","  o","  x","  o","  x","  o","  x","  o","  x","  o","  x","  o","  x","  o","  x","  o","  x","  o","  x","  o","K",null,{"$f":"ClashCount('Other league dates'!J$6:J$31,$A1435:$Z1435)","v":""},{"$f":"ClashCount('Other league dates'!K$6:K$31,$A1435:$Z1435)","v":""},{"$f":"ClashCount('Other league dates'!L$6:L$31,$A1435:$Z1435)","v":""}]
["  x","  o","  x","  o--","--o","  x","  o","  x","  o","  x","  o","  x","  o","  x","  o","  x","  o","  x","  o","  x","  o","  x","  o","  x","  o","  x","L",null,{"$f":"ClashCount('Other league dates'!J$6:J$31,$A1436:$Z1436)","v":""},{"$f":"ClashCount('Other league dates'!K$6:K$31,$A1436:$Z1436)","v":""},{"$f":"ClashCount('Other league dates'!L$6:L$31,$A1436:$Z1436)","v":""}]
["  x","  o","  x","  o","  x","  o","  x","  o","  x","  o","  x","  o","  x","  o","  x","  o","  x","  o","  x","  o","  x","  o","  x","  o","  x","  o","M",null,{"$f":"ClashCount('Other league dates'!J$6:J$31,$A1437:$Z1437)","v":""},{"$f":"ClashCount('Other league dates'!K$6:K$31,$A1437:$Z1437)","v":""},{"$f":"ClashCount('Other league dates'!L$6:L$31,$A1437:$Z1437)","v":""}]
["  o","  x","  o","  x","  o","  x","  o","  x","  o","  x","  o","  x","  o","  x","  o","  x","  o","  x","  o","  x","  o","  x","  o","  x","  o","  x","N",null,{"$f":"ClashCount('Other league dates'!J$6:J$31,$A1438:$Z1438)","v":""},{"$f":"ClashCount('Other league dates'!K$6:K$31,$A1438:$Z1438)","v":""},{"$f":"ClashCount('Other league dates'!L$6:L$31,$A1438:$Z1438)","v":""}]
[]
[]
[]
["14Berger"]
[]
["MB","BN","KB","BL","IB","BJ","GB","BH","EB","BF","CB","BD","AB","BA","DB","BC","FB","BE","HB","BG","JB","BI","LB","BK","NB","BM"]
["KD","LA","IM","JN","GK","HL","EI","FJ","CG","DH","AE","MF","NC","CN","FM","EA","HD","GC","JF","IE","LH","KG","NJ","MI","AL","DK"]
["IF","JC","GD","HA","EM","FN","CK","DL","AI","MJ","NG","KH","LE","EL","HK","GN","JM","IA","LD","KC","NF","ME","AH","DG","CJ","FI"]
["GH","HE","EF","FC","CD","DA","AM","MN","NK","KL","LI","IJ","JG","GJ","JI","IL","LK","KN","NM","MA","AD","DC","CF","FE","EH","HG"]
["EJ","FG","CH","DE","AF","MC","ND","KA","LM","IN","JK","GL","HI","IH","LG","KJ","NI","ML","AK","DN","CM","FA","ED","HC","GF","JE"]
["CL","DI","AJ","MG","NH","KE","LF","IC","JD","GA","HM","EN","FK","KF","NE","MH","AG","DJ","CI","FL","EK","HN","GM","JA","ID","LC"]
["AN","MK","NL","KI","LJ","IG","JH","GE","HF","EC","FD","CA","DM","MD","AC","DF","CE","FH","EG","HJ","GI","JL","IK","LN","KM","NA"]
[1,2,3,4,5,6,7,8,9,10,11,12,13,14,15,16,17,18,19,20,21,22,23,24,25,26]
["RFx",null,null,null,null,null,null,null,null,null,null,null,null,13,12,11,10,9,8,7,6,5,4,3,2,1]
["  o","  x","  o","  x","  o","  x","  o","  x","  o","  x","  o","  x","  o","  x","  o","  x","  o","  x","  o","  x","  o","  x","  o","  x","  o","  x","A",null,{"$f":"ClashCount('Other league dates'!J$6:J$31,$A1453:$Z1453)","v":""},{"$f":"ClashCount('Other league dates'!K$6:K$31,$A1453:$Z1453)","v":""},{"$f":"ClashCount('Other league dates'!L$6:L$31,$A1453:$Z1453)","v":""}]
["  x","  o","  x","  o","  x","  o","  x","  o","  x","  o","  x","  o","  x","  o","  x","  o","  x","  o","  x","  o","  x","  o","  x","  o","  x","  o","B",null,{"$f":"ClashCount('Other league dates'!J$6:J$31,$A1454:$Z1454)","v":""},{"$f":"ClashCount('Other league dates'!K$6:K$31,$A1454:$Z1454)","v":""},{"$f":"ClashCount('Other league dates'!L$6:L$31,$A1454:$Z1454)","v":""}]
["  o","  x","  o","  x","  o","  x","  o","  x","  o","  x","  o--","--o","  x","  o","  x--","--x","  o","  x","  o","  x","  o","  x","  o","  x","  o","  x","C",null,{"$f":"ClashCount('Other league dates'!J$6:J$31,$A1455:$Z1455)","v":""},{"$f":"ClashCount('Other league dates'!K$6:K$31,$A1455:$Z1455)","v":""},{"$f":"ClashCount('Other league dates'!L$6:L$31,$A1455:$Z1455)","v":""}]
["  x","  o","  x","  o","  x","  o","  x","  o","  x","  o","  x--","--x","  o","  x","  o--","--o","  x","  o","  x","  o","  x","  o","  x","  o","  x","  o","D",null,{"$f":"ClashCount('Other league dates'!J$6:J$31,$A1456:$Z1456)","v":""},{"$f":"ClashCount('Other league dates'!K$6:K$31,$A1456:$Z1456)","v":""},{"$f":"ClashCount('Other league dates'!L$6:L$31,$A1456:$Z1456)","v":""}]
["  o","  x","  o","  x","  o","  x","  o","  x","  o--","--o","  x","  o","  x","  o","  x","  o","  x--","--x","  o","  x","  o","  x","  o","  x","  o","  x","E",null,{"$f":"ClashCount('Other league dates'!J$6:J$31,$A1457:$Z1457)","v":""},{"$f":"ClashCount('Other league dates'!K$6:K$31,$A1457:$Z1457)","v":""},{"$f":"ClashCount('Other league dates'!L$6:L$31,$A1457:$Z1457)","v":""}]
["  x","  o","  x","  o","  x","  o","  x","  o","  x--","--x","  o","  x","  o","  x","  o","  x","  o--","--o","  x","  o","  x","  o","  x","  o","  x","  o","F",null,{"$f":"ClashCount('Other league dates'!J$6:J$31,$A1458:$Z1458)","v":""},{"$f":"ClashCount('Other league dates'!K$6:K$31,$A1458:$Z1458)","v":""},{"$f":"ClashCount('Other league dates'!L$6:L$31,$A1458:$Z1458)","v":""}]
["  o","  x","  o","  x","  o","  x","  o--","--o","  x","  o","  x","  o","  x","  o","  x","  o","  x","  o","  x--","--x","  o","  x","  o","  x","  o","  x","G",null,{"$f":"ClashCount('Other league dates'!J$6:J$31,$A1459:$Z1459)","v":""},{"$f":"ClashCount('Other league dates'!K$6:K$31,$A1459:$Z1459)","v":""},{"$f":"ClashCount('Other league dates'!L$6:L$31,$A1459:$Z1459)","v":""}]
["  x","  o","  x","  o","  x","  o","  x--","--x","  o","  x","  o","  x","  o","  x","  o","  x","  o","  x","  o--","--o","  x","  o","  x","  o","  x","  o","H",null,{"$f":"ClashCount('Other league dates'!J$6:J$31,$A1460:$Z1460)","v":""},{"$f":"ClashCount('Other league dates'!K$6:K$31,$A1460:$Z1460)","v":""},{"$f":"ClashCount('Other league dates'!L$6:L$31,$A1460:$Z1460)","v":""}]
["  o","  x","  o","  x","  o--","--o","  x","  o","  x","  o","  x","  o","  x","  o","  x","  o","  x","  o","  x","  o","  x--","--x","  o","  x","  o","  x","I",null,{"$f":"ClashCount('Other league dates'!J$6:J$31,$A1461:$Z1461)","v":""},{"$f":"ClashCount('Other league dates'!K$6:K$31,$A1461:$Z1461)","v":""},{"$f":"ClashCount('Other league dates'!L$6:L$31,$A1461:$Z1461)","v":""}]
["  x","  o","  x","  o","  x--","--x","  o","  x","  o","  x","  o","  x","  o","  x","  o","  x","  o","  x","  o","  x","  o--","--o","  x","  o","  x","  o","J",null,{"$f":"ClashCount('Other league dates'!J$6:J$31,$A1462:$Z1462)","v":""},{"$f":"ClashCount('Other league dates'!K$6:K$31,$A1462:$Z1462)","v":""},{"$f":"ClashCount('Other league dates'!L$6:L$31,$A1462:$Z1462)","v":""}]
["  o","  x","  o--","--o","  x","  o","  x","  o","  x","  o","  x","  o","  x","  o","  x","  o","  x","  o","  x","  o","  x","  o","  x--","--x","  o","  x","K",null,{"$f":"ClashCount('Other league dates'!J$6:J$31,$A1463:$Z1463)","v":""},{"$f":"ClashCount('Other league dates'!K$6:K$31,$A1463:$Z1463)","v":""},{"$f":"ClashCount('Other league dates'!L$6:L$31,$A1463:$Z1463)","v":""}]
["  x","  o","  x--","--x","  o","  x","  o","  x","  o","  x","  o","  x","  o","  x","  o","  x","  o","  x","  o","  x","  o","  x","  o--","--o","  x","  o","L",null,{"$f":"ClashCount('Other league dates'!J$6:J$31,$A1464:$Z1464)","v":""},{"$f":"ClashCount('Other league dates'!K$6:K$31,$A1464:$Z1464)","v":""},{"$f":"ClashCount('Other league dates'!L$6:L$31,$A1464:$Z1464)","v":""}]
["  o--","--o","  x","  o","  x","  o","  x","  o","  x","  o","  x","  o","  x","  o","  x","  o","  x","  o","  x","  o","  x","  o","  x","  o","  x--","--x","M",null,{"$f":"ClashCount('Other league dates'!J$6:J$31,$A1465:$Z1465)","v":""},{"$f":"ClashCount('Other league dates'!K$6:K$31,$A1465:$Z1465)","v":""},{"$f":"ClashCount('Other league dates'!L$6:L$31,$A1465:$Z1465)","v":""}]
["  x--","--x","  o","  x","  o","  x","  o","  x","  o","  x","  o","  x","  o","  x","  o","  x","  o","  x","  o","  x","  o","  x","  o","  x","  o--","--o","N",null,{"$f":"ClashCount('Other league dates'!J$6:J$31,$A1466:$Z1466)","v":""},{"$f":"ClashCount('Other league dates'!K$6:K$31,$A1466:$Z1466)","v":""},{"$f":"ClashCount('Other league dates'!L$6:L$31,$A1466:$Z1466)","v":""}]
[]
["Fit:","04Berger",null,"06Berger",null,"08Berger",null,"10Berger",null,"12Berger",null,"16Berger",null,"18Berger"]
[]
["16AltLV"]
[]
["AP","PC","EP","PG","IP","PK","MP","PO","BP","PD","FP","PH","JP","PL","NP","PN","PA","CP","PE","GP","PI","KP","PM","OP","PB","DP","PF","HP","PJ","LP"]
["CL","NA","CA","AE","GA","AI","KA","AM","OA","AB","DA","AF","HA","AJ","LA","AL","LC","AN","AC","EA","AG","IA","AK","MA","AO","BA","AD","FA","AH","JA"]
["EJ","LE","GL","NC","EC","CG","IC","CK","MC","CO","BC","CD","FC","CH","JC","CJ","JE","EL","LG","CN","CE","GC","CI","KC","CM","OC","CB","DC","CF","HC"]
["GH","JG","IJ","LI","KL","NE","GE","EI","KE","EM","OE","EB","DE","EF","HE","EH","HG","GJ","JI","IL","LK","EN","EG","IE","EK","ME","EO","BE","ED","FE"]
["IF","HI","KH","JK","MJ","LM","OL","NG","IG","GK","MG","GO","BG","GD","FG","GF","FI","IH","HK","KJ","JM","ML","LO","GN","GI","KG","GM","OG","GB","DG"]
["KD","FK","MF","HM","OH","JO","BJ","LB","DL","NI","KI","IM","OI","IB","DI","ID","DK","KF","FM","MH","HO","OJ","JB","BL","LD","IN","IK","MI","IO","BI"]
["MB","DM","OD","FO","BF","HB","DH","JD","FJ","LF","HL","NK","MK","KO","BK","KB","BM","MD","DO","OF","FB","BH","HD","DJ","JF","FL","LH","KN","KM","OK"]
["ON","BO","BN","DB","DN","FD","FN","HF","HN","JH","JN","LJ","LN","NM","OM","MO","NO","OB","NB","BD","ND","DF","NF","FH","NH","HJ","NJ","JL","NL","MN"]
[1,2,3,4,5,6,7,8,9,10,11,12,13,14,15,16,17,18,19,20,21,22,23,24,25,26,27,28,29,30]
["RFx",null,null,null,null,null,null,null,null,null,null,null,null,null,null,15,1,2,3,4,5,6,7,8,9,10,11,12,13,14]
["  o","  x--","--x","  o","  x","  o","  x","  o","  x","  o","  x","  o","  x","  o","  x","  o","  x","  o--","--o","  x","  o","  x","  o","  x","  o","  x","  o","  x","  o","  x","A",null,{"$f":"ClashCount('Other league dates'!J$4:J$33,$A1482:$AD1482)","v":""},{"$f":"ClashCount('Other league dates'!K$4:K$33,$A1482:$AD1482)","v":""},{"$f":"ClashCount('Other league dates'!L$4:L$33,$A1482:$AD1482)","v":""}]
["  x","  o--","--o","  x","  o","  x","  o","  x","  o","  x","  o","  x","  o","  x","  o","  x","  o","  x--","--x","  o","  x","  o","  x","  o","  x","  o","  x","  o","  x","  o","B",null,{"$f":"ClashCount('Other league dates'!J$4:J$33,$A1483:$AD1483)","v":""},{"$f":"ClashCount('Other league dates'!K$4:K$33,$A1483:$AD1483)","v":""},{"$f":"ClashCount('Other league dates'!L$4:L$33,$A1483:$AD1483)","v":""}]
["  o","  x","  o","  x--","--x","  o","  x","  o","  x","  o","  x","  o","  x","  o","  x","  o","  x","  o","  x","  o--","--o","  x","  o","  x","  o","  x","  o","  x","  o","  x","C",null,{"$f":"ClashCount('Other league dates'!J$4:J$33,$A1484:$AD1484)","v":""},{"$f":"ClashCount('Other league dates'!K$4:K$33,$A1484:$AD1484)","v":""},{"$f":"ClashCount('Other league dates'!L$4:L$33,$A1484:$AD1484)","v":""}]
["  x","  o","  x","  o--","--o","  x","  o","  x","  o","  x","  o","  x","  o","  x","  o","  x","  o","  x","  o","  x--","--x","  o","  x","  o","  x","  o","  x","  o","  x","  o","D",null,{"$f":"ClashCount('Other league dates'!J$4:J$33,$A1485:$AD1485)","v":""},{"$f":"ClashCount('Other league dates'!K$4:K$33,$A1485:$AD1485)","v":""},{"$f":"ClashCount('Other league dates'!L$4:L$33,$A1485:$AD1485)","v":""}]
["  o","  x","  o","  x","  o","  x--","--x","  o","  x","  o","  x","  o","  x","  o","  x","  o","  x","  o","  x","  o","  x","  o--","--o","  x","  o","  x","  o","  x","  o","  x","E",null,{"$f":"ClashCount('Other league dates'!J$4:J$33,$A1486:$AD1486)","v":""},{"$f":"ClashCount('Other league dates'!K$4:K$33,$A1486:$AD1486)","v":""},{"$f":"ClashCount('Other league dates'!L$4:L$33,$A1486:$AD1486)","v":""}]
["  x","  o","  x","  o","  x","  o--","--o","  x","  o","  x","  o","  x","  o","  x","  o","  x","  o","  x","  o","  x","  o","  x--","--x","  o","  x","  o","  x","  o","  x","  o","F",null,{"$f":"ClashCount('Other league dates'!J$4:J$33,$A1487:$AD1487)","v":""},{"$f":"ClashCount('Other league dates'!K$4:K$33,$A1487:$AD1487)","v":""},{"$f":"ClashCount('Other league dates'!L$4:L$33,$A1487:$AD1487)","v":""}]
["  o","  x","  o","  x","  o","  x","  o","  x--","--x","  o","  x","  o","  x","  o","  x","  o","  x","  o","  x","  o","  x","  o","  x","  o--","--o","  x","  o","  x","  o","  x","G",null,{"$f":"ClashCount('Other league dates'!J$4:J$33,$A1488:$AD1488)","v":""},{"$f":"ClashCount('Other league dates'!K$4:K$33,$A1488:$AD1488)","v":""},{"$f":"ClashCount('Other league dates'!L$4:L$33,$A1488:$AD1488)","v":""}]
["  x","  o","  x","  o","  x","  o","  x","  o--","--o","  x","  o","  x","  o","  x","  o","  x","  o","  x","  o","  x","  o","  x","  o","  x--","--x","  o","  x","  o","  x","  o","H",null,{"$f":"ClashCount('Other league dates'!J$4:J$33,$A1489:$AD1489)","v":""},{"$f":"ClashCount('Other league dates'!K$4:K$33,$A1489:$AD1489)","v":""},{"$f":"ClashCount('Other league dates'!L$4:L$33,$A1489:$AD1489)","v":""}]
["  o","  x","  o","  x","  o","  x","  o","  x","  o","  x--","--x","  o","  x","  o","  x","  o","  x","  o","  x","  o","  x","  o","  x","  o","  x","  o--","--o","  x","  o","  x","I",null,{"$f":"ClashCount('Other league dates'!J$4:J$33,$A1490:$AD1490)","v":""},{"$f":"ClashCount('Other league dates'!K$4:K$33,$A1490:$AD1490)","v":""},{"$f":"ClashCount('Other league dates'!L$4:L$33,$A1490:$AD1490)","v":""}]
["  x","  o","  x","  o","  x","  o","  x","  o","  x","  o--","--o","  x","  o","  x","  o","  x","  o","  x","  o","  x","  o","  x","  o","  x","  o","  x--","--x","  o","  x","  o","J",null,{"$f":"ClashCount('Other league dates'!J$4:J$33,$A1491:$AD1491)","v":""},{"$f":"ClashCount('Other league dates'!K$4:K$33,$A1491:$AD1491)","v":""},{"$f":"ClashCount('Other league dates'!L$4:L$33,$A1491:$AD1491)","v":""}]
["  o","  x","  o","  x","  o","  x","  o","  x","  o","  x","  o","  x--","--x","  o","  x","  o","  x","  o","  x","  o","  x","  o","  x","  o","  x","  o","  x","  o--","--o","  x","K",null,{"$f":"ClashCount('Other league dates'!J$4:J$33,$A1492:$AD1492)","v":""},{"$f":"ClashCount('Other league dates'!K$4:K$33,$A1492:$AD1492)","v":""},{"$f":"ClashCount('Other league dates'!L$4:L$33,$A1492:$AD1492)","v":""}]
["  x","  o","  x","  o","  x","  o","  x","  o","  x","  o","  x","  o--","--o","  x","  o","  x","  o","  x","  o","  x","  o","  x","  o","  x","  o","  x","  o","  x--","--x","  o","L",null,{"$f":"ClashCount('Other league dates'!J$4:J$33,$A1493:$AD1493)","v":""},{"$f":"ClashCount('Other league dates'!K$4:K$33,$A1493:$AD1493)","v":""},{"$f":"ClashCount('Other league dates'!L$4:L$33,$A1493:$AD1493)","v":""}]
["  o","  x","  o","  x","  o","  x","  o","  x","  o","  x","  o","  x","  o","  x--","--x","  o","  x","  o","  x","  o","  x","  o","  x","  o","  x","  o","  x","  o","  x","  o","M",null,{"$f":"ClashCount('Other league dates'!J$4:J$33,$A1494:$AD1494)","v":""},{"$f":"ClashCount('Other league dates'!K$4:K$33,$A1494:$AD1494)","v":""},{"$f":"ClashCount('Other league dates'!L$4:L$33,$A1494:$AD1494)","v":""}]
["  x","  o","  x","  o","  x","  o","  x","  o","  x","  o","  x","  o","  x","  o--","--o","  x","  o","  x","  o","  x","  o","  x","  o","  x","  o","  x","  o","  x","  o","  x","N",null,{"$f":"ClashCount('Other league dates'!J$4:J$33,$A1495:$AD1495)","v":""},{"$f":"ClashCount('Other league dates'!K$4:K$33,$A1495:$AD1495)","v":""},{"$f":"ClashCount('Other league dates'!L$4:L$33,$A1495:$AD1495)","v":""}]
["  o","  x","  o","  x","  o","  x","  o","  x","  o","  x","  o","  x","  o","  x","  o","  x--","--x","  o","  x","  o","  x","  o","  x","  o","  x","  o","  x","  o","  x","  o","O",null,{"$f":"ClashCount('Other league dates'!J$4:J$33,$A1496:$AD1496)","v":""},{"$f":"ClashCount('Other league dates'!K$4:K$33,$A1496:$AD1496)","v":""},{"$f":"ClashCount('Other league dates'!L$4:L$33,$A1496:$AD1496)","v":""}]
["  x","  o","  x","  o","  x","  o","  x","  o","  x","  o","  x","  o","  x","  o","  x","  o--","--o","  x","  o","  x","  o","  x","  o","  x","  o","  x","  o","  x","  o","  x","P",null,{"$f":"ClashCount('Other league dates'!J$4:J$33,$A1497:$AD1497)","v":""},{"$f":"ClashCount('Other league dates'!K$4:K$33,$A1497:$AD1497)","v":""},{"$f":"ClashCount('Other league dates'!L$4:L$33,$A1497:$AD1497)","v":""}]
[]
["Fit:"]
[]
["16Berger"]
[]
["OB","BP","MB","BN","KB","BL","IB","BJ","GB","BH","EB","BF","CB","BD","AB","BA","DB","BC","FB","BE","HB","BG","JB","BI","LB","BK","NB","BM","PB","BO"]
["MD","NA","KO","LP","IM","JN","GK","HL","EI","FJ","CG","DH","AE","OF","PC","CP","FO","EA","HD","GC","JF","IE","LH","KG","NJ","MI","PL","OK","AN","DM"]
["KF","LC","ID","JA","GO","HP","EM","FN","CK","DL","AI","OJ","PG","MH","NE","EN","HM","GP","JO","IA","LD","KC","NF","ME","PH","OG","AJ","DI","CL","FK"]
["IH","JE","GF","HC","ED","FA","CO","DP","AM","ON","PK","ML","NI","KJ","LG","GL","JK","IN","LM","KP","NO","MA","PD","OC","AF","DE","CH","FG","EJ","HI"]
["GJ","HG","EH","FE","CF","DC","AD","OA","PO","MP","NM","KN","LK","IL","JI","IJ","LI","KL","NK","MN","PM","OP","AO","DA","CD","FC","EF","HE","GH","JG"]
["EL","FI","CJ","DG","AH","OE","PF","MC","ND","KA","LO","IP","JM","GN","HK","KH","NG","MJ","PI","OL","AK","DN","CM","FP","EO","HA","GD","JC","IF","LE"]
["CN","DK","AL","OI","PJ","MG","NH","KE","LF","IC","JD","GA","HO","EP","FM","MF","PE","OH","AG","DJ","CI","FL","EK","HN","GM","JP","IO","LA","KD","NC"]
["AP","OM","PN","MK","NL","KI","LJ","IG","JH","GE","HF","EC","FD","CA","DO","OD","AC","DF","CE","FH","EG","HJ","GI","JL","IK","LN","KM","NP","MO","PA"]
[1,2,3,4,5,6,7,8,9,10,11,12,13,14,15,16,17,18,19,20,21,22,23,24,25,26,27,28,29,30]
["RFx",null,null,null,null,null,null,null,null,null,null,null,null,null,null,15,14,13,12,11,10,9,8,7,6,5,4,3,2,1]
["  o","  x","  o","  x","  o","  x","  o","  x","  o","  x","  o","  x","  o","  x","  o","  x","  o","  x","  o","  x","  o","  x","  o","  x","  o","  x","  o","  x","  o","  x","A",null,{"$f":"ClashCount('Other league dates'!J$4:J$33,$A1513:$AD1513)","v":""},{"$f":"ClashCount('Other league dates'!K$4:K$33,$A1513:$AD1513)","v":""},{"$f":"ClashCount('Other league dates'!L$4:L$33,$A1513:$AD1513)","v":""}]
["  x","  o","  x","  o","  x","  o","  x","  o","  x","  o","  x","  o","  x","  o","  x","  o","  x","  o","  x","  o","  x","  o","  x","  o","  x","  o","  x","  o","  x","  o","B",null,{"$f":"ClashCount('Other league dates'!J$4:J$33,$A1514:$AD1514)","v":""},{"$f":"ClashCount('Other league dates'!K$4:K$33,$A1514:$AD1514)","v":""},{"$f":"ClashCount('Other league dates'!L$4:L$33,$A1514:$AD1514)","v":""}]
["  o","  x","  o","  x","  o","  x","  o","  x","  o","  x","  o","  x","  o--","--o","  x","  o","  x--","--x","  o","  x","  o","  x","  o","  x","  o","  x","  o","  x","  o","  x","C",null,{"$f":"ClashCount('Other league dates'!J$4:J$33,$A1515:$AD1515)","v":""},{"$f":"ClashCount('Other league dates'!K$4:K$33,$A1515:$AD1515)","v":""},{"$f":"ClashCount('Other league dates'!L$4:L$33,$A1515:$AD1515)","v":""}]
["  x","  o","  x","  o","  x","  o","  x","  o","  x","  o","  x","  o","  x--","--x","  o","  x","  o--","--o","  x","  o","  x","  o","  x","  o","  x","  o","  x","  o","  x","  o","D",null,{"$f":"ClashCount('Other league dates'!J$4:J$33,$A1516:$AD1516)","v":""},{"$f":"ClashCount('Other league dates'!K$4:K$33,$A1516:$AD1516)","v":""},{"$f":"ClashCount('Other league dates'!L$4:L$33,$A1516:$AD1516)","v":""}]
["  o","  x","  o","  x","  o","  x","  o","  x","  o","  x","  o--","--o","  x","  o","  x","  o","  x","  o","  x--","--x","  o","  x","  o","  x","  o","  x","  o","  x","  o","  x","E",null,{"$f":"ClashCount('Other league dates'!J$4:J$33,$A1517:$AD1517)","v":""},{"$f":"ClashCount('Other league dates'!K$4:K$33,$A1517:$AD1517)","v":""},{"$f":"ClashCount('Other league dates'!L$4:L$33,$A1517:$AD1517)","v":""}]
["  x","  o","  x","  o","  x","  o","  x","  o","  x","  o","  x--","--x","  o","  x","  o","  x","  o","  x","  o--","--o","  x","  o","  x","  o","  x","  o","  x","  o","  x","  o","F",null,{"$f":"ClashCount('Other league dates'!J$4:J$33,$A1518:$AD1518)","v":""},{"$f":"ClashCount('Other league dates'!K$4:K$33,$A1518:$AD1518)","v":""},{"$f":"ClashCount('Other league dates'!L$4:L$33,$A1518:$AD1518)","v":""}]
["  o","  x","  o","  x","  o","  x","  o","  x","  o--","--o","  x","  o","  x","  o","  x","  o","  x","  o","  x","  o","  x--","--x","  o","  x","  o","  x","  o","  x","  o","  x","G",null,{"$f":"ClashCount('Other league dates'!J$4:J$33,$A1519:$AD1519)","v":""},{"$f":"ClashCount('Other league dates'!K$4:K$33,$A1519:$AD1519)","v":""},{"$f":"ClashCount('Other league dates'!L$4:L$33,$A1519:$AD1519)","v":""}]
["  x","  o","  x","  o","  x","  o","  x","  o","  x--","--x","  o","  x","  o","  x","  o","  x","  o","  x","  o","  x","  o--","--o","  x","  o","  x","  o","  x","  o","  x","  o","H",null,{"$f":"ClashCount('Other league dates'!J$4:J$33,$A1520:$AD1520)","v":""},{"$f":"ClashCount('Other league dates'!K$4:K$33,$A1520:$AD1520)","v":""},{"$f":"ClashCount('Other league dates'!L$4:L$33,$A1520:$AD1520)","v":""}]
["  o","  x","  o","  x","  o","  x","  o--","--o","  x","  o","  x","  o","  x","  o","  x","  o","  x","  o","  x","  o","  x","  o","  x--","--x","  o","  x","  o","  x","  o","  x","I",null,{"$f":"ClashCount('Other league dates'!J$4:J$33,$A1521:$AD1521)","v":""},{"$f":"ClashCount('Other league dates'!K$4:K$33,$A1521:$AD1521)","v":""},{"$f":"ClashCount('Other league dates'!L$4:L$33,$A1521:$AD1521)","v":""}]
["  x","  o","  x","  o","  x","  o","  x--","--x","  o","  x","  o","  x","  o","  x","  o","  x","  o","  x","  o","  x","  o","  x","  o--","--o","  x","  o","  x","  o","  x","  o","J",null,{"$f":"ClashCount('Other league dates'!J$4:J$33,$A1522:$AD1522)","v":""},{"$f":"ClashCount('Other league dates'!K$4:K$33,$A1522:$AD1522)","v":""},{"$f":"ClashCount('Other league dates'!L$4:L$33,$A1522:$AD1522)","v":""}]
["  o","  x","  o","  x","  o--","--o","  x","  o","  x","  o","  x","  o","  x","  o","  x","  o","  x","  o","  x","  o","  x","  o","  x","  o","  x--","--x","  o","  x","  o","  x","K",null,{"$f":"ClashCount('Other league dates'!J$4:J$33,$A1523:$AD1523)","v":""},{"$f":"ClashCount('Other league dates'!K$4:K$33,$A1523:$AD1523)","v":""},{"$f":"ClashCount('Other league dates'!L$4:L$33,$A1523:$AD1523)","v":""}]
["  x","  o","  x","  o","  x--","--x","  o","  x","  o","  x","  o","  x","  o","  x","  o","  x","  o","  x","  o","  x","  o","  x","  o","  x","  o--","--o","  x","  o","  x","  o","L",null,{"$f":"ClashCount('Other league dates'!J$4:J$33,$A1524:$AD1524)","v":""},{"$f":"ClashCount('Other league dates'!K$4:K$33,$A1524:$AD1524)","v":""},{"$f":"ClashCount('Other league dates'!L$4:L$33,$A1524:$AD1524)","v":""}]
["  o","  x","  o--","--o","  x","  o","  x","  o","  x","  o","  x","  o","  x","  o","  x","  o","  x","  o","  x","  o","  x","  o","  x","  o","  x","  o","  x--","--x","  o","  x","M",null,{"$f":"ClashCount('Other league dates'!J$4:J$33,$A1525:$AD1525)","v":""},{"$f":"ClashCount('Other league dates'!K$4:K$33,$A1525:$AD1525)","v":""},{"$f":"ClashCount('Other league dates'!L$4:L$33,$A1525:$AD1525)","v":""}]
["  x","  o","  x--","--x","  o","  x","  o","  x","  o","  x","  o","  x","  o","  x","  o","  x","  o","  x","  o","  x","  o","  x","  o","  x","  o","  x","  o--","--o","  x","  o","N",null,{"$f":"ClashCount('Other league dates'!J$4:J$33,$A1526:$AD1526)","v":""},{"$f":"ClashCount('Other league dates'!K$4:K$33,$A1526:$AD1526)","v":""},{"$f":"ClashCount('Other league dates'!L$4:L$33,$A1526:$AD1526)","v":""}]
["  o--","--o","  x","  o","  x","  o","  x","  o","  x","  o","  x","  o","  x","  o","  x","  o","  x","  o","  x","  o","  x","  o","  x","  o","  x","  o","  x","  o","  x--","--x","O",null,{"$f":"ClashCount('Other league dates'!J$4:J$33,$A1527:$AD1527)","v":""},{"$f":"ClashCount('Other league dates'!K$4:K$33,$A1527:$AD1527)","v":""},{"$f":"ClashCount('Other league dates'!L$4:L$33,$A1527:$AD1527)","v":""}]
["  x--","--x","  o","  x","  o","  x","  o","  x","  o","  x","  o","  x","  o","  x","  o","  x","  o","  x","  o","  x","  o","  x","  o","  x","  o","  x","  o","  x","  o--","--o","P",null,{"$f":"ClashCount('Other league dates'!J$4:J$33,$A1528:$AD1528)","v":""},{"$f":"ClashCount('Other league dates'!K$4:K$33,$A1528:$AD1528)","v":""},{"$f":"ClashCount('Other league dates'!L$4:L$33,$A1528:$AD1528)","v":""}]
[]
["Fit:","04Berger",null,"06Berger",null,"08Berger",null,"10Berger",null,"12Berger",null,"14Berger",null,"18Berger"]
[]
["18Berger"]
[]
["QB","BR","OB","BP","MB","BN","KB","BL","IB","BJ","GB","BH","EB","BF","CB","BD","AB","BA","DB","BC","FB","BE","HB","BG","JB","BI","LB","BK","NB","BM","PB","BO","RB","BQ"]
["OD","PA","MQ","NR","KO","LP","IM","JN","GK","HL","EI","FJ","CG","DH","AE","QF","RC","CR","FQ","EA","HD","GC","JF","IE","LH","KG","NJ","MI","PL","OK","RN","QM","AP","DO"]
["MF","NC","KD","LA","IQ","JR","GO","HP","EM","FN","CK","DL","AI","QJ","RG","OH","PE","EP","HO","GR","JQ","IA","LD","KC","NF","ME","PH","OG","RJ","QI","AL","DK","CN","FM"]
["KH","LE","IF","JC","GD","HA","EQ","FR","CO","DP","AM","QN","RK","OL","PI","MJ","NG","GN","JM","IP","LO","KR","NQ","MA","PD","OC","RF","QE","AH","DG","CJ","FI","EL","HK"]
["IJ","JG","GH","HE","EF","FC","CD","DA","AQ","QR","RO","OP","PM","MN","NK","KL","LI","IL","LK","KN","NM","MP","PO","OR","RQ","QA","AD","DC","CF","FE","EH","HG","GJ","JI"]
["GL","HI","EJ","FG","CH","DE","AF","QC","RD","OA","PQ","MR","NO","KP","LM","IN","JK","KJ","NI","ML","PK","ON","RM","QP","AO","DR","CQ","FA","ED","HC","GF","JE","IH","LG"]
["EN","FK","CL","DI","AJ","QG","RH","OE","PF","MC","ND","KA","LQ","IR","JO","GP","HM","MH","PG","OJ","RI","QL","AK","DN","CM","FP","EO","HR","GQ","JA","ID","LC","KF","NE"]
["CP","DM","AN","QK","RL","OI","PJ","MG","NH","KE","LF","IC","JD","GA","HQ","ER","FO","OF","RE","QH","AG","DJ","CI","FL","EK","HN","GM","JP","IO","LR","KQ","NA","MD","PC"]
["AR","QO","RP","OM","PN","MK","NL","KI","LJ","IG","JH","GE","HF","EC","FD","CA","DQ","QD","AC","DF","CE","FH","EG","HJ","GI","JL","IK","LN","KM","NP","MO","PR","OQ","RA"]
[1,2,3,4,5,6,7,8,9,10,11,12,13,14,15,16,17,18,19,20,21,22,23,24,25,26,27,28,29,30,31,32,33,34]
["RFx",null,null,null,null,null,null,null,null,null,null,null,null,null,null,null,null,17,16,15,14,13,12,11,10,9,8,7,6,5,4,3,2,1]
["  o","  x","  o","  x","  o","  x","  o","  x","  o","  x","  o","  x","  o","  x","  o","  x","  o","  x","  o","  x","  o","  x","  o","  x","  o","  x","  o","  x","  o","  x","  o","  x","  o","  x","A",null,{"$f":"ClashCount('Other league dates'!J$2:J$35,$A1545:$AH1545)","v":""},{"$f":"ClashCount('Other league dates'!K$2:K$35,$A1545:$AH1545)","v":""},{"$f":"ClashCount('Other league dates'!L$2:L$35,$A1545:$AH1545)","v":""}]
["  x","  o","  x","  o","  x","  o","  x","  o","  x","  o","  x","  o","  x","  o","  x","  o","  x","  o","  x","  o","  x","  o","  x","  o","  x","  o","  x","  o","  x","  o","  x","  o","  x","  o","B",null,{"$f":"ClashCount('Other league dates'!J$2:J$35,$A1546:$AH1546)","v":""},{"$f":"ClashCount('Other league dates'!K$2:K$35,$A1546:$AH1546)","v":""},{"$f":"ClashCount('Other league dates'!L$2:L$35,$A1546:$AH1546)","v":""}]
["  o","  x","  o","  x","  o","  x","  o","  x","  o","  x","  o","  x","  o","  x","  o--","--o","  x","  o","  x--","--x","  o","  x","  o","  x","  o","  x","  o","  x","  o","  x","  o","  x","  o","  x","C",null,{"$f":"ClashCount('Other league dates'!J$2:J$35,$A1547:$AH1547)","v":""},{"$f":"ClashCount('Other league dates'!K$2:K$35,$A1547:$AH1547)","v":""},{"$f":"ClashCount('Other league dates'!L$2:L$35,$A1547:$AH1547)","v":""}]
["  x","  o","  x","  o","  x","  o","  x","  o","  x","  o","  x","  o","  x","  o","  x--","--x","  o","  x","  o--","--o","  x","  o","  x","  o","  x","  o","  x","  o","  x","  o","  x","  o","  x","  o","D",null,{"$f":"ClashCount('Other league dates'!J$2:J$35,$A1548:$AH1548)","v":""},{"$f":"ClashCount('Other league dates'!K$2:K$35,$A1548:$AH1548)","v":""},{"$f":"ClashCount('Other league dates'!L$2:L$35,$A1548:$AH1548)","v":""}]
["  o","  x","  o","  x","  o","  x","  o","  x","  o","  x","  o","  x","  o--","--o","  x","  o","  x","  o","  x","  o","  x--","--x","  o","  x","  o","  x","  o","  x","  o","  x","  o","  x","  o","  x","E",null,{"$f":"ClashCount('Other league dates'!J$2:J$35,$A1549:$AH1549)","v":""},{"$f":"ClashCount('Other league dates'!K$2:K$35,$A1549:$AH1549)","v":""},{"$f":"ClashCount('Other league dates'!L$2:L$35,$A1549:$AH1549)","v":""}]
["  x","  o","  x","  o","  x","  o","  x","  o","  x","  o","  x","  o","  x--","--x","  o","  x","  o","  x","  o","  x","  o--","--o","  x","  o","  x","  o","  x","  o","  x","  o","  x","  o","  x","  o","F",null,{"$f":"ClashCount('Other league dates'!J$2:J$35,$A1550:$AH1550)","v":""},{"$f":"ClashCount('Other league dates'!K$2:K$35,$A1550:$AH1550)","v":""},{"$f":"ClashCount('Other league dates'!L$2:L$35,$A1550:$AH1550)","v":""}]
["  o","  x","  o","  x","  o","  x","  o","  x","  o","  x","  o--","--o","  x","  o","  x","  o","  x","  o","  x","  o","  x","  o","  x--","--x","  o","  x","  o","  x","  o","  x","  o","  x","  o","  x","G",null,{"$f":"ClashCount('Other league dates'!J$2:J$35,$A1551:$AH1551)","v":""},{"$f":"ClashCount('Other league dates'!K$2:K$35,$A1551:$AH1551)","v":""},{"$f":"ClashCount('Other league dates'!L$2:L$35,$A1551:$AH1551)","v":""}]
["  x","  o","  x","  o","  x","  o","  x","  o","  x","  o","  x--","--x","  o","  x","  o","  x","  o","  x","  o","  x","  o","  x","  o--","--o","  x","  o","  x","  o","  x","  o","  x","  o","  x","  o","H",null,{"$f":"ClashCount('Other league dates'!J$2:J$35,$A1552:$AH1552)","v":""},{"$f":"ClashCount('Other league dates'!K$2:K$35,$A1552:$AH1552)","v":""},{"$f":"ClashCount('Other league dates'!L$2:L$35,$A1552:$AH1552)","v":""}]
["  o","  x","  o","  x","  o","  x","  o","  x","  o--","--o","  x","  o","  x","  o","  x","  o","  x","  o","  x","  o","  x","  o","  x","  o","  x--","--x","  o","  x","  o","  x","  o","  x","  o","  x","I",null,{"$f":"ClashCount('Other league dates'!J$2:J$35,$A1553:$AH1553)","v":""},{"$f":"ClashCount('Other league dates'!K$2:K$35,$A1553:$AH1553)","v":""},{"$f":"ClashCount('Other league dates'!L$2:L$35,$A1553:$AH1553)","v":""}]
["  x","  o","  x","  o","  x","  o","  x","  o","  x--","--x","  o","  x","  o","  x","  o","  x","  o","  x","  o","  x","  o","  x","  o","  x","  o--","--o","  x","  o","  x","  o","  x","  o","  x","  o","J",null,{"$f":"ClashCount('Other league dates'!J$2:J$35,$A1554:$AH1554)","v":""},{"$f":"ClashCount('Other league dates'!K$2:K$35,$A1554:$AH1554)","v":""},{"$f":"ClashCount('Other league dates'!L$2:L$35,$A1554:$AH1554)","v":""}]
["  o","  x","  o","  x","  o","  x","  o--","--o","  x","  o","  x","  o","  x","  o","  x","  o","  x","  o","  x","  o","  x","  o","  x","  o","  x","  o","  x--","--x","  o","  x","  o","  x","  o","  x","K",null,{"$f":"ClashCount('Other league dates'!J$2:J$35,$A1555:$AH1555)","v":""},{"$f":"ClashCount('Other league dates'!K$2:K$35,$A1555:$AH1555)","v":""},{"$f":"ClashCount('Other league dates'!L$2:L$35,$A1555:$AH1555)","v":""}]
["  x","  o","  x","  o","  x","  o","  x--","--x","  o","  x","  o","  x","  o","  x","  o","  x","  o","  x","  o","  x","  o","  x","  o","  x","  o","  x","  o--","--o","  x","  o","  x","  o","  x","  o","L",null,{"$f":"ClashCount('Other league dates'!J$2:J$35,$A1556:$AH1556)","v":""},{"$f":"ClashCount('Other league dates'!K$2:K$35,$A1556:$AH1556)","v":""},{"$f":"ClashCount('Other league dates'!L$2:L$35,$A1556:$AH1556)","v":""}]
["  o","  x","  o","  x","  o--","--o","  x","  o","  x","  o","  x","  o","  x","  o","  x","  o","  x","  o","  x","  o","  x","  o","  x","  o","  x","  o","  x","  o","  x--","--x","  o","  x","  o","  x","M",null,{"$f":"ClashCount('Other league dates'!J$2:J$35,$A1557:$AH1557)","v":""},{"$f":"ClashCount('Other league dates'!K$2:K$35,$A1557:$AH1557)","v":""},{"$f":"ClashCount('Other league dates'!L$2:L$35,$A1557:$AH1557)","v":""}]
["  x","  o","  x","  o","  x--","--x","  o","  x","  o","  x","  o","  x","  o","  x","  o","  x","  o","  x","  o","  x","  o","  x","  o","  x","  o","  x","  o","  x","  o--","--o","  x","  o","  x","  o","N",null,{"$f":"ClashCount('Other league dates'!J$2:J$35,$A1558:$AH1558)","v":""},{"$f":"ClashCount('Other league dates'!K$2:K$35,$A1558:$AH1558)","v":""},{"$f":"ClashCount('Other league dates'!L$2:L$35,$A1558:$AH1558)","v":""}]
["  o","  x","  o--","--o","  x","  o","  x","  o","  x","  o","  x","  o","  x","  o","  x","  o","  x","  o","  x","  o","  x","  o","  x","  o","  x","  o","  x","  o","  x","  o","  x--","--x","  o","  x","O",null,{"$f":"ClashCount('Other league dates'!J$2:J$35,$A1559:$AH1559)","v":""},{"$f":"ClashCount('Other league dates'!K$2:K$35,$A1559:$AH1559)","v":""},{"$f":"ClashCount('Other league dates'!L$2:L$35,$A1559:$AH1559)","v":""}]
["  x","  o","  x--","--x","  o","  x","  o","  x","  o","  x","  o","  x","  o","  x","  o","  x","  o","  x","  o","  x","  o","  x","  o","  x","  o","  x","  o","  x","  o","  x","  o--","--o","  x","  o","P",null,{"$f":"ClashCount('Other league dates'!J$2:J$35,$A1560:$AH1560)","v":""},{"$f":"ClashCount('Other league dates'!K$2:K$35,$A1560:$AH1560)","v":""},{"$f":"ClashCount('Other league dates'!L$2:L$35,$A1560:$AH1560)","v":""}]
["  o--","--o","  x","  o","  x","  o","  x","  o","  x","  o","  x","  o","  x","  o","  x","  o","  x","  o","  x","  o","  x","  o","  x","  o","  x","  o","  x","  o","  x","  o","  x","  o","  x--","--x","Q",null,{"$f":"ClashCount('Other league dates'!J$2:J$35,$A1561:$AH1561)","v":""},{"$f":"ClashCount('Other league dates'!K$2:K$35,$A1561:$AH1561)","v":""},{"$f":"ClashCount('Other league dates'!L$2:L$35,$A1561:$AH1561)","v":""}]
["  x--","--x","  o","  x","  o","  x","  o","  x","  o","  x","  o","  x","  o","  x","  o","  x","  o","  x","  o","  x","  o","  x","  o","  x","  o","  x","  o","  x","  o","  x","  o","  x","  o--","--o","R",null,{"$f":"ClashCount('Other league dates'!J$2:J$35,$A1562:$AH1562)","v":""},{"$f":"ClashCount('Other league dates'!K$2:K$35,$A1562:$AH1562)","v":""},{"$f":"ClashCount('Other league dates'!L$2:L$35,$A1562:$AH1562)","v":""}]
[]
["Fit:","04Berger",null,"06Berger",null,"08Berger",null,"10Berger",null,"12Berger",null,"14Berger",null,"16Berger"]

{"sheet":"Special Patterns","index":3,"n_rows":189,"n_cols":39,"rows_kept":189,"cut":false,"hidden":false,"merged":[]}
["04Special"]
[]
["AD","BD","AB","BA","DB","DA"]
["CB","CA","DC","CD","AC","BC"]
[1,2,3,4,5,6]
["RFx",null,null,3,2,1]
["  o","  x","  o","  x","  o","  x","A",null,{"$f":"ClashCount('Other league dates'!J$16:J$21,$A7:$F7)","v":""},{"$f":"ClashCount('Other league dates'!K$16:K$21,$A7:$F7)","v":""},{"$f":"ClashCount('Other league dates'!L$16:L$21,$A7:$F7)","v":""}]
["  x","  o","  x","  o","  x","  o","B",null,{"$f":"ClashCount('Other league dates'!J$16:J$21,$A8:$F8)","v":""},{"$f":"ClashCount('Other league dates'!K$16:K$21,$A8:$F8)","v":""},{"$f":"ClashCount('Other league dates'!L$16:L$21,$A8:$F8)","v":""}]
["  o--","--o","  x","  o","  x--","--x","C",null,{"$f":"ClashCount('Other league dates'!J$16:J$21,$A9:$F9)","v":""},{"$f":"ClashCount('Other league dates'!K$16:K$21,$A9:$F9)","v":""},{"$f":"ClashCount('Other league dates'!L$16:L$21,$A9:$F9)","v":""}]
["  x--","--x","  o","  x","  o--","--o","D",null,{"$f":"ClashCount('Other league dates'!J$16:J$21,$A10:$F10)","v":""},{"$f":"ClashCount('Other league dates'!K$16:K$21,$A10:$F10)","v":""},{"$f":"ClashCount('Other league dates'!L$16:L$21,$A10:$F10)","v":""}]
[]
["Fit:","04Berger",null,"06Berger",null,"08Berger",null,"10Berger",null,"12Berger",null,"14Berger",null,"16Berger",null,"18Berger",null,"06Special",null,"08Special",null,"18Special"]
[]
["06Special"]
[]
["AF","BF","AE","BD","AB","BA","AC","BC","AD","BE"]
["CD","DA","CB","CA","DE","CF","DB","DF","CE","DC"]
["EB","EC","FD","EF","FC","ED","FE","EA","FB","FA"]
[1,2,3,4,5,6,7,8,9,10]
["RFx",null,null,null,null,5,4,3,2,1]
["  o","  x","  o","  x","  o","  x","  o","  x","  o","  x","A"]
["  x","  o","  x","  o","  x","  o","  x","  o","  x","  o","B"]
["  o","  x","  o--","--o","  x","  o","  x--","--x","  o","  x","C"]
["  x","  o","  x--","--x","  o","  x","  o--","--o","  x","  o","D"]
["  o--","--o","  x","  o","  x","  o","  x","  o","  x--","--x","E"]
["  x--","--x","  o","  x","  o","  x","  o","  x","  o--","--o","F"]
[]
["Fit:","04Berger",null,"06Berger",null,"08Berger",null,"10Berger",null,"12Berger",null,"14Berger",null,"16Berger",null,"18Berger",null,"04Special",null,"08Special",null,"18Special"]
[]
[]
[]
["08Special"]
[]
["GB","BH","EB","BF","CB","BD","AB","BA","DB","BC","FB","BE","HB","BG"]
["ED","FA","CG","DH","AE","GF","HC","CH","FG","EA","HD","GC","AF","DE"]
["CF","DC","AD","GA","HG","EH","FE","EF","HE","GH","AG","DA","CD","FC"]
["AH","GE","HF","EC","FD","CA","DG","GD","AC","DF","CE","FH","EG","HA"]
[1,2,3,4,5,6,7,8,9,10,11,12,13,14]
["RFx",null,null,null,null,null,null,7,6,5,4,3,2,1]
["  o","  x","  o","  x","  o","  x","  o","  x","  o","  x","  o","  x","  o","  x","A",null,{"$f":"ClashCount('Other league dates'!J$12:J$25,$A40:$N40)","v":""},{"$f":"ClashCount('Other league dates'!K$12:K$25,$A40:$N40)","v":""},{"$f":"ClashCount('Other league dates'!L$12:L$25,$A40:$N40)","v":""}]
["  x","  o","  x","  o","  x","  o","  x","  o","  x","  o","  x","  o","  x","  o","B",null,{"$f":"ClashCount('Other league dates'!J$12:J$25,$A41:$N41)","v":""},{"$f":"ClashCount('Other league dates'!K$12:K$25,$A41:$N41)","v":""},{"$f":"ClashCount('Other league dates'!L$12:L$25,$A41:$N41)","v":""}]
["  o","  x","  o","  x","  o--","--o","  x","  o","  x--","--x","  o","  x","  o","  x","C",null,{"$f":"ClashCount('Other league dates'!J$12:J$25,$A42:$N42)","v":""},{"$f":"ClashCount('Other league dates'!K$12:K$25,$A42:$N42)","v":""},{"$f":"ClashCount('Other league dates'!L$12:L$25,$A42:$N42)","v":""}]
["  x","  o","  x","  o","  x--","--x","  o","  x","  o--","--o","  x","  o","  x","  o","D",null,{"$f":"ClashCount('Other league dates'!J$12:J$25,$A43:$N43)","v":""},{"$f":"ClashCount('Other league dates'!K$12:K$25,$A43:$N43)","v":""},{"$f":"ClashCount('Other league dates'!L$12:L$25,$A43:$N43)","v":""}]
["  o","  x","  o--","--o","  x","  o","  x","  o","  x","  o","  x--","--x","  o","  x","E",null,{"$f":"ClashCount('Other league dates'!J$12:J$25,$A44:$N44)","v":""},{"$f":"ClashCount('Other league dates'!K$12:K$25,$A44:$N44)","v":""},{"$f":"ClashCount('Other league dates'!L$12:L$25,$A44:$N44)","v":""}]
["  x","  o","  x--","--x","  o","  x","  o","  x","  o","  x","  o--","--o","  x","  o","F",null,{"$f":"ClashCount('Other league dates'!J$12:J$25,$A45:$N45)","v":""},{"$f":"ClashCount('Other league dates'!K$12:K$25,$A45:$N45)","v":""},{"$f":"ClashCount('Other league dates'!L$12:L$25,$A45:$N45)","v":""}]
["  o--","--o","  x","  o","  x","  o","  x","  o","  x","  o","  x","  o","  x--","--x","G",null,{"$f":"ClashCount('Other league dates'!J$12:J$25,$A46:$N46)","v":""},{"$f":"ClashCount('Other league dates'!K$12:K$25,$A46:$N46)","v":""},{"$f":"ClashCount('Other league dates'!L$12:L$25,$A46:$N46)","v":""}]
["  x--","--x","  o","  x","  o","  x","  o","  x","  o","  x","  o","  x","  o--","--o","H",null,{"$f":"ClashCount('Other league dates'!J$12:J$25,$A47:$N47)","v":""},{"$f":"ClashCount('Other league dates'!K$12:K$25,$A47:$N47)","v":""},{"$f":"ClashCount('Other league dates'!L$12:L$25,$A47:$N47)","v":""}]
[]
["Fit:","04Berger",null,"06Berger",null,"08Berger",null,"10Berger",null,"12Berger",null,"14Berger",null,"16Berger",null,"18Berger",null,"04Special",null,"06Special",null,"18Special"]
[]
["10Special"]
[]
["AB","JI","AD","JC","AG","DE","AF","JE","AJ","JA","AE","EA","AI","EC","CA","AC","CG","AH"]
["CD","DC","CJ","GI","CB","JH","CH","DI","CF","DG","CI","GF","CE","GJ","GE","EG","IE","EI"]
["EF","FE","EB","DA","ED","GA","EJ","FA","EH","FC","JD","DJ","JG","DH","IH","JF","FD","JB"]
["HG","BA","IG","FH","IF","FI","GB","BG","GD","BI","FG","IC","FB","IA","FJ","DB","BJ","GC"]
["IJ","GH","HF","BE","HJ","BC","ID","HC","IB","HE","HB","BH","HD","BF","BD","HI","HA","DF"]
[1,2,3,4,5,6,7,8,9,10,11,12,13,14,15,16,17,18]
["RFx",1,null,3,null,5,null,7,null,9,null,11,null,13,null,15,null,17]
["  o","  x","  o","  x","  o","  x","  o","  x","  o","  x","  o","  x","  o","  x--","--x","  o","  x","  o","A",null,{"$f":"ClashCount('Other league dates'!J$10:J$27,$A60:$R60)","v":""},{"$f":"ClashCount('Other league dates'!K$10:K$27,$A60:$R60)","v":""},{"$f":"ClashCount('Other league dates'!L$10:L$27,$A60:$R60)","v":""}]
["  x","  o","  x","  o","  x","  o","  x","  o","  x","  o","  x","  o","  x","  o--","--o","  x","  o","  x","B",null,{"$f":"ClashCount('Other league dates'!J$10:J$27,$A61:$R61)","v":""},{"$f":"ClashCount('Other league dates'!K$10:K$27,$A61:$R61)","v":""},{"$f":"ClashCount('Other league dates'!L$10:L$27,$A61:$R61)","v":""}]
["  o","  x","  o","  x","  o","  x","  o","  x","  o","  x","  o","  x","  o","  x","  o","  x","  o","  x","C",null,{"$f":"ClashCount('Other league dates'!J$10:J$27,$A62:$R62)","v":""},{"$f":"ClashCount('Other league dates'!K$10:K$27,$A62:$R62)","v":""},{"$f":"ClashCount('Other league dates'!L$10:L$27,$A62:$R62)","v":""}]
["  x","  o","  x","  o","  x","  o","  x","  o","  x","  o","  x","  o","  x","  o","  x","  o","  x","  o","D",null,{"$f":"ClashCount('Other league dates'!J$10:J$27,$A63:$R63)","v":""},{"$f":"ClashCount('Other league dates'!K$10:K$27,$A63:$R63)","v":""},{"$f":"ClashCount('Other league dates'!L$10:L$27,$A63:$R63)","v":""}]
["  o","  x","  o","  x","  o","  x","  o","  x","  o","  x--","--x","  o","  x","  o","  x","  o","  x","  o","E",null,{"$f":"ClashCount('Other league dates'!J$10:J$27,$A64:$R64)","v":""},{"$f":"ClashCount('Other league dates'!K$10:K$27,$A64:$R64)","v":""},{"$f":"ClashCount('Other league dates'!L$10:L$27,$A64:$R64)","v":""}]
["  x","  o","  x","  o","  x","  o","  x","  o","  x","  o--","--o","  x","  o","  x","  o","  x","  o","  x","F",null,{"$f":"ClashCount('Other league dates'!J$10:J$27,$A65:$R65)","v":""},{"$f":"ClashCount('Other league dates'!K$10:K$27,$A65:$R65)","v":""},{"$f":"ClashCount('Other league dates'!L$10:L$27,$A65:$R65)","v":""}]
["  x","  o","  x","  o","  x","  o--","--o","  x","  o","  x--","--x","  o","  x","  o--","--o","  x--","--x","  o","G",null,{"$f":"ClashCount('Other league dates'!J$10:J$27,$A66:$R66)","v":""},{"$f":"ClashCount('Other league dates'!K$10:K$27,$A66:$R66)","v":""},{"$f":"ClashCount('Other league dates'!L$10:L$27,$A66:$R66)","v":""}]
["  o","  x","  o","  x","  o","  x--","--x","  o","  x","  o--","--o","  x","  o","  x--","--x","  o--","--o","  x","H",null,{"$f":"ClashCount('Other league dates'!J$10:J$27,$A67:$R67)","v":""},{"$f":"ClashCount('Other league dates'!K$10:K$27,$A67:$R67)","v":""},{"$f":"ClashCount('Other league dates'!L$10:L$27,$A67:$R67)","v":""}]
["  o","  x","  o","  x","  o","  x","  o","  x","  o","  x--","--x","  o","  x","  o--","--o","  x","  o","  x","I",null,{"$f":"ClashCount('Other league dates'!J$10:J$27,$A68:$R68)","v":""},{"$f":"ClashCount('Other league dates'!K$10:K$27,$A68:$R68)","v":""},{"$f":"ClashCount('Other league dates'!L$10:L$27,$A68:$R68)","v":""}]
["  x","  o","  x","  o","  x","  o","  x","  o","  x","  o--","--o","  x","  o","  x--","--x","  o","  x","  o","J",null,{"$f":"ClashCount('Other league dates'!J$10:J$27,$A69:$R69)","v":""},{"$f":"ClashCount('Other league dates'!K$10:K$27,$A69:$R69)","v":""},{"$f":"ClashCount('Other league dates'!L$10:L$27,$A69:$R69)","v":""}]
[]
["Fit:"]
[]
["12Special"]
[]
["AB","BA","AD","DA","DB","BD","AL","LA","EB","BE","AH","HA","AI","IA","AF","FA","LB","BL","BH","HB","AE","EA"]
["CD","DC","CF","FC","AC","CA","CJ","JC","CH","HC","CB","BC","EC","CE","CL","LC","EG","GE","GA","AG","GC","CG"]
["EF","FE","EL","LE","JH","HJ","EH","HE","AJ","JA","ED","DE","GK","KG","EJ","JE","HF","FH","FJ","JF","FB","BF"]
["GH","HG","GB","BG","LF","FL","GF","FG","IF","FI","GJ","JG","JB","BJ","GD","DG","CI","IC","IE","EI","IK","KI"]
["IJ","JI","IH","HI","GI","IG","ID","DI","GL","LG","IL","LI","LH","HL","IB","BI","AK","KA","KC","CK","LJ","JL"]
["KL","LK","KJ","JK","EK","KE","KB","BK","KD","DK","KF","FK","DF","FD","KH","HK","JD","DJ","DL","LD","DH","HD"]
[1,2,3,4,5,6,7,8,9,10,11,12,13,14,15,16,17,18,19,20,21,22]
["RFx",1,null,3,null,5,null,7,null,9,null,11,null,13,null,15,null,17,null,19,null,21]
["  o","  x","  o","  x","  o","  x","  o","  x","  o","  x","  o","  x","  o","  x","  o","  x","  o","  x--","--x","  o--","--o","  x","A",null,{"$f":"ClashCount('Other league dates'!J$8:J$29,$A83:$V83)","v":""},{"$f":"ClashCount('Other league dates'!K$8:K$29,$A83:$V83)","v":""},{"$f":"ClashCount('Other league dates'!L$8:L$29,$A83:$V83)","v":""}]
["  x","  o","  x","  o","  x","  o","  x","  o","  x","  o","  x","  o","  x","  o","  x","  o","  x","  o--","--o","  x--","--x","  o","B",null,{"$f":"ClashCount('Other league dates'!J$8:J$29,$A84:$V84)","v":""},{"$f":"ClashCount('Other league dates'!K$8:K$29,$A84:$V84)","v":""},{"$f":"ClashCount('Other league dates'!L$8:L$29,$A84:$V84)","v":""}]
["  o","  x","  o","  x--","--x","  o--","--o","  x","  o","  x","  o","  x--","--x","  o--","--o","  x","  o","  x--","--x","  o","  x","  o","C",null,{"$f":"ClashCount('Other league dates'!J$8:J$29,$A85:$V85)","v":""},{"$f":"ClashCount('Other league dates'!K$8:K$29,$A85:$V85)","v":""},{"$f":"ClashCount('Other league dates'!L$8:L$29,$A85:$V85)","v":""}]
["  x","  o","  x","  o--","--o","  x--","--x","  o","  x","  o","  x","  o--","--o","  x--","--x","  o","  x","  o--","--o","  x","  o","  x","D",null,{"$f":"ClashCount('Other league dates'!J$8:J$29,$A86:$V86)","v":""},{"$f":"ClashCount('Other league dates'!K$8:K$29,$A86:$V86)","v":""},{"$f":"ClashCount('Other league dates'!L$8:L$29,$A86:$V86)","v":""}]
["  o","  x","  o","  x","  o","  x","  o","  x","  o","  x","  o","  x","  o","  x","  o","  x","  o","  x--","--x","  o","  x","  o","E",null,{"$f":"ClashCount('Other league dates'!J$8:J$29,$A87:$V87)","v":""},{"$f":"ClashCount('Other league dates'!K$8:K$29,$A87:$V87)","v":""},{"$f":"ClashCount('Other league dates'!L$8:L$29,$A87:$V87)","v":""}]
["  x","  o","  x","  o","  x","  o","  x","  o","  x","  o","  x","  o","  x","  o","  x","  o","  x","  o--","--o","  x","  o","  x","F",null,{"$f":"ClashCount('Other league dates'!J$8:J$29,$A88:$V88)","v":""},{"$f":"ClashCount('Other league dates'!K$8:K$29,$A88:$V88)","v":""},{"$f":"ClashCount('Other league dates'!L$8:L$29,$A88:$V88)","v":""}]
["  o","  x","  o","  x","  o","  x","  o","  x","  o","  x","  o","  x","  o","  x","  o","  x--","--x","  o--","--o","  x","  o","  x","G",null,{"$f":"ClashCount('Other league dates'!J$8:J$29,$A89:$V89)","v":""},{"$f":"ClashCount('Other league dates'!K$8:K$29,$A89:$V89)","v":""},{"$f":"ClashCount('Other league dates'!L$8:L$29,$A89:$V89)","v":""}]
["  x","  o","  x","  o","  x","  o","  x","  o","  x","  o","  x","  o","  x","  o","  x","  o--","--o","  x--","--x","  o","  x","  o","H",null,{"$f":"ClashCount('Other league dates'!J$8:J$29,$A90:$V90)","v":""},{"$f":"ClashCount('Other league dates'!K$8:K$29,$A90:$V90)","v":""},{"$f":"ClashCount('Other league dates'!L$8:L$29,$A90:$V90)","v":""}]
["  o","  x","  o","  x--","--x","  o--","--o","  x","  o","  x","  o","  x--","--x","  o--","--o","  x--","--x","  o--","--o","  x","  o","  x","I",null,{"$f":"ClashCount('Other league dates'!J$8:J$29,$A91:$V91)","v":""},{"$f":"ClashCount('Other league dates'!K$8:K$29,$A91:$V91)","v":""},{"$f":"ClashCount('Other league dates'!L$8:L$29,$A91:$V91)","v":""}]
["  x","  o","  x","  o--","--o","  x--","--x","  o","  x","  o","  x","  o--","--o","  x--","--x","  o--","--o","  x--","--x","  o","  x","  o","J",null,{"$f":"ClashCount('Other league dates'!J$8:J$29,$A92:$V92)","v":""},{"$f":"ClashCount('Other league dates'!K$8:K$29,$A92:$V92)","v":""},{"$f":"ClashCount('Other league dates'!L$8:L$29,$A92:$V92)","v":""}]
["  o","  x","  o","  x--","--x","  o--","--o","  x","  o","  x","  o","  x--","--x","  o--","--o","  x--","--x","  o--","--o","  x--","--x","  o","K",null,{"$f":"ClashCount('Other league dates'!J$8:J$29,$A93:$V93)","v":""},{"$f":"ClashCount('Other league dates'!K$8:K$29,$A93:$V93)","v":""},{"$f":"ClashCount('Other league dates'!L$8:L$29,$A93:$V93)","v":""}]
["  x","  o","  x","  o--","--o","  x--","--x","  o","  x","  o","  x","  o--","--o","  x--","--x","  o--","--o","  x--","--x","  o--","--o","  x","L",null,{"$f":"ClashCount('Other league dates'!J$8:J$29,$A94:$V94)","v":""},{"$f":"ClashCount('Other league dates'!K$8:K$29,$A94:$V94)","v":""},{"$f":"ClashCount('Other league dates'!L$8:L$29,$A94:$V94)","v":""}]
[]
["Fit:"]
[]
["14Special"]
[]
["AJ","JA","AF","FA","FI","CB","AK","FG","FE","AD","NH","FC","FN","NF","NM","AE","FB","CA","NA","AN","FH","CG","FD","DF","FK","KF"]
["CD","DC","ND","DN","DK","NL","NB","DL","DA","CH","CF","AI","AG","CM","CK","DJ","AC","NK","CI","DH","AL","NI","NG","AB","NC","CN"]
["EN","NE","CL","LC","HG","AM","CJ","KA","HC","NJ","EM","DB","DI","GA","BH","FL","DG","BF","EG","FJ","DE","HF","CE","GN","DM","MD"]
["GL","LG","EB","BE","JE","IF","EH","BN","JN","EF","GK","HN","HL","ID","GI","MN","HJ","GD","HD","IC","GC","LA","LI","EC","HA","AH"]
["IB","BI","GJ","JG","BC","KD","IM","JC","BL","LB","IA","ME","JB","LH","EA","KC","IE","JH","JF","GE","IN","ED","HM","IL","JI","IJ"]
["KH","HK","IH","HI","LN","GH","GF","HE","KI","IK","BD","KG","KE","BJ","JD","HB","KN","EI","BM","MB","KB","BK","JK","MH","BG","GB"]
["MF","FM","KM","MK","MA","EJ","LD","MI","MG","GM","LJ","JL","MC","EK","LF","IG","ML","LM","LK","KL","MJ","JM","BA","KJ","LE","EL"]
[1,2,3,4,5,6,7,8,9,10,11,12,13,14,15,16,17,18,19,20,21,22,23,24,25,26]
["RFx",1,null,3,null,5,null,7,null,9,null,11,null,13,null,15,null,17,null,19,null,21,null,23,null,25]
["  o","  x","  o","  x--","--x","  o--","--o","  x--","--x","  o","  x","  o--","--o","  x--","--x","  o--","--o","  x--","--x","  o--","--o","  x--","--x","  o","  x","  o","A",null,{"$f":"ClashCount('Other league dates'!J$6:J$31,$A109:$Z109)","v":""},{"$f":"ClashCount('Other league dates'!K$6:K$31,$A109:$Z109)","v":""},{"$f":"ClashCount('Other league dates'!L$6:L$31,$A109:$Z109)","v":""}]
["  x","  o","  x","  o--","--o","  x--","--x","  o--","--o","  x","  o","  x--","--x","  o--","--o","  x--","--x","  o--","--o","  x--","--x","  o--","--o","  x","  o","  x","B",null,{"$f":"ClashCount('Other league dates'!J$6:J$31,$A110:$Z110)","v":""},{"$f":"ClashCount('Other league dates'!K$6:K$31,$A110:$Z110)","v":""},{"$f":"ClashCount('Other league dates'!L$6:L$31,$A110:$Z110)","v":""}]
["  o","  x","  o","  x--","--x","  o--","--o","  x--","--x","  o--","--o","  x--","--x","  o--","--o","  x--","--x","  o--","--o","  x--","--x","  o--","--o","  x--","--x","  o","C",null,{"$f":"ClashCount('Other league dates'!J$6:J$31,$A111:$Z111)","v":""},{"$f":"ClashCount('Other league dates'!K$6:K$31,$A111:$Z111)","v":""},{"$f":"ClashCount('Other league dates'!L$6:L$31,$A111:$Z111)","v":""}]
["  x","  o","  x","  o--","--o","  x--","--x","  o--","--o","  x--","--x","  o--","--o","  x--","--x","  o--","--o","  x--","--x","  o--","--o","  x--","--x","  o--","--o","  x","D",null,{"$f":"ClashCount('Other league dates'!J$6:J$31,$A112:$Z112)","v":""},{"$f":"ClashCount('Other league dates'!K$6:K$31,$A112:$Z112)","v":""},{"$f":"ClashCount('Other league dates'!L$6:L$31,$A112:$Z112)","v":""}]
["  o","  x","  o","  x--","--x","  o--","--o","  x--","--x","  o--","--o","  x--","--x","  o--","--o","  x--","--x","  o--","--o","  x--","--x","  o","  x","  o","  x","  o","E",null,{"$f":"ClashCount('Other league dates'!J$6:J$31,$A113:$Z113)","v":""},{"$f":"ClashCount('Other league dates'!K$6:K$31,$A113:$Z113)","v":""},{"$f":"ClashCount('Other league dates'!L$6:L$31,$A113:$Z113)","v":""}]
["  x","  o","  x","  o--","--o","  x--","--x","  o--","--o","  x--","--x","  o--","--o","  x--","--x","  o--","--o","  x--","--x","  o--","--o","  x","  o","  x","  o","  x","F",null,{"$f":"ClashCount('Other league dates'!J$6:J$31,$A114:$Z114)","v":""},{"$f":"ClashCount('Other league dates'!K$6:K$31,$A114:$Z114)","v":""},{"$f":"ClashCount('Other league dates'!L$6:L$31,$A114:$Z114)","v":""}]
["  o","  x","  o","  x--","--x","  o--","--o","  x--","--x","  o--","--o","  x--","--x","  o--","--o","  x--","--x","  o","  x","  o--","--o","  x--","--x","  o","  x","  o","G",null,{"$f":"ClashCount('Other league dates'!J$6:J$31,$A115:$Z115)","v":""},{"$f":"ClashCount('Other league dates'!K$6:K$31,$A115:$Z115)","v":""},{"$f":"ClashCount('Other league dates'!L$6:L$31,$A115:$Z115)","v":""}]
["  x","  o","  x","  o--","--o","  x--","--x","  o--","--o","  x--","--x","  o--","--o","  x--","--x","  o--","--o","  x","  o","  x--","--x","  o--","--o","  x","  o","  x","H",null,{"$f":"ClashCount('Other league dates'!J$6:J$31,$A116:$Z116)","v":""},{"$f":"ClashCount('Other league dates'!K$6:K$31,$A116:$Z116)","v":""},{"$f":"ClashCount('Other league dates'!L$6:L$31,$A116:$Z116)","v":""}]
["  o","  x","  o","  x--","--x","  o--","--o","  x--","--x","  o--","--o","  x--","--x","  o","  x","  o--","--o","  x--","--x","  o--","--o","  x--","--x","  o","  x","  o","I",null,{"$f":"ClashCount('Other league dates'!J$6:J$31,$A117:$Z117)","v":""},{"$f":"ClashCount('Other league dates'!K$6:K$31,$A117:$Z117)","v":""},{"$f":"ClashCount('Other league dates'!L$6:L$31,$A117:$Z117)","v":""}]
["  x","  o","  x","  o--","--o","  x--","--x","  o--","--o","  x--","--x","  o--","--o","  x","  o","  x--","--x","  o--","--o","  x--","--x","  o--","--o","  x","  o","  x","J",null,{"$f":"ClashCount('Other league dates'!J$6:J$31,$A118:$Z118)","v":""},{"$f":"ClashCount('Other league dates'!K$6:K$31,$A118:$Z118)","v":""},{"$f":"ClashCount('Other league dates'!L$6:L$31,$A118:$Z118)","v":""}]
["  o","  x","  o","  x--","--x","  o","  x","  o--","--o","  x--","--x","  o--","--o","  x--","--x","  o--","--o","  x--","--x","  o--","--o","  x--","--x","  o","  x","  o","K",null,{"$f":"ClashCount('Other league dates'!J$6:J$31,$A119:$Z119)","v":""},{"$f":"ClashCount('Other league dates'!K$6:K$31,$A119:$Z119)","v":""},{"$f":"ClashCount('Other league dates'!L$6:L$31,$A119:$Z119)","v":""}]
["  x","  o","  x","  o--","--o","  x","  o","  x--","--x","  o--","--o","  x--","--x","  o--","--o","  x--","--x","  o--","--o","  x--","--x","  o--","--o","  x","  o","  x","L",null,{"$f":"ClashCount('Other league dates'!J$6:J$31,$A120:$Z120)","v":""},{"$f":"ClashCount('Other league dates'!K$6:K$31,$A120:$Z120)","v":""},{"$f":"ClashCount('Other league dates'!L$6:L$31,$A120:$Z120)","v":""}]
["  o","  x--","--x","  o--","--o","  x--","--x","  o--","--o","  x--","--x","  o--","--o","  x--","--x","  o--","--o","  x--","--x","  o--","--o","  x--","--x","  o","  x","  o","M",null,{"$f":"ClashCount('Other league dates'!J$6:J$31,$A121:$Z121)","v":""},{"$f":"ClashCount('Other league dates'!K$6:K$31,$A121:$Z121)","v":""},{"$f":"ClashCount('Other league dates'!L$6:L$31,$A121:$Z121)","v":""}]
["  x","  o--","--o","  x--","--x","  o--","--o","  x--","--x","  o--","--o","  x--","--x","  o--","--o","  x--","--x","  o--","--o","  x--","--x","  o--","--o","  x","  o","  x","N",null,{"$f":"ClashCount('Other league dates'!J$6:J$31,$A122:$Z122)","v":""},{"$f":"ClashCount('Other league dates'!K$6:K$31,$A122:$Z122)","v":""},{"$f":"ClashCount('Other league dates'!L$6:L$31,$A122:$Z122)","v":""}]
[]
["Fit:"]
[]
["16Special"]
[]
["OB","BM","KB","BI","GB","BE","CB","BA","PB","BN","LB","BJ","HB","BF","DB","BD","BO","EB","BC","AB","BP","NB","BL","JB","BH","FB","MB","BK","IB","BG"]
["MF","DO","MO","OK","IO","OG","EO","OC","AO","OP","NO","OL","JO","OH","FO","OF","FM","GO","OE","CO","OA","PO","ON","LO","OJ","HO","OD","OM","KO","OI"]
["KH","FK","IF","DM","KM","MI","GM","ME","CM","MA","PM","MN","LM","MJ","HM","MH","HK","IM","MG","EM","MC","AM","MP","NM","ML","JM","KF","FI","MD","MK"]
["IJ","HI","GH","FG","EF","DK","IK","KG","EK","KC","AK","KP","NK","KL","JK","KJ","JI","KD","KI","GK","KE","CK","KA","PK","KN","LK","IH","HG","GF","FE"]
["GL","JG","EJ","HE","CH","FC","AF","DI","GI","IE","CI","IA","PI","IN","LI","IL","LG","CF","FA","ID","IG","EI","IC","AI","IP","NI","GJ","JE","EH","HC"]
["EN","LE","CL","JC","AJ","HA","PH","FP","NF","DG","EG","GC","AG","GP","NG","GN","NE","AH","HP","PF","FN","GD","GE","CG","GA","PG","EL","LC","CJ","JA"]
["CP","NC","AN","LA","PL","JP","NJ","HN","LH","FL","JF","DE","CE","EA","PE","EP","PC","PJ","JN","NH","HL","LF","FJ","ED","EC","AE","CN","NA","AL","LP"]
["AD","PA","PD","NP","ND","LN","LD","JL","JD","HJ","HD","FH","FD","DC","AC","CA","DA","NL","DL","LJ","DJ","JH","DH","HF","DF","CD","AP","DP","PN","DN"]
[1,2,3,4,5,6,7,8,9,10,11,12,13,14,15,16,17,18,19,20,21,22,23,24,25,26,27,28,29,30]
["RFx",null,null,null,null,null,null,null,null,null,null,null,null,null,null,15,1,6,7,8,9,10,11,12,13,14,2,3,4,5]
["  o","  x","  o","  x","  o","  x","  o","  x","  o","  x","  o","  x","  o","  x","  o","  x--","--x","  o","  x","  o","  x","  o","  x","  o","  x","  o--","--o","  x","  o","  x","A",null,{"$f":"ClashCount('Other league dates'!J$4:J$33,$A138:$AD138)","v":""},{"$f":"ClashCount('Other league dates'!K$4:K$33,$A138:$AD138)","v":""},{"$f":"ClashCount('Other league dates'!L$4:L$33,$A138:$AD138)","v":""}]
["  x","  o","  x","  o","  x","  o","  x","  o","  x","  o","  x","  o","  x","  o","  x","  o--","--o","  x","  o","  x","  o","  x","  o","  x","  o","  x--","--x","  o","  x","  o","B",null,{"$f":"ClashCount('Other league dates'!J$4:J$33,$A139:$AD139)","v":""},{"$f":"ClashCount('Other league dates'!K$4:K$33,$A139:$AD139)","v":""},{"$f":"ClashCount('Other league dates'!L$4:L$33,$A139:$AD139)","v":""}]
["  o","  x","  o","  x","  o","  x","  o","  x","  o","  x","  o","  x","  o","  x--","--x","  o","  x","  o","  x","  o","  x","  o","  x","  o","  x","  o--","--o","  x","  o","  x","C",null,{"$f":"ClashCount('Other league dates'!J$4:J$33,$A140:$AD140)","v":""},{"$f":"ClashCount('Other league dates'!K$4:K$33,$A140:$AD140)","v":""},{"$f":"ClashCount('Other league dates'!L$4:L$33,$A140:$AD140)","v":""}]
["  x","  o","  x","  o","  x","  o","  x","  o","  x","  o","  x","  o","  x","  o--","--o","  x","  o","  x","  o","  x","  o","  x","  o","  x","  o","  x--","--x","  o","  x","  o","D",null,{"$f":"ClashCount('Other league dates'!J$4:J$33,$A141:$AD141)","v":""},{"$f":"ClashCount('Other league dates'!K$4:K$33,$A141:$AD141)","v":""},{"$f":"ClashCount('Other league dates'!L$4:L$33,$A141:$AD141)","v":""}]
["  o","  x","  o","  x","  o","  x","  o","  x","  o","  x","  o","  x--","--x","  o","  x","  o","  x","  o","  x","  o","  x","  o","  x","  o--","--o","  x","  o","  x","  o","  x","E",null,{"$f":"ClashCount('Other league dates'!J$4:J$33,$A142:$AD142)","v":""},{"$f":"ClashCount('Other league dates'!K$4:K$33,$A142:$AD142)","v":""},{"$f":"ClashCount('Other league dates'!L$4:L$33,$A142:$AD142)","v":""}]
["  x","  o","  x","  o","  x","  o","  x","  o","  x","  o","  x","  o--","--o","  x","  o","  x","  o","  x","  o","  x","  o","  x","  o","  x--","--x","  o","  x","  o","  x","  o","F",null,{"$f":"ClashCount('Other league dates'!J$4:J$33,$A143:$AD143)","v":""},{"$f":"ClashCount('Other league dates'!K$4:K$33,$A143:$AD143)","v":""},{"$f":"ClashCount('Other league dates'!L$4:L$33,$A143:$AD143)","v":""}]
["  o","  x","  o","  x","  o","  x","  o","  x","  o","  x--","--x","  o","  x","  o","  x","  o","  x","  o","  x","  o","  x","  o--","--o","  x","  o","  x","  o","  x","  o","  x","G",null,{"$f":"ClashCount('Other league dates'!J$4:J$33,$A144:$AD144)","v":""},{"$f":"ClashCount('Other league dates'!K$4:K$33,$A144:$AD144)","v":""},{"$f":"ClashCount('Other league dates'!L$4:L$33,$A144:$AD144)","v":""}]
["  x","  o","  x","  o","  x","  o","  x","  o","  x","  o--","--o","  x","  o","  x","  o","  x","  o","  x","  o","  x","  o","  x--","--x","  o","  x","  o","  x","  o","  x","  o","H",null,{"$f":"ClashCount('Other league dates'!J$4:J$33,$A145:$AD145)","v":""},{"$f":"ClashCount('Other league dates'!K$4:K$33,$A145:$AD145)","v":""},{"$f":"ClashCount('Other league dates'!L$4:L$33,$A145:$AD145)","v":""}]
["  o","  x","  o","  x","  o","  x","  o","  x--","--x","  o","  x","  o","  x","  o","  x","  o","  x","  o","  x","  o--","--o","  x","  o","  x","  o","  x","  o","  x","  o","  x","I",null,{"$f":"ClashCount('Other league dates'!J$4:J$33,$A146:$AD146)","v":""},{"$f":"ClashCount('Other league dates'!K$4:K$33,$A146:$AD146)","v":""},{"$f":"ClashCount('Other league dates'!L$4:L$33,$A146:$AD146)","v":""}]
["  x","  o","  x","  o","  x","  o","  x","  o--","--o","  x","  o","  x","  o","  x","  o","  x","  o","  x","  o","  x--","--x","  o","  x","  o","  x","  o","  x","  o","  x","  o","J",null,{"$f":"ClashCount('Other league dates'!J$4:J$33,$A147:$AD147)","v":""},{"$f":"ClashCount('Other league dates'!K$4:K$33,$A147:$AD147)","v":""},{"$f":"ClashCount('Other league dates'!L$4:L$33,$A147:$AD147)","v":""}]
["  o","  x","  o","  x","  o","  x--","--x","  o","  x","  o","  x","  o","  x","  o","  x","  o","  x","  o--","--o","  x","  o","  x","  o","  x","  o","  x","  o","  x","  o","  x","K",null,{"$f":"ClashCount('Other league dates'!J$4:J$33,$A148:$AD148)","v":""},{"$f":"ClashCount('Other league dates'!K$4:K$33,$A148:$AD148)","v":""},{"$f":"ClashCount('Other league dates'!L$4:L$33,$A148:$AD148)","v":""}]
["  x","  o","  x","  o","  x","  o--","--o","  x","  o","  x","  o","  x","  o","  x","  o","  x","  o","  x--","--x","  o","  x","  o","  x","  o","  x","  o","  x","  o","  x","  o","L",null,{"$f":"ClashCount('Other league dates'!J$4:J$33,$A149:$AD149)","v":""},{"$f":"ClashCount('Other league dates'!K$4:K$33,$A149:$AD149)","v":""},{"$f":"ClashCount('Other league dates'!L$4:L$33,$A149:$AD149)","v":""}]
["  o","  x","  o","  x--","--x","  o","  x","  o","  x","  o","  x","  o","  x","  o","  x","  o","  x--","--x","  o","  x","  o","  x","  o","  x","  o","  x","  o","  x","  o--","--o","M",null,{"$f":"ClashCount('Other league dates'!J$4:J$33,$A150:$AD150)","v":""},{"$f":"ClashCount('Other league dates'!K$4:K$33,$A150:$AD150)","v":""},{"$f":"ClashCount('Other league dates'!L$4:L$33,$A150:$AD150)","v":""}]
["  x","  o","  x","  o--","--o","  x","  o","  x","  o","  x","  o","  x","  o","  x","  o","  x","  o--","--o","  x","  o","  x","  o","  x","  o","  x","  o","  x","  o","  x--","--x","N",null,{"$f":"ClashCount('Other league dates'!J$4:J$33,$A151:$AD151)","v":""},{"$f":"ClashCount('Other league dates'!K$4:K$33,$A151:$AD151)","v":""},{"$f":"ClashCount('Other league dates'!L$4:L$33,$A151:$AD151)","v":""}]
["  o","  x--","--x","  o","  x","  o","  x","  o","  x","  o","  x","  o","  x","  o","  x","  o","  x--","--x","  o","  x","  o","  x","  o","  x","  o","  x","  o--","--o","  x","  o","O",null,{"$f":"ClashCount('Other league dates'!J$4:J$33,$A152:$AD152)","v":""},{"$f":"ClashCount('Other league dates'!K$4:K$33,$A152:$AD152)","v":""},{"$f":"ClashCount('Other league dates'!L$4:L$33,$A152:$AD152)","v":""}]
["  x","  o--","--o","  x","  o","  x","  o","  x","  o","  x","  o","  x","  o","  x","  o","  x","  o--","--o","  x","  o","  x","  o","  x","  o","  x","  o","  x--","--x","  o","  x","P",null,{"$f":"ClashCount('Other league dates'!J$4:J$33,$A153:$AD153)","v":""},{"$f":"ClashCount('Other league dates'!K$4:K$33,$A153:$AD153)","v":""},{"$f":"ClashCount('Other league dates'!L$4:L$33,$A153:$AD153)","v":""}]
[]
["Fit:"]
[]
["18Special"]
[]
["QB","BR","OB","BP","MB","BN","KB","BL","IB","BJ","GB","BH","EB","BF","CB","BD","AB","BA","DB","BC","FB","BE","HB","BG","JB","BI","LB","BK","NB","BM","PB","BO","RB","BQ"]
["OD","PA","MQ","NR","KO","LP","IM","JN","GK","HL","EI","FJ","CG","DH","AE","QF","RC","CR","FQ","EA","HD","GC","JF","IE","LH","KG","NJ","MI","PL","OK","RN","QM","AP","DO"]
["MF","NC","KD","LA","IQ","JR","GO","HP","EM","FN","CK","DL","AI","QJ","RG","OH","PE","EP","HO","GR","JQ","IA","LD","KC","NF","ME","PH","OG","RJ","QI","AL","DK","CN","FM"]
["KH","LE","IF","JC","GD","HA","EQ","FR","CO","DP","AM","QN","RK","OL","PI","MJ","NG","GN","JM","IP","LO","KR","NQ","MA","PD","OC","RF","QE","AH","DG","CJ","FI","EL","HK"]
["IJ","JG","GH","HE","EF","FC","CD","DA","AQ","QR","RO","OP","PM","MN","NK","KL","LI","IL","LK","KN","NM","MP","PO","OR","RQ","QA","AD","DC","CF","FE","EH","HG","GJ","JI"]
["GL","HI","EJ","FG","CH","DE","AF","QC","RD","OA","PQ","MR","NO","KP","LM","IN","JK","KJ","NI","ML","PK","ON","RM","QP","AO","DR","CQ","FA","ED","HC","GF","JE","IH","LG"]
["EN","FK","CL","DI","AJ","QG","RH","OE","PF","MC","ND","KA","LQ","IR","JO","GP","HM","MH","PG","OJ","RI","QL","AK","DN","CM","FP","EO","HR","GQ","JA","ID","LC","KF","NE"]
["CP","DM","AN","QK","RL","OI","PJ","MG","NH","KE","LF","IC","JD","GA","HQ","ER","FO","OF","RE","QH","AG","DJ","CI","FL","EK","HN","GM","JP","IO","LR","KQ","NA","MD","PC"]
["AR","QO","RP","OM","PN","MK","NL","KI","LJ","IG","JH","GE","HF","EC","FD","CA","DQ","QD","AC","DF","CE","FH","EG","HJ","GI","JL","IK","LN","KM","NP","MO","PR","OQ","RA"]
[1,2,3,4,5,6,7,8,9,10,11,12,13,14,15,16,17,18,19,20,21,22,23,24,25,26,27,28,29,30,31,32,33,34]
["RFx",null,null,null,null,null,null,null,null,null,null,null,null,null,null,null,null,17,16,15,14,13,12,11,10,9,8,7,6,5,4,3,2,1]
["  o","  x","  o","  x","  o","  x","  o","  x","  o","  x","  o","  x","  o","  x","  o","  x","  o","  x","  o","  x","  o","  x","  o","  x","  o","  x","  o","  x","  o","  x","  o","  x","  o","  x","A",null,{"$f":"ClashCount('Other league dates'!J$2:J$35,$A170:$AH170)","v":""},{"$f":"ClashCount('Other league dates'!K$2:K$35,$A170:$AH170)","v":""},{"$f":"ClashCount('Other league dates'!L$2:L$35,$A170:$AH170)","v":""}]
["  x","  o","  x","  o","  x","  o","  x","  o","  x","  o","  x","  o","  x","  o","  x","  o","  x","  o","  x","  o","  x","  o","  x","  o","  x","  o","  x","  o","  x","  o","  x","  o","  x","  o","B",null,{"$f":"ClashCount('Other league dates'!J$2:J$35,$A171:$AH171)","v":""},{"$f":"ClashCount('Other league dates'!K$2:K$35,$A171:$AH171)","v":""},{"$f":"ClashCount('Other league dates'!L$2:L$35,$A171:$AH171)","v":""}]
["  o","  x","  o","  x","  o","  x","  o","  x","  o","  x","  o","  x","  o","  x","  o--","--o","  x","  o","  x--","--x","  o","  x","  o","  x","  o","  x","  o","  x","  o","  x","  o","  x","  o","  x","C",null,{"$f":"ClashCount('Other league dates'!J$2:J$35,$A172:$AH172)","v":""},{"$f":"ClashCount('Other league dates'!K$2:K$35,$A172:$AH172)","v":""},{"$f":"ClashCount('Other league dates'!L$2:L$35,$A172:$AH172)","v":""}]
["  x","  o","  x","  o","  x","  o","  x","  o","  x","  o","  x","  o","  x","  o","  x--","--x","  o","  x","  o--","--o","  x","  o","  x","  o","  x","  o","  x","  o","  x","  o","  x","  o","  x","  o","D",null,{"$f":"ClashCount('Other league dates'!J$2:J$35,$A173:$AH173)","v":""},{"$f":"ClashCount('Other league dates'!K$2:K$35,$A173:$AH173)","v":""},{"$f":"ClashCount('Other league dates'!L$2:L$35,$A173:$AH173)","v":""}]
["  o","  x","  o","  x","  o","  x","  o","  x","  o","  x","  o","  x","  o--","--o","  x","  o","  x","  o","  x","  o","  x--","--x","  o","  x","  o","  x","  o","  x","  o","  x","  o","  x","  o","  x","E",null,{"$f":"ClashCount('Other league dates'!J$2:J$35,$A174:$AH174)","v":""},{"$f":"ClashCount('Other league dates'!K$2:K$35,$A174:$AH174)","v":""},{"$f":"ClashCount('Other league dates'!L$2:L$35,$A174:$AH174)","v":""}]
["  x","  o","  x","  o","  x","  o","  x","  o","  x","  o","  x","  o","  x--","--x","  o","  x","  o","  x","  o","  x","  o--","--o","  x","  o","  x","  o","  x","  o","  x","  o","  x","  o","  x","  o","F",null,{"$f":"ClashCount('Other league dates'!J$2:J$35,$A175:$AH175)","v":""},{"$f":"ClashCount('Other league dates'!K$2:K$35,$A175:$AH175)","v":""},{"$f":"ClashCount('Other league dates'!L$2:L$35,$A175:$AH175)","v":""}]
["  o","  x","  o","  x","  o","  x","  o","  x","  o","  x","  o--","--o","  x","  o","  x","  o","  x","  o","  x","  o","  x","  o","  x--","--x","  o","  x","  o","  x","  o","  x","  o","  x","  o","  x","G",null,{"$f":"ClashCount('Other league dates'!J$2:J$35,$A176:$AH176)","v":""},{"$f":"ClashCount('Other league dates'!K$2:K$35,$A176:$AH176)","v":""},{"$f":"ClashCount('Other league dates'!L$2:L$35,$A176:$AH176)","v":""}]
["  x","  o","  x","  o","  x","  o","  x","  o","  x","  o","  x--","--x","  o","  x","  o","  x","  o","  x","  o","  x","  o","  x","  o--","--o","  x","  o","  x","  o","  x","  o","  x","  o","  x","  o","H",null,{"$f":"ClashCount('Other league dates'!J$2:J$35,$A177:$AH177)","v":""},{"$f":"ClashCount('Other league dates'!K$2:K$35,$A177:$AH177)","v":""},{"$f":"ClashCount('Other league dates'!L$2:L$35,$A177:$AH177)","v":""}]
["  o","  x","  o","  x","  o","  x","  o","  x","  o--","--o","  x","  o","  x","  o","  x","  o","  x","  o","  x","  o","  x","  o","  x","  o","  x--","--x","  o","  x","  o","  x","  o","  x","  o","  x","I",null,{"$f":"ClashCount('Other league dates'!J$2:J$35,$A178:$AH178)","v":""},{"$f":"ClashCount('Other league dates'!K$2:K$35,$A178:$AH178)","v":""},{"$f":"ClashCount('Other league dates'!L$2:L$35,$A178:$AH178)","v":""}]
["  x","  o","  x","  o","  x","  o","  x","  o","  x--","--x","  o","  x","  o","  x","  o","  x","  o","  x","  o","  x","  o","  x","  o","  x","  o--","--o","  x","  o","  x","  o","  x","  o","  x","  o","J",null,{"$f":"ClashCount('Other league dates'!J$2:J$35,$A179:$AH179)","v":""},{"$f":"ClashCount('Other league dates'!K$2:K$35,$A179:$AH179)","v":""},{"$f":"ClashCount('Other league dates'!L$2:L$35,$A179:$AH179)","v":""}]
["  o","  x","  o","  x","  o","  x","  o--","--o","  x","  o","  x","  o","  x","  o","  x","  o","  x","  o","  x","  o","  x","  o","  x","  o","  x","  o","  x--","--x","  o","  x","  o","  x","  o","  x","K",null,{"$f":"ClashCount('Other league dates'!J$2:J$35,$A180:$AH180)","v":""},{"$f":"ClashCount('Other league dates'!K$2:K$35,$A180:$AH180)","v":""},{"$f":"ClashCount('Other league dates'!L$2:L$35,$A180:$AH180)","v":""}]
["  x","  o","  x","  o","  x","  o","  x--","--x","  o","  x","  o","  x","  o","  x","  o","  x","  o","  x","  o","  x","  o","  x","  o","  x","  o","  x","  o--","--o","  x","  o","  x","  o","  x","  o","L",null,{"$f":"ClashCount('Other league dates'!J$2:J$35,$A181:$AH181)","v":""},{"$f":"ClashCount('Other league dates'!K$2:K$35,$A181:$AH181)","v":""},{"$f":"ClashCount('Other league dates'!L$2:L$35,$A181:$AH181)","v":""}]
["  o","  x","  o","  x","  o--","--o","  x","  o","  x","  o","  x","  o","  x","  o","  x","  o","  x","  o","  x","  o","  x","  o","  x","  o","  x","  o","  x","  o","  x--","--x","  o","  x","  o","  x","M",null,{"$f":"ClashCount('Other league dates'!J$2:J$35,$A182:$AH182)","v":""},{"$f":"ClashCount('Other league dates'!K$2:K$35,$A182:$AH182)","v":""},{"$f":"ClashCount('Other league dates'!L$2:L$35,$A182:$AH182)","v":""}]
["  x","  o","  x","  o","  x--","--x","  o","  x","  o","  x","  o","  x","  o","  x","  o","  x","  o","  x","  o","  x","  o","  x","  o","  x","  o","  x","  o","  x","  o--","--o","  x","  o","  x","  o","N",null,{"$f":"ClashCount('Other league dates'!J$2:J$35,$A183:$AH183)","v":""},{"$f":"ClashCount('Other league dates'!K$2:K$35,$A183:$AH183)","v":""},{"$f":"ClashCount('Other league dates'!L$2:L$35,$A183:$AH183)","v":""}]
["  o","  x","  o--","--o","  x","  o","  x","  o","  x","  o","  x","  o","  x","  o","  x","  o","  x","  o","  x","  o","  x","  o","  x","  o","  x","  o","  x","  o","  x","  o","  x--","--x","  o","  x","O",null,{"$f":"ClashCount('Other league dates'!J$2:J$35,$A184:$AH184)","v":""},{"$f":"ClashCount('Other league dates'!K$2:K$35,$A184:$AH184)","v":""},{"$f":"ClashCount('Other league dates'!L$2:L$35,$A184:$AH184)","v":""}]
["  x","  o","  x--","--x","  o","  x","  o","  x","  o","  x","  o","  x","  o","  x","  o","  x","  o","  x","  o","  x","  o","  x","  o","  x","  o","  x","  o","  x","  o","  x","  o--","--o","  x","  o","P",null,{"$f":"ClashCount('Other league dates'!J$2:J$35,$A185:$AH185)","v":""},{"$f":"ClashCount('Other league dates'!K$2:K$35,$A185:$AH185)","v":""},{"$f":"ClashCount('Other league dates'!L$2:L$35,$A185:$AH185)","v":""}]
["  o--","--o","  x","  o","  x","  o","  x","  o","  x","  o","  x","  o","  x","  o","  x","  o","  x","  o","  x","  o","  x","  o","  x","  o","  x","  o","  x","  o","  x","  o","  x","  o","  x--","--x","Q",null,{"$f":"ClashCount('Other league dates'!J$2:J$35,$A186:$AH186)","v":""},{"$f":"ClashCount('Other league dates'!K$2:K$35,$A186:$AH186)","v":""},{"$f":"ClashCount('Other league dates'!L$2:L$35,$A186:$AH186)","v":""}]
["  x--","--x","  o","  x","  o","  x","  o","  x","  o","  x","  o","  x","  o","  x","  o","  x","  o","  x","  o","  x","  o","  x","  o","  x","  o","  x","  o","  x","  o","  x","  o","  x","  o--","--o","R",null,{"$f":"ClashCount('Other league dates'!J$2:J$35,$A187:$AH187)","v":""},{"$f":"ClashCount('Other league dates'!K$2:K$35,$A187:$AH187)","v":""},{"$f":"ClashCount('Other league dates'!L$2:L$35,$A187:$AH187)","v":""}]
[]
["Fit:","04Berger",null,"06Berger",null,"08Berger",null,"10Berger",null,"12Berger",null,"14Berger",null,"16Berger",null,"18Berger",null,"04Special",null,"06Special",null,"08Special"]

{"sheet":"Other league dates","index":4,"n_rows":35,"n_cols":12,"rows_kept":35,"cut":false,"hidden":false,"merged":[]}
[4,6,8,10,12,14,16,18,"Week no","Team 1","Team 2","Team 3"]
[null,null,null,null,null,null,null,{"$f":"INDEX(Dates18,ROW()-1,1)","v":"1900-01-01"},1]
[null,null,null,null,null,null,null,"1900-01-01",2]
[null,null,null,null,null,null,{"$f":"INDEX(Dates16,ROW()-3,1)","v":"1900-01-01"},"1900-01-01",3]
[null,null,null,null,null,null,"1900-01-01","1900-01-01",4]
[null,null,null,null,null,{"$f":"INDEX(Dates14,ROW()-5,1)","v":"1900-01-01"},"1900-01-01","1900-01-01",5]
[null,null,null,null,null,"1900-01-01","1900-01-01","1900-01-01",6]
[null,null,null,null,{"$f":"INDEX(Dates12,ROW()-7,1)","v":"1900-01-01"},"1900-01-01","1900-01-01","1900-01-01",7]
[null,null,null,null,"1900-01-01","1900-01-01","1900-01-01","1900-01-01",8]
[null,null,null,{"$f":"INDEX(Dates10,ROW()-9,1)","v":"1900-01-01"},"1900-01-01","1900-01-01","1900-01-01","1900-01-01",9]
[null,null,null,"1900-01-01","1900-01-01","1900-01-01","1900-01-01","1900-01-01",10]
[null,null,{"$f":"INDEX(Dates08,ROW()-11,1)","v":"1900-01-01"},"1900-01-01","1900-01-01","1900-01-01","1900-01-01","1900-01-01",11]
[null,null,"1900-01-01","1900-01-01","1900-01-01","1900-01-01","1900-01-01","1900-01-01",12]
[null,{"$f":"INDEX(Dates06,ROW()-13,1)","v":"1900-01-01"},"1900-01-01","1900-01-01","1900-01-01","1900-01-01","1900-01-01","1900-01-01",13]
[null,"1900-01-01","1900-01-01","1900-01-01","1900-01-01","1900-01-01","1900-01-01","1900-01-01",14]
[{"$f":"INDEX(Dates04,ROW()-15,1)","v":"1900-01-01"},"1900-01-01","1900-01-01","1900-01-01","1900-01-01","1900-01-01","1900-01-01","1900-01-01",15]
["1900-01-01","1900-01-01","1900-01-01","1900-01-01","1900-01-01","1900-01-01","1900-01-01","1900-01-01",16]
["1900-01-01","1900-01-01","1900-01-01","1900-01-01","1900-01-01","1900-01-01","1900-01-01","1900-01-01",17]
["1900-01-01","1900-01-01","1900-01-01","1900-01-01","1900-01-01","1900-01-01","1900-01-01","1900-01-01",18]
["1900-01-01","1900-01-01","1900-01-01","1900-01-01","1900-01-01","1900-01-01","1900-01-01","1900-01-01",19]
["1900-01-01","1900-01-01","1900-01-01","1900-01-01","1900-01-01","1900-01-01","1900-01-01","1900-01-01",20]
[null,"1900-01-01","1900-01-01","1900-01-01","1900-01-01","1900-01-01","1900-01-01","1900-01-01",21]
[null,"1900-01-01","1900-01-01","1900-01-01","1900-01-01","1900-01-01","1900-01-01","1900-01-01",22]
[null,null,"1900-01-01","1900-01-01","1900-01-01","1900-01-01","1900-01-01","1900-01-01",23]
[null,null,"1900-01-01","1900-01-01","1900-01-01","1900-01-01","1900-01-01","1900-01-01",24]
[null,null,null,"1900-01-01","1900-01-01","1900-01-01","1900-01-01","1900-01-01",25]
[null,null,null,"1900-01-01","1900-01-01","1900-01-01","1900-01-01","1900-01-01",26]
[null,null,null,null,"1900-01-01","1900-01-01","1900-01-01","1900-01-01",27]
[null,null,null,null,"1900-01-01","1900-01-01","1900-01-01","1900-01-01",28]
[null,null,null,null,null,"1900-01-01","1900-01-01","1900-01-01",29]
[null,null,null,null,null,"1900-01-01","1900-01-01","1900-01-01",30]
[null,null,null,null,null,null,"1900-01-01","1900-01-01",31]
[null,null,null,null,null,null,"1900-01-01","1900-01-01",32]
[null,null,null,null,null,null,null,"1900-01-01",33]
[null,null,null,null,null,null,null,"1900-01-01",34]

{"sheet":"Notes","index":5,"n_rows":6,"n_cols":2,"rows_kept":6,"cut":false,"hidden":false,"merged":[]}
[]
[null,"General notes. These will be stored in the settings file."]
[]
[]
[]
[null,"Use Alt-Enter to type a line-feed"]